BEGIN:VCALENDAR
VERSION:2.0
PRODID:-//Dolnośląski Związek Kolarski - ECPv6.15.20//NONSGML v1.0//EN
CALSCALE:GREGORIAN
METHOD:PUBLISH
X-ORIGINAL-URL:https://dzkol.pl
X-WR-CALDESC:Wydarzenia dla Dolnośląski Związek Kolarski
REFRESH-INTERVAL;VALUE=DURATION:PT1H
X-Robots-Tag:noindex
X-PUBLISHED-TTL:PT1H
BEGIN:VTIMEZONE
TZID:Europe/Warsaw
BEGIN:DAYLIGHT
TZOFFSETFROM:+0100
TZOFFSETTO:+0200
TZNAME:CEST
DTSTART:20160327T010000
END:DAYLIGHT
BEGIN:STANDARD
TZOFFSETFROM:+0200
TZOFFSETTO:+0100
TZNAME:CET
DTSTART:20161030T010000
END:STANDARD
BEGIN:DAYLIGHT
TZOFFSETFROM:+0100
TZOFFSETTO:+0200
TZNAME:CEST
DTSTART:20170326T010000
END:DAYLIGHT
BEGIN:STANDARD
TZOFFSETFROM:+0200
TZOFFSETTO:+0100
TZNAME:CET
DTSTART:20171029T010000
END:STANDARD
BEGIN:DAYLIGHT
TZOFFSETFROM:+0100
TZOFFSETTO:+0200
TZNAME:CEST
DTSTART:20180325T010000
END:DAYLIGHT
BEGIN:STANDARD
TZOFFSETFROM:+0200
TZOFFSETTO:+0100
TZNAME:CET
DTSTART:20181028T010000
END:STANDARD
END:VTIMEZONE
BEGIN:VEVENT
DTSTART;VALUE=DATE:20170929
DTEND;VALUE=DATE:20171002
DTSTAMP:20260426T055934
CREATED:20170222T174515Z
LAST-MODIFIED:20170222T174515Z
UID:483-1506643200-1506902399@dzkol.pl
SUMMARY:Mistrzostwa Polski Dwójek i Drużyn
DESCRIPTION:
URL:https://dzkol.pl/kalendarz/mistrzostwa-polski-dwojek-i-druzyn/
LOCATION:Godziesze Wielkie\, Godziesze Wielkie\, Polska
CATEGORIES:Mistrzostwa Polski,szosa
ORGANIZER;CN="Kaliskie Towarzystwo Kolarskie":MAILTO:ktk.kalisz.pl
END:VEVENT
BEGIN:VEVENT
DTSTART;VALUE=DATE:20170930
DTEND;VALUE=DATE:20171001
DTSTAMP:20260426T055934
CREATED:20170222T163741Z
LAST-MODIFIED:20170531T115716Z
UID:338-1506729600-1506815999@dzkol.pl
SUMMARY:MMM Międzywojewódzkie Mistrzostwa Młodzików MTB XCO: Dolnośląskie\, Lubuskie\, Opolskie i Wielkopolskie - Głuchołazy
DESCRIPTION:
URL:https://dzkol.pl/kalendarz/mmm-miedzywojewodzkie-mistrzostwa-mlodzikow-mtb-xco-dolnoslaskie-lubuskie-opolskie-i-wielkopolskie/
LOCATION:Głuchołazy\, Głuchołazy\, opolskie\, Polska
CATEGORIES:Międzywojewódzki Mistrzostwa Młodzików,MTB XC
END:VEVENT
BEGIN:VEVENT
DTSTART;VALUE=DATE:20170930
DTEND;VALUE=DATE:20171001
DTSTAMP:20260426T055934
CREATED:20170222T164040Z
LAST-MODIFIED:20170222T164046Z
UID:349-1506729600-1506815999@dzkol.pl
SUMMARY:Cykl Czasówek Karkonoskich: FINAŁ V Czasówka Gorzanowicka Górska
DESCRIPTION:
URL:https://dzkol.pl/kalendarz/cykl-czasowek-karkonoskich-final-v-czasowka-gorzanowicka-gorska/
LOCATION:Pogwizdów – Gorzanowice\, Pogwizdów\, dolnośląskie\, Polska
CATEGORIES:szosa
ORGANIZER;CN="Karkonoskie Stowarzyszenie Cyklist%C3%B3w":MAILTO:wiesio_k@op.pl
END:VEVENT
BEGIN:VEVENT
DTSTART;VALUE=DATE:20170930
DTEND;VALUE=DATE:20171001
DTSTAMP:20260426T055934
CREATED:20170222T174420Z
LAST-MODIFIED:20170222T174420Z
UID:479-1506729600-1506815999@dzkol.pl
SUMMARY:VI Ogólopolski wyścig CykloOpawy XC Głuchołazy FINAŁ Puchar Polski MTB XCO
DESCRIPTION:
URL:https://dzkol.pl/kalendarz/vi-ogolopolski-wyscig-cykloopawy-xc-glucholazy-final-puchar-polski-mtb-xco/
LOCATION:Głuchołazy\, Głuchołazy\, opolskie\, Polska
CATEGORIES:MTB XC,Puchar Polski MTB
ORGANIZER;CN="Klub Turystyki Kolarskiej KTUKOL G%C5%82ucho%C5%82azy":MAILTO:tomred2@wp.pl
END:VEVENT
END:VCALENDAR