BEGIN:VCALENDAR
VERSION:2.0
PRODID:-//Dolnośląski Związek Kolarski - ECPv6.15.20//NONSGML v1.0//EN
CALSCALE:GREGORIAN
METHOD:PUBLISH
X-WR-CALNAME:Dolnośląski Związek Kolarski
X-ORIGINAL-URL:https://dzkol.pl
X-WR-CALDESC:Wydarzenia dla Dolnośląski Związek Kolarski
REFRESH-INTERVAL;VALUE=DURATION:PT1H
X-Robots-Tag:noindex
X-PUBLISHED-TTL:PT1H
BEGIN:VTIMEZONE
TZID:Europe/Warsaw
BEGIN:DAYLIGHT
TZOFFSETFROM:+0100
TZOFFSETTO:+0200
TZNAME:CEST
DTSTART:20160327T010000
END:DAYLIGHT
BEGIN:STANDARD
TZOFFSETFROM:+0200
TZOFFSETTO:+0100
TZNAME:CET
DTSTART:20161030T010000
END:STANDARD
BEGIN:DAYLIGHT
TZOFFSETFROM:+0100
TZOFFSETTO:+0200
TZNAME:CEST
DTSTART:20170326T010000
END:DAYLIGHT
BEGIN:STANDARD
TZOFFSETFROM:+0200
TZOFFSETTO:+0100
TZNAME:CET
DTSTART:20171029T010000
END:STANDARD
BEGIN:DAYLIGHT
TZOFFSETFROM:+0100
TZOFFSETTO:+0200
TZNAME:CEST
DTSTART:20180325T010000
END:DAYLIGHT
BEGIN:STANDARD
TZOFFSETFROM:+0200
TZOFFSETTO:+0100
TZNAME:CET
DTSTART:20181028T010000
END:STANDARD
END:VTIMEZONE
BEGIN:VEVENT
DTSTART;VALUE=DATE:20171007
DTEND;VALUE=DATE:20171008
DTSTAMP:20260426T055704
CREATED:20170222T164237Z
LAST-MODIFIED:20170222T164237Z
UID:356-1507334400-1507420799@dzkol.pl
SUMMARY:Bike Maraton #12 Świeradów Zdroj
DESCRIPTION:
URL:https://dzkol.pl/kalendarz/bike-maraton-12-swieradow-zdroj/
LOCATION:Świeradów Zdroj\, Świeradów Zdroj\, Polska
CATEGORIES:maraton MTB
ORGANIZER;CN="Grabek Promotion":MAILTO:biuro@bikemaraton.com.pl
END:VEVENT
BEGIN:VEVENT
DTSTART;VALUE=DATE:20171007
DTEND;VALUE=DATE:20171008
DTSTAMP:20260426T055704
CREATED:20170222T164331Z
LAST-MODIFIED:20170222T164331Z
UID:359-1507334400-1507420799@dzkol.pl
SUMMARY:XVIII Szkolne Mistrzostwa Dolnego Śląska MTB
DESCRIPTION:
URL:https://dzkol.pl/kalendarz/xviii-szkolne-mistrzostwa-dolnego-slaska-mtb/
LOCATION:Chojnów\, Chojnów\, dolnośląskie\, Polska
CATEGORIES:MTB XC
ORGANIZER;CN="UKKS Oriens Chojn%C3%B3w":MAILTO:oriens-chojnow@wp.pl
END:VEVENT
END:VCALENDAR