BEGIN:VCALENDAR
VERSION:2.0
PRODID:-//Dolnośląski Związek Kolarski - ECPv6.15.20//NONSGML v1.0//EN
CALSCALE:GREGORIAN
METHOD:PUBLISH
X-ORIGINAL-URL:https://dzkol.pl
X-WR-CALDESC:Wydarzenia dla Dolnośląski Związek Kolarski
REFRESH-INTERVAL;VALUE=DURATION:PT1H
X-Robots-Tag:noindex
X-PUBLISHED-TTL:PT1H
BEGIN:VTIMEZONE
TZID:Europe/Warsaw
BEGIN:DAYLIGHT
TZOFFSETFROM:+0100
TZOFFSETTO:+0200
TZNAME:CEST
DTSTART:20170326T010000
END:DAYLIGHT
BEGIN:STANDARD
TZOFFSETFROM:+0200
TZOFFSETTO:+0100
TZNAME:CET
DTSTART:20171029T010000
END:STANDARD
BEGIN:DAYLIGHT
TZOFFSETFROM:+0100
TZOFFSETTO:+0200
TZNAME:CEST
DTSTART:20180325T010000
END:DAYLIGHT
BEGIN:STANDARD
TZOFFSETFROM:+0200
TZOFFSETTO:+0100
TZNAME:CET
DTSTART:20181028T010000
END:STANDARD
BEGIN:DAYLIGHT
TZOFFSETFROM:+0100
TZOFFSETTO:+0200
TZNAME:CEST
DTSTART:20190331T010000
END:DAYLIGHT
BEGIN:STANDARD
TZOFFSETFROM:+0200
TZOFFSETTO:+0100
TZNAME:CET
DTSTART:20191027T010000
END:STANDARD
END:VTIMEZONE
BEGIN:VEVENT
DTSTART;VALUE=DATE:20180511
DTEND;VALUE=DATE:20180514
DTSTAMP:20260425T191102
CREATED:20180329T205013Z
LAST-MODIFIED:20180329T205013Z
UID:1407-1525996800-1526255999@dzkol.pl
SUMMARY:Puchar Polski\, Eliminacje do OOM
DESCRIPTION:
URL:https://dzkol.pl/kalendarz/puchar-polski-eliminacje-do-oom/
LOCATION:Wrocław\, Wrocław\, Polska
CATEGORIES:Eliminacje OOM,tor
ORGANIZER;CN="Dolno%C5%9Bl%C4%85ski Zwi%C4%85zek Kolarski":MAILTO:dzkol@dzkol.eu
END:VEVENT
BEGIN:VEVENT
DTSTART;VALUE=DATE:20180511
DTEND;VALUE=DATE:20180514
DTSTAMP:20260425T191102
CREATED:20180329T205240Z
LAST-MODIFIED:20180329T205240Z
UID:1411-1525996800-1526255999@dzkol.pl
SUMMARY:CCC TOUR – Grody Piastowskie UCI 2.2
DESCRIPTION:
URL:https://dzkol.pl/kalendarz/ccc-tour-grody-piastowskie-uci-2-2-2/
LOCATION:Polkowice\, Polkowice\, dolnośląskie\, Polska
CATEGORIES:szosa
ORGANIZER;CN="Stowarzyszenie Grody Piastowskie Polkowice":MAILTO:contact@grody.com.pl
END:VEVENT
BEGIN:VEVENT
DTSTART;VALUE=DATE:20180512
DTEND;VALUE=DATE:20180513
DTSTAMP:20260425T191102
CREATED:20180329T205433Z
LAST-MODIFIED:20180329T205433Z
UID:1414-1526083200-1526169599@dzkol.pl
SUMMARY:Korona Gór Sowich wyścig poprzedzający: III-etap CCC Tour-Grody Piastowskie
DESCRIPTION:
URL:https://dzkol.pl/kalendarz/korona-gor-sowich-wyscig-poprzedzajacy-iii-etap-ccc-tour-grody-piastowskie/
LOCATION:Pieszyce\, Pieszyce\, dolnośląskie\, Polska
CATEGORIES:szosa
ORGANIZER;CN="Stowarzyszenie Grody Piastowskie Polkowice":MAILTO:contact@grody.com.pl
END:VEVENT
BEGIN:VEVENT
DTSTART;VALUE=DATE:20180512
DTEND;VALUE=DATE:20180513
DTSTAMP:20260425T191102
CREATED:20180329T205723Z
LAST-MODIFIED:20180329T205723Z
UID:1419-1526083200-1526169599@dzkol.pl
SUMMARY:Bike Maraton: Polanica Zdrój
DESCRIPTION:
URL:https://dzkol.pl/kalendarz/bike-maraton-polanica-zdroj/
LOCATION:Polanica Zdrój\, Polanica Zdrój\, Polska
CATEGORIES:maraton MTB
ORGANIZER;CN="Grabek Promotion":MAILTO:biuro@bikemaraton.com.pl
END:VEVENT
END:VCALENDAR