BEGIN:VCALENDAR
VERSION:2.0
PRODID:-//Dolnośląski Związek Kolarski - ECPv6.15.20//NONSGML v1.0//EN
CALSCALE:GREGORIAN
METHOD:PUBLISH
X-ORIGINAL-URL:https://dzkol.pl
X-WR-CALDESC:Wydarzenia dla Dolnośląski Związek Kolarski
REFRESH-INTERVAL;VALUE=DURATION:PT1H
X-Robots-Tag:noindex
X-PUBLISHED-TTL:PT1H
BEGIN:VTIMEZONE
TZID:Europe/Warsaw
BEGIN:DAYLIGHT
TZOFFSETFROM:+0100
TZOFFSETTO:+0200
TZNAME:CEST
DTSTART:20170326T010000
END:DAYLIGHT
BEGIN:STANDARD
TZOFFSETFROM:+0200
TZOFFSETTO:+0100
TZNAME:CET
DTSTART:20171029T010000
END:STANDARD
BEGIN:DAYLIGHT
TZOFFSETFROM:+0100
TZOFFSETTO:+0200
TZNAME:CEST
DTSTART:20180325T010000
END:DAYLIGHT
BEGIN:STANDARD
TZOFFSETFROM:+0200
TZOFFSETTO:+0100
TZNAME:CET
DTSTART:20181028T010000
END:STANDARD
BEGIN:DAYLIGHT
TZOFFSETFROM:+0100
TZOFFSETTO:+0200
TZNAME:CEST
DTSTART:20190331T010000
END:DAYLIGHT
BEGIN:STANDARD
TZOFFSETFROM:+0200
TZOFFSETTO:+0100
TZNAME:CET
DTSTART:20191027T010000
END:STANDARD
END:VTIMEZONE
BEGIN:VEVENT
DTSTART;VALUE=DATE:20180714
DTEND;VALUE=DATE:20180715
DTSTAMP:20260425T154501
CREATED:20180330T153144Z
LAST-MODIFIED:20180330T153144Z
UID:1504-1531526400-1531612799@dzkol.pl
SUMMARY:Liga MTB Aglomeracji Wałbrzyskiej - wyścig nr 4 - Wałbrzych
DESCRIPTION:
URL:https://dzkol.pl/kalendarz/liga-mtb-aglomeracji-walbrzyskiej-wyscig-nr-4-walbrzych/
LOCATION:Wałbrzych
CATEGORIES:MTB XC
ORGANIZER;CN="Stowarzyszenie Sportowo Rekreacyjne Junior Wa%C5%82brzych":MAILTO:szram.junior@gmail.com
END:VEVENT
BEGIN:VEVENT
DTSTART;VALUE=DATE:20180714
DTEND;VALUE=DATE:20180715
DTSTAMP:20260425T154501
CREATED:20180330T153434Z
LAST-MODIFIED:20180330T153434Z
UID:1506-1531526400-1531612799@dzkol.pl
SUMMARY:Puchar Strefy MTB Sudety Grand Prix Jodłownika MTB
DESCRIPTION:
URL:https://dzkol.pl/kalendarz/puchar-strefy-mtb-sudety-grand-prix-jodlownika-mtb/
LOCATION:Jodłownik\, Jodłownik\, dolnośląskie\, 58-262\, Polska
CATEGORIES:maraton MTB
ORGANIZER;CN="Stowarzyszenie Strefa MTB Sudety":MAILTO:biuro@strefamtbsudety.pl
END:VEVENT
END:VCALENDAR