BEGIN:VCALENDAR
VERSION:2.0
PRODID:-//Dolnośląski Związek Kolarski - ECPv6.15.20//NONSGML v1.0//EN
CALSCALE:GREGORIAN
METHOD:PUBLISH
X-WR-CALNAME:Dolnośląski Związek Kolarski
X-ORIGINAL-URL:https://dzkol.pl
X-WR-CALDESC:Wydarzenia dla Dolnośląski Związek Kolarski
REFRESH-INTERVAL;VALUE=DURATION:PT1H
X-Robots-Tag:noindex
X-PUBLISHED-TTL:PT1H
BEGIN:VTIMEZONE
TZID:Europe/Warsaw
BEGIN:DAYLIGHT
TZOFFSETFROM:+0100
TZOFFSETTO:+0200
TZNAME:CEST
DTSTART:20180325T010000
END:DAYLIGHT
BEGIN:STANDARD
TZOFFSETFROM:+0200
TZOFFSETTO:+0100
TZNAME:CET
DTSTART:20181028T010000
END:STANDARD
BEGIN:DAYLIGHT
TZOFFSETFROM:+0100
TZOFFSETTO:+0200
TZNAME:CEST
DTSTART:20190331T010000
END:DAYLIGHT
BEGIN:STANDARD
TZOFFSETFROM:+0200
TZOFFSETTO:+0100
TZNAME:CET
DTSTART:20191027T010000
END:STANDARD
BEGIN:DAYLIGHT
TZOFFSETFROM:+0100
TZOFFSETTO:+0200
TZNAME:CEST
DTSTART:20200329T010000
END:DAYLIGHT
BEGIN:STANDARD
TZOFFSETFROM:+0200
TZOFFSETTO:+0100
TZNAME:CET
DTSTART:20201025T010000
END:STANDARD
END:VTIMEZONE
BEGIN:VEVENT
DTSTART;VALUE=DATE:20190706
DTEND;VALUE=DATE:20190707
DTSTAMP:20260424T192859
CREATED:20190413T223358Z
LAST-MODIFIED:20190413T223431Z
UID:2360-1562371200-1562457599@dzkol.pl
SUMMARY:Puchar Strefy MTB Sudety - Grand Prix Jodłownika MTB
DESCRIPTION:  \n 
URL:https://dzkol.pl/kalendarz/puchar-strefy-mtb-sudety-grand-prix-jodlownika-mtb-2/
LOCATION:Jodłownik\, Jodłownik\, dolnośląskie\, 58-262\, Polska
CATEGORIES:maraton MTB,MTB,MTB XC
ORGANIZER;CN="Gmina Dzier%C5%BConi%C3%B3w":MAILTO:a.wolniak@ug.dzierżoniow.pl
END:VEVENT
BEGIN:VEVENT
DTSTART;VALUE=DATE:20190706
DTEND;VALUE=DATE:20190707
DTSTAMP:20260424T192859
CREATED:20190413T223631Z
LAST-MODIFIED:20190413T223652Z
UID:2365-1562371200-1562457599@dzkol.pl
SUMMARY:Szukamy następców Olimpijczyka Tadeusza Mytnika
DESCRIPTION:
URL:https://dzkol.pl/kalendarz/szukamy-nastepcow-olimpijczyka-tadeusza-mytnika/
LOCATION:Nowice\, Nowice\, dolnośląskie\, Polska
CATEGORIES:szosa
ORGANIZER;CN="MKS %E2%80%9EKarolina%E2%80%9D Jaworzyna %C5%9Al%C4%85ska":MAILTO:kontakt@mkskarolina.com
END:VEVENT
BEGIN:VEVENT
DTSTART;VALUE=DATE:20190706
DTEND;VALUE=DATE:20190707
DTSTAMP:20260424T192859
CREATED:20190413T223756Z
LAST-MODIFIED:20190413T223756Z
UID:2368-1562371200-1562457599@dzkol.pl
SUMMARY:Bike Maraton #Szklarska-Poręba
DESCRIPTION:
URL:https://dzkol.pl/kalendarz/bike-maraton-szklarska-poreba-2/
LOCATION:Szklarska Poręba
CATEGORIES:maraton MTB,MTB
ORGANIZER;CN="Grabek Promotion":MAILTO:biuro@bikemaraton.com.pl
END:VEVENT
END:VCALENDAR