BEGIN:VCALENDAR
VERSION:2.0
PRODID:-//Dolnośląski Związek Kolarski - ECPv6.15.20//NONSGML v1.0//EN
CALSCALE:GREGORIAN
METHOD:PUBLISH
X-ORIGINAL-URL:https://dzkol.pl
X-WR-CALDESC:Wydarzenia dla Dolnośląski Związek Kolarski
REFRESH-INTERVAL;VALUE=DURATION:PT1H
X-Robots-Tag:noindex
X-PUBLISHED-TTL:PT1H
BEGIN:VTIMEZONE
TZID:Europe/Warsaw
BEGIN:DAYLIGHT
TZOFFSETFROM:+0100
TZOFFSETTO:+0200
TZNAME:CEST
DTSTART:20190331T010000
END:DAYLIGHT
BEGIN:STANDARD
TZOFFSETFROM:+0200
TZOFFSETTO:+0100
TZNAME:CET
DTSTART:20191027T010000
END:STANDARD
BEGIN:DAYLIGHT
TZOFFSETFROM:+0100
TZOFFSETTO:+0200
TZNAME:CEST
DTSTART:20200329T010000
END:DAYLIGHT
BEGIN:STANDARD
TZOFFSETFROM:+0200
TZOFFSETTO:+0100
TZNAME:CET
DTSTART:20201025T010000
END:STANDARD
BEGIN:DAYLIGHT
TZOFFSETFROM:+0100
TZOFFSETTO:+0200
TZNAME:CEST
DTSTART:20210328T010000
END:DAYLIGHT
BEGIN:STANDARD
TZOFFSETFROM:+0200
TZOFFSETTO:+0100
TZNAME:CET
DTSTART:20211031T010000
END:STANDARD
END:VTIMEZONE
BEGIN:VEVENT
DTSTART;VALUE=DATE:20200703
DTEND;VALUE=DATE:20200706
DTSTAMP:20260424T010726
CREATED:20200704T103134Z
LAST-MODIFIED:20200704T103134Z
UID:3314-1593734400-1593993599@dzkol.pl
SUMMARY:XXX Wyścig Kolarski\, III-etapy\, Puchar Polski\, EOOM\, na I-etapie jazda indywidualna na czas\, na II-etapie start wspólny
DESCRIPTION:
URL:https://dzkol.pl/kalendarz/xxx-wyscig-kolarski-iii-etapy-puchar-polski-eoom-na-i-etapie-jazda-indywidualna-na-czas-na-ii-etapie-start-wspolny/
LOCATION:Wysocko Wielkie\, wielkopolskie
CATEGORIES:szosa
END:VEVENT
BEGIN:VEVENT
DTSTART;VALUE=DATE:20200705
DTEND;VALUE=DATE:20200706
DTSTAMP:20260424T010726
CREATED:20200704T103841Z
LAST-MODIFIED:20200704T103841Z
UID:3319-1593907200-1593993599@dzkol.pl
SUMMARY:PKO Ubezpieczenia Via Dolny Śląsk\, Szosowy Klasyk\, Szklarska Poręba
DESCRIPTION:
URL:https://dzkol.pl/kalendarz/pko-ubezpieczenia-via-dolny-slask-szosowy-klasyk-szklarska-poreba/
LOCATION:Szklarska Poręba
CATEGORIES:szosa,Via Dolny Śląsk
ORGANIZER;CN="%C5%9Al%C4%99%C5%BCa Sob%C3%B3tka Bike Academy":MAILTO:kssleza@gmail.com
END:VEVENT
BEGIN:VEVENT
DTSTART;VALUE=DATE:20200705
DTEND;VALUE=DATE:20200706
DTSTAMP:20260424T010726
CREATED:20200704T104055Z
LAST-MODIFIED:20200704T104055Z
UID:3321-1593907200-1593993599@dzkol.pl
SUMMARY:UCI Warsaw Cup – Puchar Polski XCO – edycja 1\, Eliminacje do OOM #1
DESCRIPTION:
URL:https://dzkol.pl/kalendarz/uci-warsaw-cup-puchar-polski-xco-edycja-1-eliminacje-do-oom-1/
LOCATION:Warszawa\, mazowieckie
CATEGORIES:Eliminacje OOM,EOOM,MTB,MTB XC,Puchar Polski MTB
END:VEVENT
END:VCALENDAR