BEGIN:VCALENDAR
VERSION:2.0
PRODID:-//Dolnośląski Związek Kolarski - ECPv6.15.20//NONSGML v1.0//EN
CALSCALE:GREGORIAN
METHOD:PUBLISH
X-WR-CALNAME:Dolnośląski Związek Kolarski
X-ORIGINAL-URL:https://dzkol.pl
X-WR-CALDESC:Wydarzenia dla Dolnośląski Związek Kolarski
REFRESH-INTERVAL;VALUE=DURATION:PT1H
X-Robots-Tag:noindex
X-PUBLISHED-TTL:PT1H
BEGIN:VTIMEZONE
TZID:Europe/Warsaw
BEGIN:DAYLIGHT
TZOFFSETFROM:+0100
TZOFFSETTO:+0200
TZNAME:CEST
DTSTART:20190331T010000
END:DAYLIGHT
BEGIN:STANDARD
TZOFFSETFROM:+0200
TZOFFSETTO:+0100
TZNAME:CET
DTSTART:20191027T010000
END:STANDARD
BEGIN:DAYLIGHT
TZOFFSETFROM:+0100
TZOFFSETTO:+0200
TZNAME:CEST
DTSTART:20200329T010000
END:DAYLIGHT
BEGIN:STANDARD
TZOFFSETFROM:+0200
TZOFFSETTO:+0100
TZNAME:CET
DTSTART:20201025T010000
END:STANDARD
BEGIN:DAYLIGHT
TZOFFSETFROM:+0100
TZOFFSETTO:+0200
TZNAME:CEST
DTSTART:20210328T010000
END:DAYLIGHT
BEGIN:STANDARD
TZOFFSETFROM:+0200
TZOFFSETTO:+0100
TZNAME:CET
DTSTART:20211031T010000
END:STANDARD
END:VTIMEZONE
BEGIN:VEVENT
DTSTART;VALUE=DATE:20200711
DTEND;VALUE=DATE:20200713
DTSTAMP:20260424T010623
CREATED:20200704T104938Z
LAST-MODIFIED:20200704T203839Z
UID:3329-1594425600-1594598399@dzkol.pl
SUMMARY:Puchar Polski Downhill\, Czarna Góra
DESCRIPTION:
URL:https://dzkol.pl/kalendarz/puchar-polski-downhiil-czarna-gora/
LOCATION:Czarna Góra-Stonie Śląkie\, dolnośląskie
CATEGORIES:Downhill
END:VEVENT
BEGIN:VEVENT
DTSTART;VALUE=DATE:20200711
DTEND;VALUE=DATE:20200713
DTSTAMP:20260424T010623
CREATED:20200704T105100Z
LAST-MODIFIED:20200704T105100Z
UID:3332-1594425600-1594598399@dzkol.pl
SUMMARY:Puchar Polski w kolarstwie szosowym\, Eliminacje OOM – jazda indywidualna na czas i start wspólny\, Zamość
DESCRIPTION:
URL:https://dzkol.pl/kalendarz/puchar-polski-w-kolarstwie-szosowym-eliminacje-oom-jazda-indywidualna-na-czas-i-start-wspolny-zamosc/
LOCATION:Zamość
CATEGORIES:Eliminacje OOM,szosa
END:VEVENT
BEGIN:VEVENT
DTSTART;VALUE=DATE:20200712
DTEND;VALUE=DATE:20200713
DTSTAMP:20260424T010623
CREATED:20200704T105248Z
LAST-MODIFIED:20200704T105248Z
UID:3335-1594512000-1594598399@dzkol.pl
SUMMARY:II Czasówka Lubomierska – Jazda indywidualna na czas na dystansie 10 km
DESCRIPTION:rz \n 
URL:https://dzkol.pl/kalendarz/ii-czasowka-lubomierska-jazda-indywidualna-na-czas-na-dystansie-10-km/
LOCATION:Lubomierz\, Lubomierz\, dolnośląskie\, Polska
CATEGORIES:szosa
END:VEVENT
END:VCALENDAR