BEGIN:VCALENDAR
VERSION:2.0
PRODID:-//Dolnośląski Związek Kolarski - ECPv6.15.20//NONSGML v1.0//EN
CALSCALE:GREGORIAN
METHOD:PUBLISH
X-WR-CALNAME:Dolnośląski Związek Kolarski
X-ORIGINAL-URL:https://dzkol.pl
X-WR-CALDESC:Wydarzenia dla Dolnośląski Związek Kolarski
REFRESH-INTERVAL;VALUE=DURATION:PT1H
X-Robots-Tag:noindex
X-PUBLISHED-TTL:PT1H
BEGIN:VTIMEZONE
TZID:Europe/Warsaw
BEGIN:DAYLIGHT
TZOFFSETFROM:+0100
TZOFFSETTO:+0200
TZNAME:CEST
DTSTART:20190331T010000
END:DAYLIGHT
BEGIN:STANDARD
TZOFFSETFROM:+0200
TZOFFSETTO:+0100
TZNAME:CET
DTSTART:20191027T010000
END:STANDARD
BEGIN:DAYLIGHT
TZOFFSETFROM:+0100
TZOFFSETTO:+0200
TZNAME:CEST
DTSTART:20200329T010000
END:DAYLIGHT
BEGIN:STANDARD
TZOFFSETFROM:+0200
TZOFFSETTO:+0100
TZNAME:CET
DTSTART:20201025T010000
END:STANDARD
BEGIN:DAYLIGHT
TZOFFSETFROM:+0100
TZOFFSETTO:+0200
TZNAME:CEST
DTSTART:20210328T010000
END:DAYLIGHT
BEGIN:STANDARD
TZOFFSETFROM:+0200
TZOFFSETTO:+0100
TZNAME:CET
DTSTART:20211031T010000
END:STANDARD
END:VTIMEZONE
BEGIN:VEVENT
DTSTART;VALUE=DATE:20200919
DTEND;VALUE=DATE:20200920
DTSTAMP:20260423T220107
CREATED:20200704T122603Z
LAST-MODIFIED:20200730T193736Z
UID:3424-1600473600-1600559999@dzkol.pl
SUMMARY:Górskie Szosowe Mistrzostwa Polski - Tandemy\, Służby Mundurowe i Amatorzy
DESCRIPTION:
URL:https://dzkol.pl/kalendarz/gorskie-szosowe-mistrzostwa-polski-tandemy-sluzby-mundurowe-i-amatorzy/
LOCATION:Podgórzyn – Sosnówka\, Podgórzyn\, dolnośląskie\, Polska
CATEGORIES:Mistrzostwa Polski,szosa
END:VEVENT
BEGIN:VEVENT
DTSTART;VALUE=DATE:20200919
DTEND;VALUE=DATE:20200920
DTSTAMP:20260423T220107
CREATED:20200704T130302Z
LAST-MODIFIED:20200704T130302Z
UID:3464-1600473600-1600559999@dzkol.pl
SUMMARY:6# Bike Maraton\, Polanica-Zdrój
DESCRIPTION:
URL:https://dzkol.pl/kalendarz/6-bike-maraton-polanica-zdroj/
LOCATION:Polanica Zdrój\, Polanica Zdrój\, Polska
CATEGORIES:Bike Maraton,maraton MTB,MTB
ORGANIZER;CN="Grabek Promotion":MAILTO:biuro@bikemaraton.com.pl
END:VEVENT
BEGIN:VEVENT
DTSTART;VALUE=DATE:20200919
DTEND;VALUE=DATE:20200920
DTSTAMP:20260423T220107
CREATED:20200704T130635Z
LAST-MODIFIED:20200704T130635Z
UID:3472-1600473600-1600559999@dzkol.pl
SUMMARY:XVI Grand Prix MTB Solidarności – Liga MTB Aglomeracji Wałbrzyskiej – Wyścig nr 6
DESCRIPTION:
URL:https://dzkol.pl/kalendarz/xvi-grand-prix-mtb-solidarnosci-liga-mtb-aglomeracji-walbrzyskiej-wyscig-nr-6/
LOCATION:Jaworzyna Śląska\, Jaworzyna Śląska\, dolnośląskie\, Polska
CATEGORIES:Liga MTB Aglomeracji Wałbrzyskiej,MTB
ORGANIZER;CN="LKKS G%C3%B3rnik Wa%C5%82brzych":MAILTO:lkks.g.w@wp.pl
END:VEVENT
END:VCALENDAR