BEGIN:VCALENDAR
VERSION:2.0
PRODID:-//Dolnośląski Związek Kolarski - ECPv6.15.20//NONSGML v1.0//EN
CALSCALE:GREGORIAN
METHOD:PUBLISH
X-WR-CALNAME:Dolnośląski Związek Kolarski
X-ORIGINAL-URL:https://dzkol.pl
X-WR-CALDESC:Wydarzenia dla Dolnośląski Związek Kolarski
REFRESH-INTERVAL;VALUE=DURATION:PT1H
X-Robots-Tag:noindex
X-PUBLISHED-TTL:PT1H
BEGIN:VTIMEZONE
TZID:Europe/Warsaw
BEGIN:DAYLIGHT
TZOFFSETFROM:+0100
TZOFFSETTO:+0200
TZNAME:CEST
DTSTART:20190331T010000
END:DAYLIGHT
BEGIN:STANDARD
TZOFFSETFROM:+0200
TZOFFSETTO:+0100
TZNAME:CET
DTSTART:20191027T010000
END:STANDARD
BEGIN:DAYLIGHT
TZOFFSETFROM:+0100
TZOFFSETTO:+0200
TZNAME:CEST
DTSTART:20200329T010000
END:DAYLIGHT
BEGIN:STANDARD
TZOFFSETFROM:+0200
TZOFFSETTO:+0100
TZNAME:CET
DTSTART:20201025T010000
END:STANDARD
BEGIN:DAYLIGHT
TZOFFSETFROM:+0100
TZOFFSETTO:+0200
TZNAME:CEST
DTSTART:20210328T010000
END:DAYLIGHT
BEGIN:STANDARD
TZOFFSETFROM:+0200
TZOFFSETTO:+0100
TZNAME:CET
DTSTART:20211031T010000
END:STANDARD
END:VTIMEZONE
BEGIN:VEVENT
DTSTART;VALUE=DATE:20201001
DTEND;VALUE=DATE:20201005
DTSTAMP:20260423T202633
CREATED:20200704T131923Z
LAST-MODIFIED:20200704T131923Z
UID:3490-1601510400-1601855999@dzkol.pl
SUMMARY:Mistrzostwa Polski Elity w kolarstwie torowym\, Mistrzostwa Polski w konkurencjach nieolimpijskich
DESCRIPTION:
URL:https://dzkol.pl/kalendarz/mistrzostwa-polski-elity-w-kolarstwie-torowym-mistrzostwa-polski-w-konkurencjach-nieolimpijskich/
LOCATION:Pruszków
CATEGORIES:Mistrzostwa Polski,tor
END:VEVENT
BEGIN:VEVENT
DTSTART;VALUE=DATE:20201003
DTEND;VALUE=DATE:20201004
DTSTAMP:20260423T202633
CREATED:20200704T131323Z
LAST-MODIFIED:20200910T194901Z
UID:3481-1601683200-1601769599@dzkol.pl
SUMMARY:Liga MTB Aglomeracji Wałbrzyskiej – Wyścig nr 7 – FINAŁ – Puchar Burmistrza Szczawna-Zdroju
DESCRIPTION:
URL:https://dzkol.pl/kalendarz/liga-mtb-aglomeracji-walbrzyskiej-wyscig-nr-7-puchar-burmistrza-szczawna-zdroju/
LOCATION:Szczawno Zdrój\, Szczawno Zdrój\, Polska
CATEGORIES:Liga MTB Aglomeracji Wałbrzyskiej,MTB
ORGANIZER;CN="LKKS G%C3%B3rnik Wa%C5%82brzych":MAILTO:lkks.g.w@wp.pl
END:VEVENT
BEGIN:VEVENT
DTSTART;VALUE=DATE:20201003
DTEND;VALUE=DATE:20201004
DTSTAMP:20260423T202633
CREATED:20200704T132038Z
LAST-MODIFIED:20200704T132050Z
UID:3492-1601683200-1601769599@dzkol.pl
SUMMARY:Liga Szkółek Kolarskich w Wilkowie
DESCRIPTION:
URL:https://dzkol.pl/kalendarz/liga-szkolek-kolarskich-w-wilkowie/
LOCATION:Wilków\, Wilków\, dolnośląskie\, Polska
CATEGORIES:Liga Szkółek Kolarskich,MTB
END:VEVENT
BEGIN:VEVENT
DTSTART;VALUE=DATE:20201003
DTEND;VALUE=DATE:20201004
DTSTAMP:20260423T202633
CREATED:20200704T132158Z
LAST-MODIFIED:20200704T132158Z
UID:3494-1601683200-1601769599@dzkol.pl
SUMMARY:7# Bike Maraton\, Świeradów
DESCRIPTION:
URL:https://dzkol.pl/kalendarz/7-bike-maraton-swieradow/
LOCATION:Świeradów
CATEGORIES:Bike Maraton,maraton MTB,MTB
ORGANIZER;CN="Grabek Promotion":MAILTO:biuro@bikemaraton.com.pl
END:VEVENT
END:VCALENDAR