BEGIN:VCALENDAR
VERSION:2.0
PRODID:-//Dolnośląski Związek Kolarski - ECPv6.15.20//NONSGML v1.0//EN
CALSCALE:GREGORIAN
METHOD:PUBLISH
X-ORIGINAL-URL:https://dzkol.pl
X-WR-CALDESC:Wydarzenia dla Dolnośląski Związek Kolarski
REFRESH-INTERVAL;VALUE=DURATION:PT1H
X-Robots-Tag:noindex
X-PUBLISHED-TTL:PT1H
BEGIN:VTIMEZONE
TZID:Europe/Warsaw
BEGIN:DAYLIGHT
TZOFFSETFROM:+0100
TZOFFSETTO:+0200
TZNAME:CEST
DTSTART:20200329T010000
END:DAYLIGHT
BEGIN:STANDARD
TZOFFSETFROM:+0200
TZOFFSETTO:+0100
TZNAME:CET
DTSTART:20201025T010000
END:STANDARD
BEGIN:DAYLIGHT
TZOFFSETFROM:+0100
TZOFFSETTO:+0200
TZNAME:CEST
DTSTART:20210328T010000
END:DAYLIGHT
BEGIN:STANDARD
TZOFFSETFROM:+0200
TZOFFSETTO:+0100
TZNAME:CET
DTSTART:20211031T010000
END:STANDARD
BEGIN:DAYLIGHT
TZOFFSETFROM:+0100
TZOFFSETTO:+0200
TZNAME:CEST
DTSTART:20220327T010000
END:DAYLIGHT
BEGIN:STANDARD
TZOFFSETFROM:+0200
TZOFFSETTO:+0100
TZNAME:CET
DTSTART:20221030T010000
END:STANDARD
END:VTIMEZONE
BEGIN:VEVENT
DTSTART;VALUE=DATE:20210502
DTEND;VALUE=DATE:20210503
DTSTAMP:20260423T085026
CREATED:20210312T112512Z
LAST-MODIFIED:20210329T172648Z
UID:3963-1619913600-1619999999@dzkol.pl
SUMMARY:XXXIV Międzynarodowy Wyścig Kolarski „Ślężański Mnich”
DESCRIPTION:20210502 : XXXIV Międzynarodowy Wyścig Kolarski - Ślężański Mnich - Sobótka - regulamin\n                \n                     284.24 KB\n                     275 downloads\n                \n            \n            ...\n        \n        \n            Pobierz
URL:https://dzkol.pl/kalendarz/xxxiv-miedzynarodowy-wyscig-kolarski-slezanski-mnich/
LOCATION:Sobótka
CATEGORIES:szosa
ORGANIZER;CN="%C5%9Al%C4%99%C5%BCa Sob%C3%B3tka Bike Academy":MAILTO:kssleza@gmail.com
END:VEVENT
BEGIN:VEVENT
DTSTART;VALUE=DATE:20210502
DTEND;VALUE=DATE:20210503
DTSTAMP:20260423T085026
CREATED:20210422T134527Z
LAST-MODIFIED:20210422T134527Z
UID:4102-1619913600-1619999999@dzkol.pl
SUMMARY:PKO Ubezpieczenia Via Dolny Śląsk „Ślężański Mnich”
DESCRIPTION:
URL:https://dzkol.pl/kalendarz/pko-ubezpieczenia-via-dolny-slask-slezanski-mnich-2/
LOCATION:Sobótka
CATEGORIES:szosa
ORGANIZER;CN="%C5%9Al%C4%99%C5%BCa Sob%C3%B3tka Bike Academy":MAILTO:kssleza@gmail.com
END:VEVENT
END:VCALENDAR