BEGIN:VCALENDAR
VERSION:2.0
PRODID:-//Dolnośląski Związek Kolarski - ECPv6.15.20//NONSGML v1.0//EN
CALSCALE:GREGORIAN
METHOD:PUBLISH
X-ORIGINAL-URL:https://dzkol.pl
X-WR-CALDESC:Wydarzenia dla Dolnośląski Związek Kolarski
REFRESH-INTERVAL;VALUE=DURATION:PT1H
X-Robots-Tag:noindex
X-PUBLISHED-TTL:PT1H
BEGIN:VTIMEZONE
TZID:Europe/Warsaw
BEGIN:DAYLIGHT
TZOFFSETFROM:+0100
TZOFFSETTO:+0200
TZNAME:CEST
DTSTART:20200329T010000
END:DAYLIGHT
BEGIN:STANDARD
TZOFFSETFROM:+0200
TZOFFSETTO:+0100
TZNAME:CET
DTSTART:20201025T010000
END:STANDARD
BEGIN:DAYLIGHT
TZOFFSETFROM:+0100
TZOFFSETTO:+0200
TZNAME:CEST
DTSTART:20210328T010000
END:DAYLIGHT
BEGIN:STANDARD
TZOFFSETFROM:+0200
TZOFFSETTO:+0100
TZNAME:CET
DTSTART:20211031T010000
END:STANDARD
BEGIN:DAYLIGHT
TZOFFSETFROM:+0100
TZOFFSETTO:+0200
TZNAME:CEST
DTSTART:20220327T010000
END:DAYLIGHT
BEGIN:STANDARD
TZOFFSETFROM:+0200
TZOFFSETTO:+0100
TZNAME:CET
DTSTART:20221030T010000
END:STANDARD
END:VTIMEZONE
BEGIN:VEVENT
DTSTART;VALUE=DATE:20210508
DTEND;VALUE=DATE:20210509
DTSTAMP:20260423T084926
CREATED:20210319T172420Z
LAST-MODIFIED:20210504T114242Z
UID:4000-1620432000-1620518399@dzkol.pl
SUMMARY:Liga MTB XC Aglomeracji Wałbrzyskiej - Wyścig nr 2 - Wałbrzych
DESCRIPTION:20210508 : Liga MTB XC Aglomeracji Wałbrzyskiej - Wyścig nr 2 - Wałbrzych - komunikat\n                \n                     1.17 MB\n                     131 downloads\n                \n            \n            ...\n        \n        \n            Pobierz\n        \n    \n\n\n\n\n\n\n\n    \n        \n            \n        \n        \n            \n                20210508 : Liga MTB XC Aglomeracji Wałbrzyskiej - Wyścig nr 2 - Wałbrzych - komunikat\n                \n                     1.17 MB\n                     131 downloads\n                \n            \n            ...\n        \n        \n            Pobierz\n        \n    \n\n\n\n\n\n\n\n    \n        \n            \n        \n        \n            \n                20210508 : Liga MTB XC Aglomeracji Walbrzyskiej - Wyścig nr 2 - Wałbrzych - program i godziny\n                \n                     567.87 KB\n                     58 downloads\n                \n            \n            ...\n        \n        \n            Pobierz
URL:https://dzkol.pl/kalendarz/liga-mtb-xc-aglomeracji-walbrzyskiej-wyscig-nr-2-walbrzych/
LOCATION:Wałbrzych
CATEGORIES:Liga MTB Aglomeracji Wałbrzyskiej
ORGANIZER;CN="LKKS G%C3%B3rnik Wa%C5%82brzych":MAILTO:lkks.g.w@wp.pl
END:VEVENT
END:VCALENDAR