BEGIN:VCALENDAR
VERSION:2.0
PRODID:-//Dolnośląski Związek Kolarski - ECPv6.15.20//NONSGML v1.0//EN
CALSCALE:GREGORIAN
METHOD:PUBLISH
X-WR-CALNAME:Dolnośląski Związek Kolarski
X-ORIGINAL-URL:https://dzkol.pl
X-WR-CALDESC:Wydarzenia dla Dolnośląski Związek Kolarski
REFRESH-INTERVAL;VALUE=DURATION:PT1H
X-Robots-Tag:noindex
X-PUBLISHED-TTL:PT1H
BEGIN:VTIMEZONE
TZID:Europe/Warsaw
BEGIN:DAYLIGHT
TZOFFSETFROM:+0100
TZOFFSETTO:+0200
TZNAME:CEST
DTSTART:20200329T010000
END:DAYLIGHT
BEGIN:STANDARD
TZOFFSETFROM:+0200
TZOFFSETTO:+0100
TZNAME:CET
DTSTART:20201025T010000
END:STANDARD
BEGIN:DAYLIGHT
TZOFFSETFROM:+0100
TZOFFSETTO:+0200
TZNAME:CEST
DTSTART:20210328T010000
END:DAYLIGHT
BEGIN:STANDARD
TZOFFSETFROM:+0200
TZOFFSETTO:+0100
TZNAME:CET
DTSTART:20211031T010000
END:STANDARD
BEGIN:DAYLIGHT
TZOFFSETFROM:+0100
TZOFFSETTO:+0200
TZNAME:CEST
DTSTART:20220327T010000
END:DAYLIGHT
BEGIN:STANDARD
TZOFFSETFROM:+0200
TZOFFSETTO:+0100
TZNAME:CET
DTSTART:20221030T010000
END:STANDARD
END:VTIMEZONE
BEGIN:VEVENT
DTSTART;VALUE=DATE:20210529
DTEND;VALUE=DATE:20210530
DTSTAMP:20260423T084910
CREATED:20210319T172612Z
LAST-MODIFIED:20210511T121803Z
UID:4002-1622246400-1622332799@dzkol.pl
SUMMARY:Liga MTB XC Aglomeracji Wałbrzyskiej - Wyścig nr 3 - Świebodzice
DESCRIPTION:20210529 : Liga MTB XC Aglomeracji Wałbrzyskiej - Wyścig nr 3 - Świebodzice - komunikat\n                \n                     982.71 KB\n                     126 downloads\n                \n            \n            ...\n        \n        \n            Pobierz\n        \n    \n\n\n\n\n\n\n\n    \n        \n            \n        \n        \n            \n                2021 : Liga MTB XC Aglomeracji Wałbrzyskiej - regulamin\n                \n                     1.03 MB\n                     1158 downloads\n                \n            \n            ...\n        \n        \n            Pobierz
URL:https://dzkol.pl/kalendarz/liga-mtb-xc-aglomeracji-walbrzyskiej-wyscig-nr-3-swiebodzice/
LOCATION:Świebodzice
CATEGORIES:Liga MTB Aglomeracji Wałbrzyskiej
ORGANIZER;CN="LKKS G%C3%B3rnik Wa%C5%82brzych":MAILTO:lkks.g.w@wp.pl
END:VEVENT
BEGIN:VEVENT
DTSTART;VALUE=DATE:20210529
DTEND;VALUE=DATE:20210530
DTSTAMP:20260423T084910
CREATED:20210513T183250Z
LAST-MODIFIED:20210513T183250Z
UID:4184-1622246400-1622332799@dzkol.pl
SUMMARY:JBG-2 Pressingowa Petarda Jastrzębie Zdrój - Puchar Polski MTB XCO
DESCRIPTION:
URL:https://dzkol.pl/kalendarz/jbg-2-pressingowa-petarda-jastrzebie-zdroj-puchar-polski-mtb-xco/
LOCATION:Jastrzębie Zdrój\, Jastrzębie Zdrój\, Poland
CATEGORIES:MTB,Puchar Polski MTB
END:VEVENT
BEGIN:VEVENT
DTSTART;VALUE=DATE:20210529
DTEND;VALUE=DATE:20210530
DTSTAMP:20260423T084910
CREATED:20210513T183404Z
LAST-MODIFIED:20210513T183404Z
UID:4188-1622246400-1622332799@dzkol.pl
SUMMARY:Bike Maraton Polanica Zdrój
DESCRIPTION:
URL:https://dzkol.pl/kalendarz/bike-maraton-polanica-zdroj-3/
LOCATION:Polanica Zdrój\, Polanica Zdrój\, Polska
CATEGORIES:Bike Maraton
ORGANIZER;CN="Grabek Promotion":MAILTO:biuro@bikemaraton.com.pl
END:VEVENT
BEGIN:VEVENT
DTSTART;VALUE=DATE:20210529
DTEND;VALUE=DATE:20210531
DTSTAMP:20260423T084910
CREATED:20210513T184541Z
LAST-MODIFIED:20210513T184541Z
UID:4192-1622246400-1622419199@dzkol.pl
SUMMARY:Puchar Polski w kolarstwie szosowym kobiet
DESCRIPTION:
URL:https://dzkol.pl/kalendarz/puchar-polski-w-kolarstwie-szosowym-kobiet/
LOCATION:Dąbki
CATEGORIES:Puchar Polski,szosa
END:VEVENT
END:VCALENDAR