BEGIN:VCALENDAR
VERSION:2.0
PRODID:-//Dolnośląski Związek Kolarski - ECPv6.15.20//NONSGML v1.0//EN
CALSCALE:GREGORIAN
METHOD:PUBLISH
X-WR-CALNAME:Dolnośląski Związek Kolarski
X-ORIGINAL-URL:https://dzkol.pl
X-WR-CALDESC:Wydarzenia dla Dolnośląski Związek Kolarski
REFRESH-INTERVAL;VALUE=DURATION:PT1H
X-Robots-Tag:noindex
X-PUBLISHED-TTL:PT1H
BEGIN:VTIMEZONE
TZID:Europe/Warsaw
BEGIN:DAYLIGHT
TZOFFSETFROM:+0100
TZOFFSETTO:+0200
TZNAME:CEST
DTSTART:20200329T010000
END:DAYLIGHT
BEGIN:STANDARD
TZOFFSETFROM:+0200
TZOFFSETTO:+0100
TZNAME:CET
DTSTART:20201025T010000
END:STANDARD
BEGIN:DAYLIGHT
TZOFFSETFROM:+0100
TZOFFSETTO:+0200
TZNAME:CEST
DTSTART:20210328T010000
END:DAYLIGHT
BEGIN:STANDARD
TZOFFSETFROM:+0200
TZOFFSETTO:+0100
TZNAME:CET
DTSTART:20211031T010000
END:STANDARD
BEGIN:DAYLIGHT
TZOFFSETFROM:+0100
TZOFFSETTO:+0200
TZNAME:CEST
DTSTART:20220327T010000
END:DAYLIGHT
BEGIN:STANDARD
TZOFFSETFROM:+0200
TZOFFSETTO:+0100
TZNAME:CET
DTSTART:20221030T010000
END:STANDARD
END:VTIMEZONE
BEGIN:VEVENT
DTSTART;VALUE=DATE:20210605
DTEND;VALUE=DATE:20210606
DTSTAMP:20260423T070521
CREATED:20210319T172719Z
LAST-MODIFIED:20210526T105737Z
UID:4004-1622851200-1622937599@dzkol.pl
SUMMARY:Liga MTB XC Aglomeracji Wałbrzyskiej - Wyścig nr 4 - Walim
DESCRIPTION:KOMUNIKAT ORGANIZACYJNY:\n\n\n\n    \n        \n            \n        \n        \n            \n                20210605 : Liga MTB XC Aglomeracji Wałbrzyskiej - Wyścig nr 4 - Walim - regulamin\n                \n                     552.33 KB\n                     103 downloads\n                \n            \n            ...\n        \n        \n            Pobierz\n        \n    \n\n\n\n\nREGULAMIN:\n\n\n\n    \n        \n            \n        \n        \n            \n                2021 : Liga MTB XC Aglomeracji Wałbrzyskiej - regulamin\n                \n                     1.03 MB\n                     1158 downloads\n                \n            \n            ...\n        \n        \n            Pobierz
URL:https://dzkol.pl/kalendarz/liga-mtb-xc-aglomeracji-walbrzyskiej-wyscig-nr-4-walim/
LOCATION:Walim
CATEGORIES:Liga MTB Aglomeracji Wałbrzyskiej
ORGANIZER;CN="LKKS G%C3%B3rnik Wa%C5%82brzych":MAILTO:lkks.g.w@wp.pl
END:VEVENT
BEGIN:VEVENT
DTSTART;VALUE=DATE:20210605
DTEND;VALUE=DATE:20210606
DTSTAMP:20260423T070521
CREATED:20210513T184942Z
LAST-MODIFIED:20210513T184942Z
UID:4196-1622851200-1622937599@dzkol.pl
SUMMARY:PP w kolarstwie szosowym - Eliminacje do OOM - Memoriał Joachima Halupczoka - jazda indywidualna na czas
DESCRIPTION:
URL:https://dzkol.pl/kalendarz/pp-w-kolarstwie-szosowym-eliminacje-do-oom-memorial-joachima-halupczoka-jazda-indywidualna-na-czas/
LOCATION:Niwki
CATEGORIES:szosa
END:VEVENT
END:VCALENDAR