BEGIN:VCALENDAR
VERSION:2.0
PRODID:-//Dolnośląski Związek Kolarski - ECPv6.15.20//NONSGML v1.0//EN
CALSCALE:GREGORIAN
METHOD:PUBLISH
X-ORIGINAL-URL:https://dzkol.pl
X-WR-CALDESC:Wydarzenia dla Dolnośląski Związek Kolarski
REFRESH-INTERVAL;VALUE=DURATION:PT1H
X-Robots-Tag:noindex
X-PUBLISHED-TTL:PT1H
BEGIN:VTIMEZONE
TZID:Europe/Warsaw
BEGIN:DAYLIGHT
TZOFFSETFROM:+0100
TZOFFSETTO:+0200
TZNAME:CEST
DTSTART:20200329T010000
END:DAYLIGHT
BEGIN:STANDARD
TZOFFSETFROM:+0200
TZOFFSETTO:+0100
TZNAME:CET
DTSTART:20201025T010000
END:STANDARD
BEGIN:DAYLIGHT
TZOFFSETFROM:+0100
TZOFFSETTO:+0200
TZNAME:CEST
DTSTART:20210328T010000
END:DAYLIGHT
BEGIN:STANDARD
TZOFFSETFROM:+0200
TZOFFSETTO:+0100
TZNAME:CET
DTSTART:20211031T010000
END:STANDARD
BEGIN:DAYLIGHT
TZOFFSETFROM:+0100
TZOFFSETTO:+0200
TZNAME:CEST
DTSTART:20220327T010000
END:DAYLIGHT
BEGIN:STANDARD
TZOFFSETFROM:+0200
TZOFFSETTO:+0100
TZNAME:CET
DTSTART:20221030T010000
END:STANDARD
END:VTIMEZONE
BEGIN:VEVENT
DTSTART;VALUE=DATE:20210606
DTEND;VALUE=DATE:20210607
DTSTAMP:20260423T070643
CREATED:20210513T185038Z
LAST-MODIFIED:20210513T185038Z
UID:4199-1622937600-1623023999@dzkol.pl
SUMMARY:PP w kolarstwie szosowym - Eliminacje do OOM - Memoriał Joachima Halupczoka - wyścig ze startu wspólnego
DESCRIPTION:
URL:https://dzkol.pl/kalendarz/pp-w-kolarstwie-szosowym-eliminacje-do-oom-memorial-joachima-halupczoka-wyscig-ze-startu-wspolnego/
LOCATION:Niwki
CATEGORIES:szosa
END:VEVENT
BEGIN:VEVENT
DTSTART;VALUE=DATE:20210606
DTEND;VALUE=DATE:20210607
DTSTAMP:20260423T070643
CREATED:20210513T185540Z
LAST-MODIFIED:20210618T102118Z
UID:4201-1622937600-1623023999@dzkol.pl
SUMMARY:UCI: Górale na Start - Puchar Polski XCO
DESCRIPTION:ZAPISY:\nwww.wynikizawodow.eu \n\n\n\n    \n        \n            \n        \n        \n            \n                20210606 : UCI Górale na Start - Puchar Polski MTB - Wałbrzych - regulamin\n                \n                     686.93 KB\n                     14 downloads\n                \n            \n            ...\n        \n        \n            Pobierz
URL:https://dzkol.pl/kalendarz/uci-gorale-na-start-puchar-polski-xco/
LOCATION:Wałbrzych
CATEGORIES:MTB
ORGANIZER;CN="KKW Whyte Nexelo Wa%C5%82brzych":MAILTO:klub@kk.walbrzych.pl
END:VEVENT
END:VCALENDAR