BEGIN:VCALENDAR
VERSION:2.0
PRODID:-//Dolnośląski Związek Kolarski - ECPv6.15.20//NONSGML v1.0//EN
CALSCALE:GREGORIAN
METHOD:PUBLISH
X-ORIGINAL-URL:https://dzkol.pl
X-WR-CALDESC:Wydarzenia dla Dolnośląski Związek Kolarski
REFRESH-INTERVAL;VALUE=DURATION:PT1H
X-Robots-Tag:noindex
X-PUBLISHED-TTL:PT1H
BEGIN:VTIMEZONE
TZID:Europe/Warsaw
BEGIN:DAYLIGHT
TZOFFSETFROM:+0100
TZOFFSETTO:+0200
TZNAME:CEST
DTSTART:20200329T010000
END:DAYLIGHT
BEGIN:STANDARD
TZOFFSETFROM:+0200
TZOFFSETTO:+0100
TZNAME:CET
DTSTART:20201025T010000
END:STANDARD
BEGIN:DAYLIGHT
TZOFFSETFROM:+0100
TZOFFSETTO:+0200
TZNAME:CEST
DTSTART:20210328T010000
END:DAYLIGHT
BEGIN:STANDARD
TZOFFSETFROM:+0200
TZOFFSETTO:+0100
TZNAME:CET
DTSTART:20211031T010000
END:STANDARD
BEGIN:DAYLIGHT
TZOFFSETFROM:+0100
TZOFFSETTO:+0200
TZNAME:CEST
DTSTART:20220327T010000
END:DAYLIGHT
BEGIN:STANDARD
TZOFFSETFROM:+0200
TZOFFSETTO:+0100
TZNAME:CET
DTSTART:20221030T010000
END:STANDARD
END:VTIMEZONE
BEGIN:VEVENT
DTSTART;VALUE=DATE:20210612
DTEND;VALUE=DATE:20210613
DTSTAMP:20260423T070703
CREATED:20210513T185726Z
LAST-MODIFIED:20210513T185726Z
UID:4203-1623456000-1623542399@dzkol.pl
SUMMARY:Wielka Nagroda Miasta Kalisza – Eliminacja do Mistrzostw Polski Juniorów – omnium II seria
DESCRIPTION:
URL:https://dzkol.pl/kalendarz/wielka-nagroda-miasta-kalisza-eliminacja-do-mistrzostw-polski-juniorow-omnium-ii-seria/
LOCATION:Wielkopolski Związek Kolarski
CATEGORIES:tor
END:VEVENT
BEGIN:VEVENT
DTSTART;VALUE=DATE:20210612
DTEND;VALUE=DATE:20210613
DTSTAMP:20260423T070703
CREATED:20210513T193826Z
LAST-MODIFIED:20210513T193826Z
UID:4209-1623456000-1623542399@dzkol.pl
SUMMARY:Puchar Polski w kolarstwie szosowym - Eliminacje OOM - jazda indywidualna na czas
DESCRIPTION:
URL:https://dzkol.pl/kalendarz/puchar-polski-w-kolarstwie-szosowym-eliminacje-oom-jazda-indywidualna-na-czas/
LOCATION:Koziegłowy\, Koziegłowy\, Polska
CATEGORIES:Puchar Polski,szosa
ORGANIZER;CN="MG LKS B%C5%82%C4%99kitni Kozieg%C5%82owy":MAILTO:andrzej.chmurzewski1@wp.pl
END:VEVENT
END:VCALENDAR