BEGIN:VCALENDAR
VERSION:2.0
PRODID:-//Dolnośląski Związek Kolarski - ECPv6.15.20//NONSGML v1.0//EN
CALSCALE:GREGORIAN
METHOD:PUBLISH
X-WR-CALNAME:Dolnośląski Związek Kolarski
X-ORIGINAL-URL:https://dzkol.pl
X-WR-CALDESC:Wydarzenia dla Dolnośląski Związek Kolarski
REFRESH-INTERVAL;VALUE=DURATION:PT1H
X-Robots-Tag:noindex
X-PUBLISHED-TTL:PT1H
BEGIN:VTIMEZONE
TZID:Europe/Warsaw
BEGIN:DAYLIGHT
TZOFFSETFROM:+0100
TZOFFSETTO:+0200
TZNAME:CEST
DTSTART:20200329T010000
END:DAYLIGHT
BEGIN:STANDARD
TZOFFSETFROM:+0200
TZOFFSETTO:+0100
TZNAME:CET
DTSTART:20201025T010000
END:STANDARD
BEGIN:DAYLIGHT
TZOFFSETFROM:+0100
TZOFFSETTO:+0200
TZNAME:CEST
DTSTART:20210328T010000
END:DAYLIGHT
BEGIN:STANDARD
TZOFFSETFROM:+0200
TZOFFSETTO:+0100
TZNAME:CET
DTSTART:20211031T010000
END:STANDARD
BEGIN:DAYLIGHT
TZOFFSETFROM:+0100
TZOFFSETTO:+0200
TZNAME:CEST
DTSTART:20220327T010000
END:DAYLIGHT
BEGIN:STANDARD
TZOFFSETFROM:+0200
TZOFFSETTO:+0100
TZNAME:CET
DTSTART:20221030T010000
END:STANDARD
END:VTIMEZONE
BEGIN:VEVENT
DTSTART;VALUE=DATE:20210626
DTEND;VALUE=DATE:20210627
DTSTAMP:20260423T070552
CREATED:20210319T173143Z
LAST-MODIFIED:20210618T102316Z
UID:4008-1624665600-1624751999@dzkol.pl
SUMMARY:Liga MTB XC Aglomeracji Wałbrzyskiej - XVII Grand Prix Solidarności - Wyścig nr 6 - Jaworzyna Śląska
DESCRIPTION:Regulamin Ligi MTB XC Aglomeracji Wałbrzyskiej\n\n\n\n    \n        \n            \n        \n        \n            \n                2021 : Liga MTB XC Aglomeracji Wałbrzyskiej - regulamin\n                \n                     1.03 MB\n                     1158 downloads\n                \n            \n            ...\n        \n        \n            Pobierz\n        \n    \n\n\n\n\nKomunikat organizacyjny\n\n\n\n    \n        \n            \n        \n        \n            \n                20210626 : Liga MTB XC Aglomeracji Wałbrzyskiej - XVII Grand Prix Solidarności - Wyścig nr 6 - Jaworzyna Śląska - komunikat organizacyjny\n                \n                     739.11 KB\n                     52 downloads\n                \n            \n            ...\n        \n        \n            Pobierz\n        \n    \n\n\n\n\n 
URL:https://dzkol.pl/kalendarz/liga-mtb-xc-aglomeracji-walbrzyskiej-wyscig-nr-6-jaworzyna-slaska/
LOCATION:Jaworzyna Śląska\, Jaworzyna Śląska\, dolnośląskie\, Polska
CATEGORIES:Liga MTB Aglomeracji Wałbrzyskiej
ORGANIZER;CN="LKKS G%C3%B3rnik Wa%C5%82brzych":MAILTO:lkks.g.w@wp.pl
END:VEVENT
BEGIN:VEVENT
DTSTART;VALUE=DATE:20210626
DTEND;VALUE=DATE:20210627
DTSTAMP:20260423T070552
CREATED:20210421T094454Z
LAST-MODIFIED:20210429T113829Z
UID:4083-1624665600-1624751999@dzkol.pl
SUMMARY:MINI Sikora Enduro MTB Series
DESCRIPTION:20210508 : MINI Sikora Enduro MTB Series 2021 - Świeradów - regulamin\n                \n                     670.06 KB\n                     26 downloads\n                \n            \n            ...\n        \n        \n            Pobierz
URL:https://dzkol.pl/kalendarz/mini-sikora-enduro-mtb-series/
LOCATION:Świeradów
CATEGORIES:MTB Enduro
ORGANIZER;CN="Active Group":MAILTO:EnduroMTBseries@gmail.com
END:VEVENT
BEGIN:VEVENT
DTSTART;VALUE=DATE:20210626
DTEND;VALUE=DATE:20210630
DTSTAMP:20260423T070552
CREATED:20210513T195632Z
LAST-MODIFIED:20210513T195632Z
UID:4225-1624665600-1625011199@dzkol.pl
SUMMARY:Bike Adventure
DESCRIPTION:
URL:https://dzkol.pl/kalendarz/bike-adventure/
LOCATION:Szklarska Poręba
CATEGORIES:Bike Maraton,maraton MTB
ORGANIZER;CN="Grabek Promotion":MAILTO:biuro@bikemaraton.com.pl
END:VEVENT
BEGIN:VEVENT
DTSTART;VALUE=DATE:20210626
DTEND;VALUE=DATE:20210628
DTSTAMP:20260423T070552
CREATED:20210513T200025Z
LAST-MODIFIED:20210513T200025Z
UID:4227-1624665600-1624838399@dzkol.pl
SUMMARY:Mistrzostwa Szkółek Kolarskich
DESCRIPTION:
URL:https://dzkol.pl/kalendarz/mistrzostwa-szkolek-kolarskich/
LOCATION:Raszków
CATEGORIES:Mistrzostwa Polski Szkółek Kolarskich w MTB
END:VEVENT
END:VCALENDAR