BEGIN:VCALENDAR
VERSION:2.0
PRODID:-//Dolnośląski Związek Kolarski - ECPv6.15.20//NONSGML v1.0//EN
CALSCALE:GREGORIAN
METHOD:PUBLISH
X-WR-CALNAME:Dolnośląski Związek Kolarski
X-ORIGINAL-URL:https://dzkol.pl
X-WR-CALDESC:Wydarzenia dla Dolnośląski Związek Kolarski
REFRESH-INTERVAL;VALUE=DURATION:PT1H
X-Robots-Tag:noindex
X-PUBLISHED-TTL:PT1H
BEGIN:VTIMEZONE
TZID:Europe/Warsaw
BEGIN:DAYLIGHT
TZOFFSETFROM:+0100
TZOFFSETTO:+0200
TZNAME:CEST
DTSTART:20200329T010000
END:DAYLIGHT
BEGIN:STANDARD
TZOFFSETFROM:+0200
TZOFFSETTO:+0100
TZNAME:CET
DTSTART:20201025T010000
END:STANDARD
BEGIN:DAYLIGHT
TZOFFSETFROM:+0100
TZOFFSETTO:+0200
TZNAME:CEST
DTSTART:20210328T010000
END:DAYLIGHT
BEGIN:STANDARD
TZOFFSETFROM:+0200
TZOFFSETTO:+0100
TZNAME:CET
DTSTART:20211031T010000
END:STANDARD
BEGIN:DAYLIGHT
TZOFFSETFROM:+0100
TZOFFSETTO:+0200
TZNAME:CEST
DTSTART:20220327T010000
END:DAYLIGHT
BEGIN:STANDARD
TZOFFSETFROM:+0200
TZOFFSETTO:+0100
TZNAME:CET
DTSTART:20221030T010000
END:STANDARD
END:VTIMEZONE
BEGIN:VEVENT
DTSTART;VALUE=DATE:20210814
DTEND;VALUE=DATE:20210816
DTSTAMP:20260423T034228
CREATED:20210514T070600Z
LAST-MODIFIED:20210815T192919Z
UID:4279-1628899200-1629071999@dzkol.pl
SUMMARY:Sowiogórski Tour
DESCRIPTION:WYNIKI\n\n\n\n    \n        \n            \n            \n                20210814-15 : Sowiogórski Tour - Dzierżoniów-Przełęcz Woliborska-Ostroszowice - wyniki\n                 1 plik(i)  3.55 MB\n            \n            \n                Pobierz\n            \n        \n    \n\n\n\nREGULAMIN\n\n\n\n    \n        \n            \n            \n                20210814-15 : Sowiogórski Tour - Dzierżoniów-Przełęcz Woliborska-Ostroszowice - regulamin\n                 1 plik(i)  1.03 MB\n            \n            \n                Pobierz
URL:https://dzkol.pl/kalendarz/sowiogorski-tour-wyscig-kolarski-nadziei-olimpijskich-grupy-wyszehradzkiej/
LOCATION:Powiat Dzierżoniów
CATEGORIES:szosa
END:VEVENT
BEGIN:VEVENT
DTSTART;VALUE=DATE:20210815
DTEND;VALUE=DATE:20210816
DTSTAMP:20260423T034228
CREATED:20210514T071403Z
LAST-MODIFIED:20210627T104222Z
UID:4286-1628985600-1629071999@dzkol.pl
SUMMARY:Wyścig Kolarski - XX Memoriał Pawła Sosika
DESCRIPTION:REGULAMIN\n\n\n\n    \n        \n            \n        \n        \n            \n                20210815 : Wyścig Kolarski - Memoriał Pawła Sosika - Świebodzice - regulamin\n                \n                     605.54 KB\n                     205 downloads\n                \n            \n            ...\n        \n        \n            Pobierz
URL:https://dzkol.pl/kalendarz/xx-memorial-pawla-sosika/
LOCATION:Świebodzice
CATEGORIES:szosa
ORGANIZER;CN="LKKS G%C3%B3rnik Wa%C5%82brzych":MAILTO:lkks.g.w@wp.pl
END:VEVENT
BEGIN:VEVENT
DTSTART;VALUE=DATE:20210815
DTEND;VALUE=DATE:20210816
DTSTAMP:20260423T034228
CREATED:20210514T071633Z
LAST-MODIFIED:20210514T071633Z
UID:4288-1628985600-1629071999@dzkol.pl
SUMMARY:PKO Ubezpieczenia Via Dolny Śląsk „Szosowy Klasyk”
DESCRIPTION:
URL:https://dzkol.pl/kalendarz/pko-ubezpieczenia-via-dolny-slask-szosowy-klasyk-4/
LOCATION:Kowary
CATEGORIES:szosa,Via Dolny Śląsk
ORGANIZER;CN="Grabek Promotion":MAILTO:biuro@bikemaraton.com.pl
END:VEVENT
END:VCALENDAR