BEGIN:VCALENDAR
VERSION:2.0
PRODID:-//Dolnośląski Związek Kolarski - ECPv6.15.20//NONSGML v1.0//EN
CALSCALE:GREGORIAN
METHOD:PUBLISH
X-WR-CALNAME:Dolnośląski Związek Kolarski
X-ORIGINAL-URL:https://dzkol.pl
X-WR-CALDESC:Wydarzenia dla Dolnośląski Związek Kolarski
REFRESH-INTERVAL;VALUE=DURATION:PT1H
X-Robots-Tag:noindex
X-PUBLISHED-TTL:PT1H
BEGIN:VTIMEZONE
TZID:Europe/Warsaw
BEGIN:DAYLIGHT
TZOFFSETFROM:+0100
TZOFFSETTO:+0200
TZNAME:CEST
DTSTART:20200329T010000
END:DAYLIGHT
BEGIN:STANDARD
TZOFFSETFROM:+0200
TZOFFSETTO:+0100
TZNAME:CET
DTSTART:20201025T010000
END:STANDARD
BEGIN:DAYLIGHT
TZOFFSETFROM:+0100
TZOFFSETTO:+0200
TZNAME:CEST
DTSTART:20210328T010000
END:DAYLIGHT
BEGIN:STANDARD
TZOFFSETFROM:+0200
TZOFFSETTO:+0100
TZNAME:CET
DTSTART:20211031T010000
END:STANDARD
BEGIN:DAYLIGHT
TZOFFSETFROM:+0100
TZOFFSETTO:+0200
TZNAME:CEST
DTSTART:20220327T010000
END:DAYLIGHT
BEGIN:STANDARD
TZOFFSETFROM:+0200
TZOFFSETTO:+0100
TZNAME:CET
DTSTART:20221030T010000
END:STANDARD
END:VTIMEZONE
BEGIN:VEVENT
DTSTART;VALUE=DATE:20210919
DTEND;VALUE=DATE:20210920
DTSTAMP:20260423T015354
CREATED:20210506T055555Z
LAST-MODIFIED:20210903T104219Z
UID:4151-1632009600-1632095999@dzkol.pl
SUMMARY:Liga Szkółek Kolarskich - Dolny Śląsk 2021 - Jerzmanowa
DESCRIPTION:KOMUNIKAT ORGANIZACYJNY\n\n\n\n    \n        \n            \n            \n                20210919 : Liga Szkółek Kolarskich MTB - Dolny Śląsk 2021 - Jerzmanowa - komunikat organizacyjny\n                 1 plik(i)  347.60 KB\n            \n            \n                Pobierz\n            \n        \n    \n\n\n\nREGULAMIN\n\n\n\n    \n        \n            \n        \n        \n            \n                2021 : Liga Szkółek Kolarskich - Dolny Śląsk - regulamin\n                \n                     1.75 MB\n                     268 downloads\n                \n            \n            ...\n        \n        \n            Pobierz
URL:https://dzkol.pl/kalendarz/liga-szkolek-kolarskich-dolny-slask-2021-jerzmanowa/
LOCATION:Jerzmanowa\, Jerzmanowa\, dolnośląskie\, Polska
CATEGORIES:Liga Szkółek Kolarskich
ORGANIZER;CN="TC Chrobry G%C5%82og%C3%B3w":MAILTO:sbb200@wp.pl
END:VEVENT
BEGIN:VEVENT
DTSTART;VALUE=DATE:20210919
DTEND;VALUE=DATE:20210920
DTSTAMP:20260423T015354
CREATED:20210514T084925Z
LAST-MODIFIED:20210514T084925Z
UID:4330-1632009600-1632095999@dzkol.pl
SUMMARY:VIII Memoriał Stanisława Szozdy
DESCRIPTION:
URL:https://dzkol.pl/kalendarz/viii-memorial-stanislawa-szozdy/
LOCATION:Prudnik
CATEGORIES:szosa
END:VEVENT
END:VCALENDAR