BEGIN:VCALENDAR
VERSION:2.0
PRODID:-//Dolnośląski Związek Kolarski - ECPv6.15.20//NONSGML v1.0//EN
CALSCALE:GREGORIAN
METHOD:PUBLISH
X-ORIGINAL-URL:https://dzkol.pl
X-WR-CALDESC:Wydarzenia dla Dolnośląski Związek Kolarski
REFRESH-INTERVAL;VALUE=DURATION:PT1H
X-Robots-Tag:noindex
X-PUBLISHED-TTL:PT1H
BEGIN:VTIMEZONE
TZID:Europe/Warsaw
BEGIN:DAYLIGHT
TZOFFSETFROM:+0100
TZOFFSETTO:+0200
TZNAME:CEST
DTSTART:20210328T010000
END:DAYLIGHT
BEGIN:STANDARD
TZOFFSETFROM:+0200
TZOFFSETTO:+0100
TZNAME:CET
DTSTART:20211031T010000
END:STANDARD
BEGIN:DAYLIGHT
TZOFFSETFROM:+0100
TZOFFSETTO:+0200
TZNAME:CEST
DTSTART:20220327T010000
END:DAYLIGHT
BEGIN:STANDARD
TZOFFSETFROM:+0200
TZOFFSETTO:+0100
TZNAME:CET
DTSTART:20221030T010000
END:STANDARD
BEGIN:DAYLIGHT
TZOFFSETFROM:+0100
TZOFFSETTO:+0200
TZNAME:CEST
DTSTART:20230326T010000
END:DAYLIGHT
BEGIN:STANDARD
TZOFFSETFROM:+0200
TZOFFSETTO:+0100
TZNAME:CET
DTSTART:20231029T010000
END:STANDARD
END:VTIMEZONE
BEGIN:VEVENT
DTSTART;VALUE=DATE:20220423
DTEND;VALUE=DATE:20220424
DTSTAMP:20260422T134512
CREATED:20220412T141426Z
LAST-MODIFIED:20220412T141426Z
UID:4917-1650672000-1650758399@dzkol.pl
SUMMARY:Puchar Polski MTB (I seria). O Perłę Polskich Uzdrowisk - Krynica-Zdrój - UCI 3. Eliminacje OOM
DESCRIPTION:
URL:https://dzkol.pl/kalendarz/puchar-polski-mtb-i-seria-o-perle-polskich-uzdrowisk-krynica-zdroj-uci-3-eliminacje-oom/
LOCATION:Krynica-Zdrój\, Poland
CATEGORIES:EOOM,MTB,Puchar Polski,Puchar Polski MTB
ORGANIZER;CN="Fundacja Klub Kolarski Agieszka Skalniak":MAILTO:ania2163@op.pl
END:VEVENT
BEGIN:VEVENT
DTSTART;VALUE=DATE:20220423
DTEND;VALUE=DATE:20220425
DTSTAMP:20260422T134512
CREATED:20220412T141559Z
LAST-MODIFIED:20220412T141559Z
UID:4921-1650672000-1650844799@dzkol.pl
SUMMARY:Puchar Polski w kolarstwie szosowym (III seria) – jazda indywidualna na czas\, start wspólny
DESCRIPTION:
URL:https://dzkol.pl/kalendarz/puchar-polski-w-kolarstwie-szosowym-iii-seria-jazda-indywidualna-na-czas-start-wspolny/
LOCATION:Lubartów\, Poland
CATEGORIES:Puchar Polski,szosa
END:VEVENT
BEGIN:VEVENT
DTSTART;VALUE=DATE:20220423
DTEND;VALUE=DATE:20220424
DTSTAMP:20260422T134512
CREATED:20220412T141715Z
LAST-MODIFIED:20220412T141715Z
UID:4925-1650672000-1650758399@dzkol.pl
SUMMARY:Bike Maraton Miękinia
DESCRIPTION:
URL:https://dzkol.pl/kalendarz/bike-maraton-miekinia-3/
LOCATION:Miękinia
CATEGORIES:Bike Maraton,MTB
ORGANIZER;CN="Grabek Promotion":MAILTO:biuro@bikemaraton.com.pl
END:VEVENT
END:VCALENDAR