BEGIN:VCALENDAR
VERSION:2.0
PRODID:-//Dolnośląski Związek Kolarski - ECPv6.15.20//NONSGML v1.0//EN
CALSCALE:GREGORIAN
METHOD:PUBLISH
X-ORIGINAL-URL:https://dzkol.pl
X-WR-CALDESC:Wydarzenia dla Dolnośląski Związek Kolarski
REFRESH-INTERVAL;VALUE=DURATION:PT1H
X-Robots-Tag:noindex
X-PUBLISHED-TTL:PT1H
BEGIN:VTIMEZONE
TZID:Europe/Warsaw
BEGIN:DAYLIGHT
TZOFFSETFROM:+0100
TZOFFSETTO:+0200
TZNAME:CEST
DTSTART:20210328T010000
END:DAYLIGHT
BEGIN:STANDARD
TZOFFSETFROM:+0200
TZOFFSETTO:+0100
TZNAME:CET
DTSTART:20211031T010000
END:STANDARD
BEGIN:DAYLIGHT
TZOFFSETFROM:+0100
TZOFFSETTO:+0200
TZNAME:CEST
DTSTART:20220327T010000
END:DAYLIGHT
BEGIN:STANDARD
TZOFFSETFROM:+0200
TZOFFSETTO:+0100
TZNAME:CET
DTSTART:20221030T010000
END:STANDARD
BEGIN:DAYLIGHT
TZOFFSETFROM:+0100
TZOFFSETTO:+0200
TZNAME:CEST
DTSTART:20230326T010000
END:DAYLIGHT
BEGIN:STANDARD
TZOFFSETFROM:+0200
TZOFFSETTO:+0100
TZNAME:CET
DTSTART:20231029T010000
END:STANDARD
END:VTIMEZONE
BEGIN:VEVENT
DTSTART;VALUE=DATE:20220507
DTEND;VALUE=DATE:20220508
DTSTAMP:20260422T122240
CREATED:20220412T154448Z
LAST-MODIFIED:20220412T154448Z
UID:4946-1651881600-1651967999@dzkol.pl
SUMMARY:Bike Maraton Polanica Zdrój
DESCRIPTION:
URL:https://dzkol.pl/kalendarz/bike-maraton-polanica-zdroj-4/
LOCATION:Polanica Zdrój\, Polanica Zdrój\, Polska
CATEGORIES:Bike Maraton,maraton MTB
ORGANIZER;CN="Grabek Promotion":MAILTO:biuro@bikemaraton.com.pl
END:VEVENT
BEGIN:VEVENT
DTSTART;VALUE=DATE:20220507
DTEND;VALUE=DATE:20220508
DTSTAMP:20260422T122240
CREATED:20220412T154636Z
LAST-MODIFIED:20220509T082602Z
UID:4948-1651881600-1651967999@dzkol.pl
SUMMARY:Jaworska Pajda Chleba
DESCRIPTION:WYNIKI\n\n\n\n    \n        \n            \n            \n                20220507 : Jaworska Pajda Chleba - Jawor - wyniki\n                 1 plik(i)  267.85 KB\n            \n            \n                Pobierz\n            \n        \n    \n\n\n\nREGULAMIN\n\n\n\n    \n        \n            \n            \n                20220507 : Jaworska Pajda Chleba - Jawor - regulamin\n                 1 plik(i)  1.84 MB\n            \n            \n                Pobierz
URL:https://dzkol.pl/kalendarz/jaworska-pajda-chleba/
LOCATION:Jawor\, Poland
CATEGORIES:szosa
ORGANIZER;CN="Stowarzyszenie Grody Piastowskie Polkowice":MAILTO:contact@grody.com.pl
END:VEVENT
BEGIN:VEVENT
DTSTART;VALUE=DATE:20220507
DTEND;VALUE=DATE:20220509
DTSTAMP:20260422T122240
CREATED:20220412T162006Z
LAST-MODIFIED:20220412T162006Z
UID:4954-1651881600-1652054399@dzkol.pl
SUMMARY:Eliminacja do OOM\, PP w kolarstwie szosowym (IV seria) - jazda indywidualna na czas\, start wspólny
DESCRIPTION:
URL:https://dzkol.pl/kalendarz/eliminacja-do-oom-pp-w-kolarstwie-szosowym-iv-seria-jazda-indywidualna-na-czas-start-wspolny/
LOCATION:Gostyń\, Gostyń \, Polska
CATEGORIES:Puchar Polski,szosa
ORGANIZER;CN="KKS Gosty%C5%84":MAILTO:mintawaldemar@wp.pl
END:VEVENT
END:VCALENDAR