BEGIN:VCALENDAR
VERSION:2.0
PRODID:-//Dolnośląski Związek Kolarski - ECPv6.15.20//NONSGML v1.0//EN
CALSCALE:GREGORIAN
METHOD:PUBLISH
X-WR-CALNAME:Dolnośląski Związek Kolarski
X-ORIGINAL-URL:https://dzkol.pl
X-WR-CALDESC:Wydarzenia dla Dolnośląski Związek Kolarski
REFRESH-INTERVAL;VALUE=DURATION:PT1H
X-Robots-Tag:noindex
X-PUBLISHED-TTL:PT1H
BEGIN:VTIMEZONE
TZID:Europe/Warsaw
BEGIN:DAYLIGHT
TZOFFSETFROM:+0100
TZOFFSETTO:+0200
TZNAME:CEST
DTSTART:20210328T010000
END:DAYLIGHT
BEGIN:STANDARD
TZOFFSETFROM:+0200
TZOFFSETTO:+0100
TZNAME:CET
DTSTART:20211031T010000
END:STANDARD
BEGIN:DAYLIGHT
TZOFFSETFROM:+0100
TZOFFSETTO:+0200
TZNAME:CEST
DTSTART:20220327T010000
END:DAYLIGHT
BEGIN:STANDARD
TZOFFSETFROM:+0200
TZOFFSETTO:+0100
TZNAME:CET
DTSTART:20221030T010000
END:STANDARD
BEGIN:DAYLIGHT
TZOFFSETFROM:+0100
TZOFFSETTO:+0200
TZNAME:CEST
DTSTART:20230326T010000
END:DAYLIGHT
BEGIN:STANDARD
TZOFFSETFROM:+0200
TZOFFSETTO:+0100
TZNAME:CET
DTSTART:20231029T010000
END:STANDARD
END:VTIMEZONE
BEGIN:VEVENT
DTSTART;VALUE=DATE:20220507
DTEND;VALUE=DATE:20220509
DTSTAMP:20260422T115607
CREATED:20220412T162006Z
LAST-MODIFIED:20220412T162006Z
UID:4954-1651881600-1652054399@dzkol.pl
SUMMARY:Eliminacja do OOM\, PP w kolarstwie szosowym (IV seria) - jazda indywidualna na czas\, start wspólny
DESCRIPTION:
URL:https://dzkol.pl/kalendarz/eliminacja-do-oom-pp-w-kolarstwie-szosowym-iv-seria-jazda-indywidualna-na-czas-start-wspolny/
LOCATION:Gostyń\, Gostyń \, Polska
CATEGORIES:Puchar Polski,szosa
ORGANIZER;CN="KKS Gosty%C5%84":MAILTO:mintawaldemar@wp.pl
END:VEVENT
BEGIN:VEVENT
DTSTART;VALUE=DATE:20220508
DTEND;VALUE=DATE:20220509
DTSTAMP:20260422T115607
CREATED:20220412T154745Z
LAST-MODIFIED:20220509T082817Z
UID:4950-1651968000-1652054399@dzkol.pl
SUMMARY:Korona Gór Sowich
DESCRIPTION:WYNIKI\n\n\n\n    \n        \n            \n            \n                20220508 : Korona Gór Sowich - Nowa Ruda - wyniki\n                 1 plik(i)  177.10 KB\n            \n            \n                Pobierz\n            \n        \n    \n\n\n\nREGULAMIN\n\n\n\n    \n        \n            \n            \n                20220508 : Korona Gór Sowich - Nowa Ruda - regulamin\n                 1 plik(i)  1.67 MB\n            \n            \n                Pobierz
URL:https://dzkol.pl/kalendarz/korona-gor-sowich-2/
LOCATION:Nowa Ruda\, Nowa Ruda\, dolnośląskie\, Polska
CATEGORIES:szosa
ORGANIZER;CN="Stowarzyszenie Grody Piastowskie Polkowice":MAILTO:contact@grody.com.pl
END:VEVENT
END:VCALENDAR