BEGIN:VCALENDAR
VERSION:2.0
PRODID:-//Dolnośląski Związek Kolarski - ECPv6.15.20//NONSGML v1.0//EN
CALSCALE:GREGORIAN
METHOD:PUBLISH
X-ORIGINAL-URL:https://dzkol.pl
X-WR-CALDESC:Wydarzenia dla Dolnośląski Związek Kolarski
REFRESH-INTERVAL;VALUE=DURATION:PT1H
X-Robots-Tag:noindex
X-PUBLISHED-TTL:PT1H
BEGIN:VTIMEZONE
TZID:Europe/Warsaw
BEGIN:DAYLIGHT
TZOFFSETFROM:+0100
TZOFFSETTO:+0200
TZNAME:CEST
DTSTART:20210328T010000
END:DAYLIGHT
BEGIN:STANDARD
TZOFFSETFROM:+0200
TZOFFSETTO:+0100
TZNAME:CET
DTSTART:20211031T010000
END:STANDARD
BEGIN:DAYLIGHT
TZOFFSETFROM:+0100
TZOFFSETTO:+0200
TZNAME:CEST
DTSTART:20220327T010000
END:DAYLIGHT
BEGIN:STANDARD
TZOFFSETFROM:+0200
TZOFFSETTO:+0100
TZNAME:CET
DTSTART:20221030T010000
END:STANDARD
BEGIN:DAYLIGHT
TZOFFSETFROM:+0100
TZOFFSETTO:+0200
TZNAME:CEST
DTSTART:20230326T010000
END:DAYLIGHT
BEGIN:STANDARD
TZOFFSETFROM:+0200
TZOFFSETTO:+0100
TZNAME:CET
DTSTART:20231029T010000
END:STANDARD
END:VTIMEZONE
BEGIN:VEVENT
DTSTART;VALUE=DATE:20220521
DTEND;VALUE=DATE:20220523
DTSTAMP:20260422T115826
CREATED:20220412T163016Z
LAST-MODIFIED:20220428T105433Z
UID:4967-1653091200-1653263999@dzkol.pl
SUMMARY:Międzywojewódzkie Mistrzostwa Młodzików - jazda indywidualna na czas\, start wspólny
DESCRIPTION:REGULAMIN\n\n\n\n    \n        \n            \n            \n                20220521-22 : Międzywojewódzkie Mistrzostwa Młodziczek i Młodzików - ITT i start wspólny - Dobromierz - regulamin\n                 1 plik(i)  1.71 MB\n            \n            \n                Pobierz\n            \n        \n    \n\n\n\nKOMUNIKAT O ZMIANIE DŁUGOŚCI CZASÓWKI\n\n\n\n    \n        \n            \n            \n                20220521 : Międzywojewódzkie Mistrzostwa Młodziczek i Młodzików - ITT - zmiana długości trasy czasówki - komunikat organizacyjny\n                 1 plik(i)  613.37 KB\n            \n            \n                Pobierz\n            \n        \n    \n\n\n\n 
URL:https://dzkol.pl/kalendarz/miedzywojewodzkie-mistrzostwa-mlodzikow-jazda-indywidualna-na-czas-start-wspolny/
LOCATION:Dobromierz
CATEGORIES:Międzywojewódzkie Mistrzostwa Młodzików,szosa
ORGANIZER;CN="Stowarzyszenie Cyklist%C3%B3w Ziemi Wa%C5%82brzyskiej":MAILTO:mateusz.rosiak@interia.eu
END:VEVENT
BEGIN:VEVENT
DTSTART;VALUE=DATE:20220521
DTEND;VALUE=DATE:20220523
DTSTAMP:20260422T115826
CREATED:20220412T163219Z
LAST-MODIFIED:20220412T163219Z
UID:4969-1653091200-1653263999@dzkol.pl
SUMMARY:Puchar Polski w kolarstwie szosowym (V seria) – jazda indywidualna na czas\, start wspólny
DESCRIPTION:
URL:https://dzkol.pl/kalendarz/puchar-polski-w-kolarstwie-szosowym-v-seria-jazda-indywidualna-na-czas-start-wspolny/
LOCATION:Dobromierz
CATEGORIES:Puchar Polski,szosa
ORGANIZER;CN="Stowarzyszenie Cyklist%C3%B3w Ziemi Wa%C5%82brzyskiej":MAILTO:mateusz.rosiak@interia.eu
END:VEVENT
BEGIN:VEVENT
DTSTART;VALUE=DATE:20220521
DTEND;VALUE=DATE:20220522
DTSTAMP:20260422T115826
CREATED:20220412T163339Z
LAST-MODIFIED:20220412T163339Z
UID:4971-1653091200-1653177599@dzkol.pl
SUMMARY:Bike Maraton Złotoryja
DESCRIPTION:
URL:https://dzkol.pl/kalendarz/bike-maraton-zlotoryja/
LOCATION:Złotoryja\, Złotoryja\, Polska
CATEGORIES:Bike Maraton,maraton MTB
ORGANIZER;CN="Grabek Promotion":MAILTO:biuro@bikemaraton.com.pl
END:VEVENT
BEGIN:VEVENT
DTSTART;VALUE=DATE:20220521
DTEND;VALUE=DATE:20220524
DTSTAMP:20260422T115826
CREATED:20220412T163642Z
LAST-MODIFIED:20220412T163642Z
UID:4975-1653091200-1653350399@dzkol.pl
SUMMARY:Młodzieżowe Mistrzostwa Polski w kolarstwie torowym
DESCRIPTION:
URL:https://dzkol.pl/kalendarz/mlodziezowe-mistrzostwa-polski-w-kolarstwie-torowym-3/
LOCATION:Pruszków
CATEGORIES:Młodzieżowe Mistrzostwa Polski,tor
END:VEVENT
BEGIN:VEVENT
DTSTART;VALUE=DATE:20220521
DTEND;VALUE=DATE:20220523
DTSTAMP:20260422T115826
CREATED:20220412T163929Z
LAST-MODIFIED:20220412T163929Z
UID:4977-1653091200-1653263999@dzkol.pl
SUMMARY:Puchar Polski MTB (II seria) - Myślenice MTB XCO UCI 1. Eliminacje do OOM
DESCRIPTION:
URL:https://dzkol.pl/kalendarz/puchar-polski-mtb-ii-seria-myslenice-mtb-xco-uci-1-eliminacje-do-oom/
LOCATION:Myślenice\, Poland
CATEGORIES:MTB,Puchar Polski
END:VEVENT
END:VCALENDAR