BEGIN:VCALENDAR
VERSION:2.0
PRODID:-//Dolnośląski Związek Kolarski - ECPv6.15.20//NONSGML v1.0//EN
CALSCALE:GREGORIAN
METHOD:PUBLISH
X-WR-CALNAME:Dolnośląski Związek Kolarski
X-ORIGINAL-URL:https://dzkol.pl
X-WR-CALDESC:Wydarzenia dla Dolnośląski Związek Kolarski
REFRESH-INTERVAL;VALUE=DURATION:PT1H
X-Robots-Tag:noindex
X-PUBLISHED-TTL:PT1H
BEGIN:VTIMEZONE
TZID:Europe/Warsaw
BEGIN:DAYLIGHT
TZOFFSETFROM:+0100
TZOFFSETTO:+0200
TZNAME:CEST
DTSTART:20180325T010000
END:DAYLIGHT
BEGIN:STANDARD
TZOFFSETFROM:+0200
TZOFFSETTO:+0100
TZNAME:CET
DTSTART:20181028T010000
END:STANDARD
BEGIN:DAYLIGHT
TZOFFSETFROM:+0100
TZOFFSETTO:+0200
TZNAME:CEST
DTSTART:20190331T010000
END:DAYLIGHT
BEGIN:STANDARD
TZOFFSETFROM:+0200
TZOFFSETTO:+0100
TZNAME:CET
DTSTART:20191027T010000
END:STANDARD
BEGIN:DAYLIGHT
TZOFFSETFROM:+0100
TZOFFSETTO:+0200
TZNAME:CEST
DTSTART:20200329T010000
END:DAYLIGHT
BEGIN:STANDARD
TZOFFSETFROM:+0200
TZOFFSETTO:+0100
TZNAME:CET
DTSTART:20201025T010000
END:STANDARD
END:VTIMEZONE
BEGIN:VEVENT
DTSTART;VALUE=DATE:20190615
DTEND;VALUE=DATE:20190616
DTSTAMP:20260425T002440
CREATED:20190413T102537Z
LAST-MODIFIED:20190413T102537Z
UID:2336-1560556800-1560643199@dzkol.pl
SUMMARY:Liga MTB Aglomeracji Wałbrzyskiej - Wyścig #4 - Memoriał Adama Szczurowskiego
DESCRIPTION:
URL:https://dzkol.pl/kalendarz/liga-mtb-aglomeracji-walbrzyskiej-wyscig-4-memorial-adama-szczurowskiego/
LOCATION:Wałbrzych – Park Sobieskiego\, Lotników\, Wałbrzych\, dolnośląskie\, 58-301\, Polska
CATEGORIES:MTB,MTB XC
END:VEVENT
BEGIN:VEVENT
DTSTART;VALUE=DATE:20190615
DTEND;VALUE=DATE:20190616
DTSTAMP:20260425T002440
CREATED:20190413T102651Z
LAST-MODIFIED:20190413T102651Z
UID:2339-1560556800-1560643199@dzkol.pl
SUMMARY:Cykl wyścigów MTB - Wyścig #4 – Memoriał Adama Szczurowskiego
DESCRIPTION:
URL:https://dzkol.pl/kalendarz/cykl-wyscigow-mtb-wyscig-4-memorial-adama-szczurowskiego/
LOCATION:Wałbrzych – Park Sobieskiego\, Lotników\, Wałbrzych\, dolnośląskie\, 58-301\, Polska
CATEGORIES:MTB
END:VEVENT
BEGIN:VEVENT
DTSTART;VALUE=DATE:20190615
DTEND;VALUE=DATE:20190617
DTSTAMP:20260425T002440
CREATED:20190413T102917Z
LAST-MODIFIED:20190413T102917Z
UID:2341-1560556800-1560729599@dzkol.pl
SUMMARY:Puchar Polski\, Eliminacje do OOM
DESCRIPTION:
URL:https://dzkol.pl/kalendarz/puchar-polski-eliminacje-do-oom-2/
LOCATION:Wrocław – tor kolarski\, Żmigrodzka 243\, Wrocław\, dolnośląskie\, 51-117\, Polska
CATEGORIES:tor
ORGANIZER;CN="Dolno%C5%9Bl%C4%85ski Zwi%C4%85zek Kolarski":MAILTO:dzkol@dzkol.eu
END:VEVENT
BEGIN:VEVENT
DTSTART;VALUE=DATE:20190616
DTEND;VALUE=DATE:20190617
DTSTAMP:20260425T002440
CREATED:20190413T103032Z
LAST-MODIFIED:20190413T103032Z
UID:2344-1560643200-1560729599@dzkol.pl
SUMMARY:Jazda indywidualna na czas
DESCRIPTION:
URL:https://dzkol.pl/kalendarz/jazda-indywidualna-na-czas/
LOCATION:Lubomierz\, Lubomierz\, dolnośląskie\, Polska
CATEGORIES:szosa
END:VEVENT
BEGIN:VEVENT
DTSTART;VALUE=DATE:20190622
DTEND;VALUE=DATE:20190623
DTSTAMP:20260425T002440
CREATED:20190413T103300Z
LAST-MODIFIED:20190413T103300Z
UID:2346-1561161600-1561247999@dzkol.pl
SUMMARY:XXIX Międzynarodowy Wyścig Kolarski „Grand Prix Dolina Baryczy” Memoriał Grundmanna i Wizowskiego
DESCRIPTION:
URL:https://dzkol.pl/kalendarz/xxix-miedzynarodowy-wyscig-kolarski-grand-prix-dolina-baryczy-memorial-grundmanna-i-wizowskiego/
LOCATION:Milicz – Żmigród\, Milicz\, Polska
CATEGORIES:szosa
ORGANIZER;CN="Dolno%C5%9Bl%C4%85ski Zwi%C4%85zek Kolarski":MAILTO:dzkol@dzkol.eu
END:VEVENT
BEGIN:VEVENT
DTSTART;VALUE=DATE:20190622
DTEND;VALUE=DATE:20190623
DTSTAMP:20260425T002440
CREATED:20190413T103427Z
LAST-MODIFIED:20190413T103427Z
UID:2348-1561161600-1561247999@dzkol.pl
SUMMARY:Via Dolny Śląsk #Grand Prix Dolina Baryczy
DESCRIPTION:
URL:https://dzkol.pl/kalendarz/via-dolny-slask-grand-prix-dolina-baryczy/
LOCATION:Żmigród
CATEGORIES:szosa
ORGANIZER;CN="Dolno%C5%9Bl%C4%85ski Zwi%C4%85zek Kolarski":MAILTO:dzkol@dzkol.eu
END:VEVENT
BEGIN:VEVENT
DTSTART;VALUE=DATE:20190623
DTEND;VALUE=DATE:20190624
DTSTAMP:20260425T002440
CREATED:20190413T103635Z
LAST-MODIFIED:20190413T103635Z
UID:2350-1561248000-1561334399@dzkol.pl
SUMMARY:VII Międzynarodowy Wyścig Kolarski „Korona Kocich Gór”
DESCRIPTION:
URL:https://dzkol.pl/kalendarz/vii-miedzynarodowy-wyscig-kolarski-korona-kocich-gor/
LOCATION:Wielka Lipa-Skotniki
CATEGORIES:szosa
ORGANIZER;CN="Dolno%C5%9Bl%C4%85ski Zwi%C4%85zek Kolarski":MAILTO:dzkol@dzkol.eu
END:VEVENT
BEGIN:VEVENT
DTSTART;VALUE=DATE:20190623
DTEND;VALUE=DATE:20190624
DTSTAMP:20260425T002440
CREATED:20190413T103826Z
LAST-MODIFIED:20190413T103843Z
UID:2353-1561248000-1561334399@dzkol.pl
SUMMARY:Via Dolny Śląsk #„Korona Kocich Gór”
DESCRIPTION:  \n 
URL:https://dzkol.pl/kalendarz/via-dolny-slask-korona-kocich-gor/
LOCATION:Wielka Lipa-Skotniki
CATEGORIES:szosa
ORGANIZER;CN="Dolno%C5%9Bl%C4%85ski Zwi%C4%85zek Kolarski":MAILTO:dzkol@dzkol.eu
END:VEVENT
BEGIN:VEVENT
DTSTART;VALUE=DATE:20190623
DTEND;VALUE=DATE:20190624
DTSTAMP:20260425T002440
CREATED:20190413T104037Z
LAST-MODIFIED:20190413T104037Z
UID:2356-1561248000-1561334399@dzkol.pl
SUMMARY:Puchar Strefy MTB Sudety - Grand Prix Mieroszowa MTB
DESCRIPTION:
URL:https://dzkol.pl/kalendarz/puchar-strefy-mtb-sudety-grand-prix-mieroszowa-mtb/
LOCATION:Mieroszów\, dolnośląskie\, 58-350\, Polska
CATEGORIES:MTB
ORGANIZER;CN="Mieroszowskie Centrum Kultury":MAILTO:marika.sikora@mck.pl
END:VEVENT
BEGIN:VEVENT
DTSTART;VALUE=DATE:20190629
DTEND;VALUE=DATE:20190703
DTSTAMP:20260425T002440
CREATED:20190413T104148Z
LAST-MODIFIED:20190413T104211Z
UID:2358-1561766400-1562111999@dzkol.pl
SUMMARY:CryoSpace Bike Adventure Szklarska Poręba - UCI XCS2
DESCRIPTION:
URL:https://dzkol.pl/kalendarz/cryospace-bike-adventure-szklarska-poreba-uci-xcs2/
LOCATION:Szklarska Poręba
CATEGORIES:MTB XC
ORGANIZER;CN="Grabek Promotion":MAILTO:biuro@bikemaraton.com.pl
END:VEVENT
BEGIN:VEVENT
DTSTART;VALUE=DATE:20190706
DTEND;VALUE=DATE:20190707
DTSTAMP:20260425T002440
CREATED:20190413T223358Z
LAST-MODIFIED:20190413T223431Z
UID:2360-1562371200-1562457599@dzkol.pl
SUMMARY:Puchar Strefy MTB Sudety - Grand Prix Jodłownika MTB
DESCRIPTION:  \n 
URL:https://dzkol.pl/kalendarz/puchar-strefy-mtb-sudety-grand-prix-jodlownika-mtb-2/
LOCATION:Jodłownik\, Jodłownik\, dolnośląskie\, 58-262\, Polska
CATEGORIES:maraton MTB,MTB,MTB XC
ORGANIZER;CN="Gmina Dzier%C5%BConi%C3%B3w":MAILTO:a.wolniak@ug.dzierżoniow.pl
END:VEVENT
BEGIN:VEVENT
DTSTART;VALUE=DATE:20190706
DTEND;VALUE=DATE:20190707
DTSTAMP:20260425T002440
CREATED:20190413T223631Z
LAST-MODIFIED:20190413T223652Z
UID:2365-1562371200-1562457599@dzkol.pl
SUMMARY:Szukamy następców Olimpijczyka Tadeusza Mytnika
DESCRIPTION:
URL:https://dzkol.pl/kalendarz/szukamy-nastepcow-olimpijczyka-tadeusza-mytnika/
LOCATION:Nowice\, Nowice\, dolnośląskie\, Polska
CATEGORIES:szosa
ORGANIZER;CN="MKS %E2%80%9EKarolina%E2%80%9D Jaworzyna %C5%9Al%C4%85ska":MAILTO:kontakt@mkskarolina.com
END:VEVENT
BEGIN:VEVENT
DTSTART;VALUE=DATE:20190706
DTEND;VALUE=DATE:20190707
DTSTAMP:20260425T002440
CREATED:20190413T223756Z
LAST-MODIFIED:20190413T223756Z
UID:2368-1562371200-1562457599@dzkol.pl
SUMMARY:Bike Maraton #Szklarska-Poręba
DESCRIPTION:
URL:https://dzkol.pl/kalendarz/bike-maraton-szklarska-poreba-2/
LOCATION:Szklarska Poręba
CATEGORIES:maraton MTB,MTB
ORGANIZER;CN="Grabek Promotion":MAILTO:biuro@bikemaraton.com.pl
END:VEVENT
BEGIN:VEVENT
DTSTART;VALUE=DATE:20190707
DTEND;VALUE=DATE:20190708
DTSTAMP:20260425T002440
CREATED:20190413T223933Z
LAST-MODIFIED:20190413T223933Z
UID:2370-1562457600-1562543999@dzkol.pl
SUMMARY:Via Dolny Śląsk #Szosowy Klasyk Szklarska-Poręba
DESCRIPTION:
URL:https://dzkol.pl/kalendarz/via-dolny-slask-szosowy-klasyk-szklarska-poreba/
LOCATION:Szklarska Poręba
CATEGORIES:szosa
ORGANIZER;CN="Grabek Promotion":MAILTO:biuro@bikemaraton.com.pl
END:VEVENT
BEGIN:VEVENT
DTSTART;VALUE=DATE:20190713
DTEND;VALUE=DATE:20190714
DTSTAMP:20260425T002440
CREATED:20190413T224101Z
LAST-MODIFIED:20190413T224101Z
UID:2372-1562976000-1563062399@dzkol.pl
SUMMARY:Enduro MTB Series
DESCRIPTION:
URL:https://dzkol.pl/kalendarz/enduro-mtb-series/
LOCATION:Przesieka\, dolnośląskie\, Polska
CATEGORIES:MTB Enduro
ORGANIZER;CN="Active Group":MAILTO:EnduroMTBseries@gmail.com
END:VEVENT
BEGIN:VEVENT
DTSTART;VALUE=DATE:20190720
DTEND;VALUE=DATE:20190721
DTSTAMP:20260425T002440
CREATED:20190413T224202Z
LAST-MODIFIED:20190413T224202Z
UID:2374-1563580800-1563667199@dzkol.pl
SUMMARY:Bike Maraton #Bielawa
DESCRIPTION:
URL:https://dzkol.pl/kalendarz/bike-maraton-bielawa-2/
LOCATION:Bielawa
CATEGORIES:maraton MTB
ORGANIZER;CN="Grabek Promotion":MAILTO:biuro@bikemaraton.com.pl
END:VEVENT
BEGIN:VEVENT
DTSTART;VALUE=DATE:20190728
DTEND;VALUE=DATE:20190729
DTSTAMP:20260425T002440
CREATED:20190413T224328Z
LAST-MODIFIED:20190413T224328Z
UID:2376-1564272000-1564358399@dzkol.pl
SUMMARY:MMM Międzywojewódzkie Mistrzostwa Młodzików (k+m) MTB: Lubuskie\, Dolnośląskie\, Opolskie i Wielkopolskie
DESCRIPTION:
URL:https://dzkol.pl/kalendarz/mmm-miedzywojewodzkie-mistrzostwa-mlodzikow-km-mtb-lubuskie-dolnoslaskie-opolskie-i-wielkopolskie/
LOCATION:Gorzów Wielkopolski
CATEGORIES:Międzywojewódzki Mistrzostwa Młodzików,MTB
END:VEVENT
BEGIN:VEVENT
DTSTART;VALUE=DATE:20190728
DTEND;VALUE=DATE:20190729
DTSTAMP:20260425T002440
CREATED:20190413T224426Z
LAST-MODIFIED:20190413T224426Z
UID:2379-1564272000-1564358399@dzkol.pl
SUMMARY:Otwarte Mistrzostwa Dolnego Śląska w Maratonie MTB - Memoriał Artura Filipiaka
DESCRIPTION:
URL:https://dzkol.pl/kalendarz/otwarte-mistrzostwa-dolnego-slaska-w-maratonie-mtb-memorial-artura-filipiaka/
LOCATION:Duszniki Zdrój – Zieleniec\, Zieleniec\, dolnośląskie\, Polska
CATEGORIES:maraton MTB
ORGANIZER;CN="Stowarzyszenie Klub Kolarski Ziemi K%C5%82odzkiej":MAILTO:andrzejsmalec@op.pl
END:VEVENT
BEGIN:VEVENT
DTSTART;VALUE=DATE:20190803
DTEND;VALUE=DATE:20190805
DTSTAMP:20260425T002440
CREATED:20190413T224514Z
LAST-MODIFIED:20190413T224514Z
UID:2381-1564790400-1564963199@dzkol.pl
SUMMARY:Finał Ogólnopolskiej Olimpiady Młodzieży w kolarstwie MTB
DESCRIPTION:
URL:https://dzkol.pl/kalendarz/final-ogolnopolskiej-olimpiady-mlodziezy-w-kolarstwie-mtb/
LOCATION:Gorzów Wielkopolski
CATEGORIES:MTB
END:VEVENT
BEGIN:VEVENT
DTSTART;VALUE=DATE:20190803
DTEND;VALUE=DATE:20190804
DTSTAMP:20260425T002440
CREATED:20190413T224727Z
LAST-MODIFIED:20190413T224727Z
UID:2383-1564790400-1564876799@dzkol.pl
SUMMARY:Via Dolny Śląsk #Szosowy Klasyk Grodowiec
DESCRIPTION:
URL:https://dzkol.pl/kalendarz/via-dolny-slask-szosowy-klasyk-grodowiec-2/
LOCATION:Grodowiec\, Grodowiec\, dolnośląskie\, Polska
CATEGORIES:szosa,Via Dolny Śląsk
ORGANIZER;CN="Grabek Promotion":MAILTO:biuro@bikemaraton.com.pl
END:VEVENT
BEGIN:VEVENT
DTSTART;VALUE=DATE:20190803
DTEND;VALUE=DATE:20190804
DTSTAMP:20260425T002440
CREATED:20190413T224904Z
LAST-MODIFIED:20190413T224904Z
UID:2385-1564790400-1564876799@dzkol.pl
SUMMARY:Puchar Starosty Wałbrzyskiego
DESCRIPTION:
URL:https://dzkol.pl/kalendarz/puchar-starosty-walbrzyskiego/
LOCATION:Jaczków
CATEGORIES:szosa
END:VEVENT
BEGIN:VEVENT
DTSTART;VALUE=DATE:20190803
DTEND;VALUE=DATE:20190804
DTSTAMP:20260425T002440
CREATED:20190413T225029Z
LAST-MODIFIED:20190413T225029Z
UID:2388-1564790400-1564876799@dzkol.pl
SUMMARY:Liga Szkółek Kolarskich #Obiszów
DESCRIPTION:
URL:https://dzkol.pl/kalendarz/liga-szkolek-kolarskich-obiszow/
LOCATION:Obiszów
CATEGORIES:Liga Szkółek Kolarskich
ORGANIZER;CN="TC Chrobry G%C5%82og%C3%B3w":MAILTO:sbb200@wp.pl
END:VEVENT
BEGIN:VEVENT
DTSTART;VALUE=DATE:20190804
DTEND;VALUE=DATE:20190805
DTSTAMP:20260425T002440
CREATED:20190413T225122Z
LAST-MODIFIED:20190413T225122Z
UID:2390-1564876800-1564963199@dzkol.pl
SUMMARY:Bike Maraton #Obiszów
DESCRIPTION:
URL:https://dzkol.pl/kalendarz/bike-maraton-obiszow-2/
LOCATION:Obiszów
CATEGORIES:Bike Maraton,maraton MTB
ORGANIZER;CN="Grabek Promotion":MAILTO:biuro@bikemaraton.com.pl
END:VEVENT
BEGIN:VEVENT
DTSTART;VALUE=DATE:20190804
DTEND;VALUE=DATE:20190805
DTSTAMP:20260425T002440
CREATED:20190413T225210Z
LAST-MODIFIED:20190413T225210Z
UID:2392-1564876800-1564963199@dzkol.pl
SUMMARY:Kryterium Nowa Ruda\, II Eliminacja do Mistrzostw Polski w Kryterium
DESCRIPTION:
URL:https://dzkol.pl/kalendarz/kryterium-nowa-ruda-ii-eliminacja-do-mistrzostw-polski-w-kryterium/
LOCATION:Nowa Ruda\, Nowa Ruda\, dolnośląskie\, Polska
CATEGORIES:szosa
ORGANIZER;CN="UKS Centrum Nowa Ruda":MAILTO:lukasz_roznicki@vp.pl
END:VEVENT
BEGIN:VEVENT
DTSTART;VALUE=DATE:20190808
DTEND;VALUE=DATE:20190809
DTSTAMP:20260425T002440
CREATED:20190413T225349Z
LAST-MODIFIED:20190413T225349Z
UID:2394-1565222400-1565308799@dzkol.pl
SUMMARY:Złota Spinka Miasta Wałbrzych. Memoriał Janusza Wilczewskiego.\, Elita (K)\, Juniorki\, Juniorki Młodsze i Juniorzy Młodsi
DESCRIPTION:
URL:https://dzkol.pl/kalendarz/zlota-spinka-miasta-walbrzych-memorial-janusza-wilczewskiego-elita-k-juniorki-juniorki-mlodsze-i-juniorzy-mlodsi/
LOCATION:Wałbrzych
CATEGORIES:szosa
END:VEVENT
BEGIN:VEVENT
DTSTART;VALUE=DATE:20190809
DTEND;VALUE=DATE:20190810
DTSTAMP:20260425T002440
CREATED:20190413T225519Z
LAST-MODIFIED:20190413T225519Z
UID:2396-1565308800-1565395199@dzkol.pl
SUMMARY:Dolny Śląsk Tour - Skoda Auto Sudety: Wyścig Kolarski Kobiet\, Juniorek i Juniorów Młodszych - jazda indywidualna na czas
DESCRIPTION:
URL:https://dzkol.pl/kalendarz/dolny-slask-tour-skoda-auto-sudety-wyscig-kolarski-kobiet-juniorek-i-juniorow-mlodszych-jazda-indywidualna-na-czas/
LOCATION:Zagórze – Przełęcz Palczyk\, Zagórze\, dolnośląskie\, Polska
CATEGORIES:szosa
END:VEVENT
BEGIN:VEVENT
DTSTART;VALUE=DATE:20190809
DTEND;VALUE=DATE:20190810
DTSTAMP:20260425T002440
CREATED:20190413T225619Z
LAST-MODIFIED:20190413T225619Z
UID:2398-1565308800-1565395199@dzkol.pl
SUMMARY:Dolny Śląsk Tour - Skoda Auto Sudety: Wyścig Kolarski Kobiet\, Juniorek i Juniorów Młodszych - start wspólny
DESCRIPTION:
URL:https://dzkol.pl/kalendarz/dolny-slask-tour-skoda-auto-sudety-wyscig-kolarski-kobiet-juniorek-i-juniorow-mlodszych-start-wspolny/
LOCATION:Dobromierz
CATEGORIES:szosa
END:VEVENT
BEGIN:VEVENT
DTSTART;VALUE=DATE:20190810
DTEND;VALUE=DATE:20190811
DTSTAMP:20260425T002440
CREATED:20190413T225741Z
LAST-MODIFIED:20190413T225741Z
UID:2400-1565395200-1565481599@dzkol.pl
SUMMARY:Dolny Śląsk Tour – Skoda Auto Sudety: Wyścig Kolarski Kobiet\, Juniorek i Juniorów Młodszych - start wspólny
DESCRIPTION:
URL:https://dzkol.pl/kalendarz/dolny-slask-tour-skoda-auto-sudety-wyscig-kolarski-kobiet-juniorek-i-juniorow-mlodszych-start-wspolny-2/
LOCATION:Walim
CATEGORIES:Dolny Śląsk Tour,szosa
END:VEVENT
BEGIN:VEVENT
DTSTART;VALUE=DATE:20190811
DTEND;VALUE=DATE:20190812
DTSTAMP:20260425T002440
CREATED:20190413T225840Z
LAST-MODIFIED:20190413T225840Z
UID:2402-1565481600-1565567999@dzkol.pl
SUMMARY:Dolny Śląsk Tour – Skoda Auto Sudety: Wyścig Kolarski Kobiet\, Juniorek i Juniorów Młodszy - Memoriał Pawła Sosika\, start wspólny
DESCRIPTION:
URL:https://dzkol.pl/kalendarz/dolny-slask-tour-skoda-auto-sudety-wyscig-kolarski-kobiet-juniorek-i-juniorow-mlodszy-memorial-pawla-sosika-start-wspolny/
LOCATION:Dobromierz
CATEGORIES:Dolny Śląsk Tour,szosa
END:VEVENT
BEGIN:VEVENT
DTSTART;VALUE=DATE:20190811
DTEND;VALUE=DATE:20190812
DTSTAMP:20260425T002440
CREATED:20190413T230058Z
LAST-MODIFIED:20190413T230058Z
UID:2404-1565481600-1565567999@dzkol.pl
SUMMARY:Puchar Strefy MTB Sudety - Grand Prix Srebrnej Góry Muflon MTB
DESCRIPTION:
URL:https://dzkol.pl/kalendarz/puchar-strefy-mtb-sudety-grand-prix-srebrnej-gory-muflon-mtb/
LOCATION:Srebrna Góra
CATEGORIES:maraton MTB,MTB
ORGANIZER;CN="PM Bike Ekspert":MAILTO:biuro@strefamtbsudety.pl
END:VEVENT
END:VCALENDAR