BEGIN:VCALENDAR
VERSION:2.0
PRODID:-//Dolnośląski Związek Kolarski - ECPv6.15.20//NONSGML v1.0//EN
CALSCALE:GREGORIAN
METHOD:PUBLISH
X-WR-CALNAME:Dolnośląski Związek Kolarski
X-ORIGINAL-URL:https://dzkol.pl
X-WR-CALDESC:Wydarzenia dla Dolnośląski Związek Kolarski
REFRESH-INTERVAL;VALUE=DURATION:PT1H
X-Robots-Tag:noindex
X-PUBLISHED-TTL:PT1H
BEGIN:VTIMEZONE
TZID:Europe/Warsaw
BEGIN:DAYLIGHT
TZOFFSETFROM:+0100
TZOFFSETTO:+0200
TZNAME:CEST
DTSTART:20210328T010000
END:DAYLIGHT
BEGIN:STANDARD
TZOFFSETFROM:+0200
TZOFFSETTO:+0100
TZNAME:CET
DTSTART:20211031T010000
END:STANDARD
BEGIN:DAYLIGHT
TZOFFSETFROM:+0100
TZOFFSETTO:+0200
TZNAME:CEST
DTSTART:20220327T010000
END:DAYLIGHT
BEGIN:STANDARD
TZOFFSETFROM:+0200
TZOFFSETTO:+0100
TZNAME:CET
DTSTART:20221030T010000
END:STANDARD
BEGIN:DAYLIGHT
TZOFFSETFROM:+0100
TZOFFSETTO:+0200
TZNAME:CEST
DTSTART:20230326T010000
END:DAYLIGHT
BEGIN:STANDARD
TZOFFSETFROM:+0200
TZOFFSETTO:+0100
TZNAME:CET
DTSTART:20231029T010000
END:STANDARD
BEGIN:DAYLIGHT
TZOFFSETFROM:+0100
TZOFFSETTO:+0200
TZNAME:CEST
DTSTART:20240331T010000
END:DAYLIGHT
BEGIN:STANDARD
TZOFFSETFROM:+0200
TZOFFSETTO:+0100
TZNAME:CET
DTSTART:20241027T010000
END:STANDARD
END:VTIMEZONE
BEGIN:VEVENT
DTSTART;VALUE=DATE:20220820
DTEND;VALUE=DATE:20220821
DTSTAMP:20260422T104356
CREATED:20220420T200918Z
LAST-MODIFIED:20220822T150103Z
UID:5100-1660953600-1661039999@dzkol.pl
SUMMARY:Liga Szkółek Kolarskich MTB. O Puchar Burmistrza Miasta Chojnowa
DESCRIPTION:WYNIKI\n\n\n\n    \n        \n            \n            \n                20220820 : Liga Szkółek Kolarskich MTB - Dolny Śląsk 2022 - Chojnów - wyniki\n                 1 plik(i)  1.53 MB\n            \n            \n                Pobierz\n            \n        \n    \n\n\n\nREGULAMIN\n\n\n\n    \n        \n            \n            \n                2022 : Liga Szkółek Kolarskich - Dolny Śląsk 2022 - regulamin\n                 1 plik(i)  1.18 MB\n            \n            \n                Pobierz\n            \n        \n    \n\n\n\nKOMUNIKAT ORGANIZACYJNY\n\n\n\n    \n        \n            \n            \n                20220820 : Liga Szkółek Kolarskich MTB - Dolny Śląsk 2022 - Chojnów - komunikat organizacyjny\n                 1 plik(i)  823.95 KB\n            \n            \n                Pobierz
URL:https://dzkol.pl/kalendarz/liga-szkolek-kolarskich-mtb-o-puchar-burmistrza-miasta-chojnowa/
LOCATION:Chojnów\, Chojnów\, dolnośląskie\, Polska
CATEGORIES:Liga Szkółek Kolarskich
ORGANIZER;CN="TC Chrobry G%C5%82og%C3%B3w":MAILTO:sbb200@wp.pl
END:VEVENT
BEGIN:VEVENT
DTSTART;VALUE=DATE:20220821
DTEND;VALUE=DATE:20220822
DTSTAMP:20260422T104357
CREATED:20220420T201251Z
LAST-MODIFIED:20220420T201401Z
UID:5102-1661040000-1661126399@dzkol.pl
SUMMARY:Uphill Race Śnieżka
DESCRIPTION:
URL:https://dzkol.pl/kalendarz/uphill-race-sniezka-2/
LOCATION:Karpacz
CATEGORIES:Uphill
ORGANIZER;CN="Grabek Promotion":MAILTO:biuro@bikemaraton.com.pl
END:VEVENT
BEGIN:VEVENT
DTSTART;VALUE=DATE:20220826
DTEND;VALUE=DATE:20220829
DTSTAMP:20260422T104357
CREATED:20220420T201558Z
LAST-MODIFIED:20220420T201558Z
UID:5104-1661472000-1661731199@dzkol.pl
SUMMARY:Górskie Szosowe Mistrzostwa Polski
DESCRIPTION:
URL:https://dzkol.pl/kalendarz/gorskie-szosowe-mistrzostwa-polski-5/
LOCATION:Walim
CATEGORIES:Górskie Szosowe Mistrzostwa Polski,Mistrzostwa Polski,szosa
ORGANIZER;CN="Stowarzyszenie Cyklist%C3%B3w Ziemi Wa%C5%82brzyskiej":MAILTO:mateusz.rosiak@interia.eu
END:VEVENT
BEGIN:VEVENT
DTSTART;VALUE=DATE:20220826
DTEND;VALUE=DATE:20220829
DTSTAMP:20260422T104357
CREATED:20220420T201942Z
LAST-MODIFIED:20220420T201942Z
UID:5106-1661472000-1661731199@dzkol.pl
SUMMARY:Mistrzostwa Polski Enduro. Enduro Trails EWS Gold Qualifier
DESCRIPTION:
URL:https://dzkol.pl/kalendarz/mistrzostwa-polski-enduro-enduro-trails-ews-gold-qualifier/
LOCATION:Bielsko-Biała\, Szczyrk\, Poland
CATEGORIES:Enduro,Mistrzostwa Polski
END:VEVENT
BEGIN:VEVENT
DTSTART;VALUE=DATE:20220827
DTEND;VALUE=DATE:20220829
DTSTAMP:20260422T104357
CREATED:20220420T202126Z
LAST-MODIFIED:20220420T203123Z
UID:5112-1661558400-1661731199@dzkol.pl
SUMMARY:Mistrzostwa Polski. Racing Time Trial
DESCRIPTION:
URL:https://dzkol.pl/kalendarz/mistrzostwa-polski-racing-time-trial/
LOCATION:Lublin\, Lublin\, Polska
CATEGORIES:BMX,Mistrzostwa Polski
END:VEVENT
BEGIN:VEVENT
DTSTART;VALUE=DATE:20220903
DTEND;VALUE=DATE:20220904
DTSTAMP:20260422T104357
CREATED:20220420T202444Z
LAST-MODIFIED:20220810T111251Z
UID:5115-1662163200-1662249599@dzkol.pl
SUMMARY:Liga Szkółek Kolarskich MTB – Jakubów
DESCRIPTION:KOMUNIKAT ORGANIZACYJNY\n\n\n\n    \n        \n            \n            \n                20220903 : Liga Szkółek Kolarskich MTB - Dolny Śląsk 2022 - Jakubów - komunikat organizacyjny\n                 1 plik(i)  263.82 KB\n            \n            \n                Pobierz\n            \n        \n    \n\n\n\nREGULAMIN\n\n\n\n    \n        \n            \n            \n                2022 : Liga Szkółek Kolarskich - Dolny Śląsk 2022 - regulamin\n                 1 plik(i)  1.18 MB\n            \n            \n                Pobierz
URL:https://dzkol.pl/kalendarz/liga-szkolek-kolarskich-mtb-jakubow/
LOCATION:Jakubów\, Jakubów\, dolnośląskie\, 59-160\, Polska
CATEGORIES:Liga Szkółek Kolarskich
ORGANIZER;CN="TC Chrobry G%C5%82og%C3%B3w":MAILTO:sbb200@wp.pl
END:VEVENT
BEGIN:VEVENT
DTSTART;VALUE=DATE:20220903
DTEND;VALUE=DATE:20220904
DTSTAMP:20260422T104357
CREATED:20220420T203018Z
LAST-MODIFIED:20220420T203147Z
UID:5120-1662163200-1662249599@dzkol.pl
SUMMARY:X wyścig CyckloOpawy. Puchar Polski MTB (VI seria) – UCI 3
DESCRIPTION:
URL:https://dzkol.pl/kalendarz/x-wyscig-cyckloopawy-puchar-polski-mtb-vi-seria-uci-3/
LOCATION:Głuchołazy\, Głuchołazy\, opolskie\, Polska
CATEGORIES:MTB,Puchar Polski
ORGANIZER;CN="KTK Ktukol G%C5%82ucho%C5%82azy":MAILTO:elekkontakt@interia.pl
END:VEVENT
BEGIN:VEVENT
DTSTART;VALUE=DATE:20220903
DTEND;VALUE=DATE:20220905
DTSTAMP:20260422T104357
CREATED:20220420T203433Z
LAST-MODIFIED:20220420T203433Z
UID:5122-1662163200-1662335999@dzkol.pl
SUMMARY:Puchar Polski w kolarstwie szosowym (X seria) – jazda indywidualna na czas\, start wspólny
DESCRIPTION:
URL:https://dzkol.pl/kalendarz/puchar-polski-w-kolarstwie-szosowym-x-seria-jazda-indywidualna-na-czas-start-wspolny/
LOCATION:Koźminek\, Koźminek\, Polska
CATEGORIES:Puchar Polski,szosa
ORGANIZER;CN="UKS Ko%C5%BAminianka Ko%C5%BAminek":MAILTO:spkozminek@interia.pl
END:VEVENT
BEGIN:VEVENT
DTSTART;VALUE=DATE:20220903
DTEND;VALUE=DATE:20220905
DTSTAMP:20260422T104357
CREATED:20220421T122727Z
LAST-MODIFIED:20220421T122727Z
UID:5126-1662163200-1662335999@dzkol.pl
SUMMARY:East Cup (VIII seria)
DESCRIPTION:
URL:https://dzkol.pl/kalendarz/east-cup-viii-seria/
LOCATION:Dzierżoniów\, Dzierżoniów\, dolnośląskie\, Polska
CATEGORIES:BMX
END:VEVENT
BEGIN:VEVENT
DTSTART;VALUE=DATE:20220904
DTEND;VALUE=DATE:20220905
DTSTAMP:20260422T104357
CREATED:20220421T123018Z
LAST-MODIFIED:20220421T123018Z
UID:5128-1662249600-1662335999@dzkol.pl
SUMMARY:PKO Ubezpieczenia Via Dolny Śląsk „Grand Prix Sport Center Factory”
DESCRIPTION:
URL:https://dzkol.pl/kalendarz/pko-ubezpieczenia-via-dolny-slask-grand-prix-sport-center-factory-2/
LOCATION:Świdnica
CATEGORIES:Via Dolny Śląsk
ORGANIZER;CN="%C5%9Al%C4%99%C5%BCa Sob%C3%B3tka Bike Academy":MAILTO:kssleza@gmail.com
END:VEVENT
BEGIN:VEVENT
DTSTART;VALUE=DATE:20220910
DTEND;VALUE=DATE:20220912
DTSTAMP:20260422T104357
CREATED:20220421T123336Z
LAST-MODIFIED:20220421T123336Z
UID:5130-1662768000-1662940799@dzkol.pl
SUMMARY:Międzywojewódzkie Mistrzostwa Młodzików w kolarstwie torowym: Dolnośląskie\, Lubuskie\, Opolskie\, Wielkopolskie
DESCRIPTION:
URL:https://dzkol.pl/kalendarz/miedzywojewodzkie-mistrzostwa-mlodzikow-w-kolarstwie-torowym-dolnoslaskie-lubuskie-opolskie-wielkopolskie/
LOCATION:Kalisz
CATEGORIES:Międzywojewódzkie Mistrzostwa Młodzików,tor
END:VEVENT
BEGIN:VEVENT
DTSTART;VALUE=DATE:20220910
DTEND;VALUE=DATE:20220911
DTSTAMP:20260422T104357
CREATED:20220421T123640Z
LAST-MODIFIED:20220421T123640Z
UID:5132-1662768000-1662854399@dzkol.pl
SUMMARY:Mistrzostwa Polski w BMX Freestyle
DESCRIPTION:
URL:https://dzkol.pl/kalendarz/mistrzostwa-polski-w-bmx-freestyle/
LOCATION:Białystok\, Białystok\, Polska
CATEGORIES:BMX,Mistrzostwa Polski
END:VEVENT
BEGIN:VEVENT
DTSTART;VALUE=DATE:20220910
DTEND;VALUE=DATE:20220911
DTSTAMP:20260422T104357
CREATED:20220421T123823Z
LAST-MODIFIED:20220913T202351Z
UID:5135-1662768000-1662854399@dzkol.pl
SUMMARY:Liga Szkółek Kolarskich MTB – Jerzmanowa
DESCRIPTION:WYNIKI\n\n\n\n    \n        \n            \n            \n                20220910 : Liga Szkółek Kolarskich MTB - Dolny Śląsk 2022 - Jerzmanowa - wyniki\n                 1 plik(i)  1.08 MB\n            \n            \n                Pobierz\n            \n        \n    \n\n\n\nKOMUNIKAT ORGANIZACYJNY\n\n\n\n    \n        \n            \n            \n                20220910 : Liga Szkółek Kolarskich MTB - Dolny Śląsk 2022 - Jerzmanowa - komunikat organizacyjny\n                 1 plik(i)  366.12 KB\n            \n            \n                Pobierz\n            \n        \n    \n\n\n\nREGULAMIN\n\n\n\n    \n        \n            \n            \n                2022 : Liga Szkółek Kolarskich - Dolny Śląsk 2022 - regulamin\n                 1 plik(i)  1.18 MB\n            \n            \n                Pobierz
URL:https://dzkol.pl/kalendarz/liga-szkolek-kolarskich-mtb-jerzmanowa/
LOCATION:Jerzmanowa\, Jerzmanowa\, dolnośląskie\, Polska
CATEGORIES:Liga Szkółek Kolarskich
ORGANIZER;CN="TC Chrobry G%C5%82og%C3%B3w":MAILTO:sbb200@wp.pl
END:VEVENT
BEGIN:VEVENT
DTSTART;VALUE=DATE:20220910
DTEND;VALUE=DATE:20220911
DTSTAMP:20260422T104357
CREATED:20220421T124236Z
LAST-MODIFIED:20220421T124236Z
UID:5137-1662768000-1662854399@dzkol.pl
SUMMARY:Mistrzostwa Polski w Maratonie MTB – Maraton Bardo
DESCRIPTION:
URL:https://dzkol.pl/kalendarz/mistrzostwa-polski-w-maratonie-mtb-maraton-bardo/
LOCATION:Bardo\, Bardo\, Polska
CATEGORIES:Mistrzostwa Polski,MTB
ORGANIZER;CN="Grabek Promotion":MAILTO:biuro@bikemaraton.com.pl
END:VEVENT
BEGIN:VEVENT
DTSTART;VALUE=DATE:20220910
DTEND;VALUE=DATE:20220912
DTSTAMP:20260422T104357
CREATED:20220422T171118Z
LAST-MODIFIED:20220422T171118Z
UID:5139-1662768000-1662940799@dzkol.pl
SUMMARY:Mistrzostwa Polski Szkółek Kolarskich w kolarstwie MTB
DESCRIPTION:
URL:https://dzkol.pl/kalendarz/mistrzostwa-polski-szkolek-kolarskich-w-kolarstwie-mtb-2/
LOCATION:Żerków\, Wielkopolskie\, Poland
CATEGORIES:Mistrzostwa Polski Szkółek Kolarskich w MTB
END:VEVENT
BEGIN:VEVENT
DTSTART;VALUE=DATE:20220916
DTEND;VALUE=DATE:20220919
DTSTAMP:20260422T104357
CREATED:20220422T171601Z
LAST-MODIFIED:20220422T171601Z
UID:5144-1663286400-1663545599@dzkol.pl
SUMMARY:Mistrzostwa Polski elity w kolarstwie torowym i konkurencje nieolimpijskie (junior młodszy)
DESCRIPTION:
URL:https://dzkol.pl/kalendarz/mistrzostwa-polski-elity-w-kolarstwie-torowym-i-konkurencje-nieolimpijskie-junior-mlodszy/
LOCATION:Pruszków
CATEGORIES:Mistrzostwa Polski,tor
END:VEVENT
BEGIN:VEVENT
DTSTART;VALUE=DATE:20220917
DTEND;VALUE=DATE:20220918
DTSTAMP:20260422T104357
CREATED:20220422T172237Z
LAST-MODIFIED:20220919T151929Z
UID:5146-1663372800-1663459199@dzkol.pl
SUMMARY:Liga Szkółek Kolarskich MTB – Wilków
DESCRIPTION:WYNIKI\n\n\n\n    \n        \n            \n            \n                20220917 : Liga Szkółek Kolarskich MTB - Dolny Śląsk 2022 - Wilków - wyniki\n                 1 plik(i)  1.08 MB\n            \n            \n                Pobierz\n            \n        \n    \n\n\n\nKOMUNIKAT ORGANIZACYJNY\n\n\n\n    \n        \n            \n            \n                20220917 : Liga Szkółek Kolarskich MTB - Dolny Śląsk 2022 - Wilków - komunikat organizacyjny\n                 1 plik(i)  325.60 KB\n            \n            \n                Pobierz\n            \n        \n    \n\n\n\nREGULAMIN\n\n\n\n    \n        \n            \n            \n                2022 : Liga Szkółek Kolarskich - Dolny Śląsk 2022 - regulamin\n                 1 plik(i)  1.18 MB\n            \n            \n                Pobierz
URL:https://dzkol.pl/kalendarz/liga-szkolek-kolarskich-mtb-szczyglice/
LOCATION:Szczyglice\, Dolnośląskie\, Poland
CATEGORIES:Liga Szkółek Kolarskich
ORGANIZER;CN="TC Chrobry G%C5%82og%C3%B3w":MAILTO:sbb200@wp.pl
END:VEVENT
BEGIN:VEVENT
DTSTART;VALUE=DATE:20220917
DTEND;VALUE=DATE:20220918
DTSTAMP:20260422T104357
CREATED:20220422T172804Z
LAST-MODIFIED:20220422T172804Z
UID:5151-1663372800-1663459199@dzkol.pl
SUMMARY:Bike Maraton Świeradów-Zdrój
DESCRIPTION:
URL:https://dzkol.pl/kalendarz/bike-maraton-swieradow-zdroj-4/
LOCATION:Świeradów-Zdrój
CATEGORIES:Bike Maraton
ORGANIZER;CN="Grabek Promotion":MAILTO:biuro@bikemaraton.com.pl
END:VEVENT
BEGIN:VEVENT
DTSTART;VALUE=DATE:20220918
DTEND;VALUE=DATE:20220919
DTSTAMP:20260422T104357
CREATED:20220422T172524Z
LAST-MODIFIED:20220913T203418Z
UID:5149-1663459200-1663545599@dzkol.pl
SUMMARY:Liga MTB XC Aglomeracji Wałbrzyskiej – wyścig nr 7 – Dobromierz
DESCRIPTION:KOMUNIKAT ORGANIZACYJNY\n\n\n\n    \n        \n            \n            \n                2022-09-18 Liga MTB XC Aglomeracji Wałbrzyskiej - Dobromierz - komunikat organizacyjny\n                 1 plik(i)  461.98 KB\n            \n            \n                Pobierz\n            \n        \n    \n\n\n\nREGULAMIN\n\n\n\n    \n        \n            \n            \n                2022 : Liga MTB Aglomeracji Wałbrzyskiej - VII edycja - regulamin\n                 1 plik(i)  1.60 MB\n            \n            \n                Pobierz
URL:https://dzkol.pl/kalendarz/ligi-mtb-xc-aglomeracji-walbrzyskiej-wyscig-nr-7-dobromierz/
LOCATION:Dobromierz
CATEGORIES:Liga MTB Aglomeracji Wałbrzyskiej
ORGANIZER;CN="Stowarzyszenie Cyklist%C3%B3w Ziemi Wa%C5%82brzyskiej":MAILTO:mateusz.rosiak@interia.eu
END:VEVENT
BEGIN:VEVENT
DTSTART;VALUE=DATE:20220918
DTEND;VALUE=DATE:20220919
DTSTAMP:20260422T104357
CREATED:20220426T204011Z
LAST-MODIFIED:20220426T204023Z
UID:5159-1663459200-1663545599@dzkol.pl
SUMMARY:Puchar Polski (VII seria) – Wiśniowiec MTB XCO Race UCI 3
DESCRIPTION:
URL:https://dzkol.pl/kalendarz/puchar-polski-vii-seria-wisniowiec-mtb-xco-race-uci-3/
LOCATION:Rybnik\, Poland
CATEGORIES:MTB,Puchar Polski
END:VEVENT
BEGIN:VEVENT
DTSTART;VALUE=DATE:20220918
DTEND;VALUE=DATE:20220919
DTSTAMP:20260422T104357
CREATED:20220426T204241Z
LAST-MODIFIED:20220426T204241Z
UID:5163-1663459200-1663545599@dzkol.pl
SUMMARY:IX Memoriał Stanisława Szozdy – kryterium uliczne
DESCRIPTION:
URL:https://dzkol.pl/kalendarz/ix-memorial-stanislawa-szozdy-kryterium-uliczne/
LOCATION:Prudnik
CATEGORIES:kryterium,szosa
END:VEVENT
BEGIN:VEVENT
DTSTART;VALUE=DATE:20220924
DTEND;VALUE=DATE:20220925
DTSTAMP:20260422T104357
CREATED:20220426T204837Z
LAST-MODIFIED:20220914T083644Z
UID:5166-1663977600-1664063999@dzkol.pl
SUMMARY:Liga MTB XC Aglomeracji Wałbrzyskiej – wyścig nr 8 – Szczawno-Zdrój
DESCRIPTION:KOMUNIKAT ORGANIZACYJNY\n\n\n\n    \n        \n            \n            \n                20220924 : Liga MTB XC Aglomeracji Wałbrzyskiej - finał - Szczawno-Zdrój - komunikat organizacyjny\n                 1 plik(i)  171.43 KB\n            \n            \n                Pobierz\n            \n        \n    \n\n\n\nREGULAMIN\n\n\n\n    \n        \n            \n            \n                2022 : Liga MTB Aglomeracji Wałbrzyskiej - VII edycja - regulamin\n                 1 plik(i)  1.60 MB\n            \n            \n                Pobierz
URL:https://dzkol.pl/kalendarz/liga-mtb-xc-aglomeracji-walbrzyskiej-wyscig-nr-8-szczawno-zdroj-2/
LOCATION:Szczawno Zdrój\, Szczawno Zdrój\, Polska
CATEGORIES:Liga MTB Aglomeracji Wałbrzyskiej
ORGANIZER;CN="Stowarzyszenie Cyklist%C3%B3w Ziemi Wa%C5%82brzyskiej":MAILTO:mateusz.rosiak@interia.eu
END:VEVENT
BEGIN:VEVENT
DTSTART;VALUE=DATE:20221001
DTEND;VALUE=DATE:20221003
DTSTAMP:20260422T104357
CREATED:20220426T205155Z
LAST-MODIFIED:20220426T205155Z
UID:5168-1664582400-1664755199@dzkol.pl
SUMMARY:Mistrzostwa Polski – Jazda na czas dwójek i drużyn
DESCRIPTION:
URL:https://dzkol.pl/kalendarz/mistrzostwa-polski-jazda-na-czas-dwojek-i-druzyn/
LOCATION:Godziesze Wielkie\, Godziesze Wielkie\, Polska
CATEGORIES:Mistrzostwa Polski,szosa
ORGANIZER;CN="Kaliskie Towarzystwo Kolarskie":MAILTO:ktk.kalisz.pl
END:VEVENT
BEGIN:VEVENT
DTSTART;VALUE=DATE:20221008
DTEND;VALUE=DATE:20221009
DTSTAMP:20260422T104357
CREATED:20220426T205305Z
LAST-MODIFIED:20220426T205305Z
UID:5170-1665187200-1665273599@dzkol.pl
SUMMARY:Bike Maraton Sobótka
DESCRIPTION:
URL:https://dzkol.pl/kalendarz/bike-maraton-sobotka-3/
LOCATION:Sobótka
CATEGORIES:Bike Maraton,MTB
ORGANIZER;CN="Grabek Promotion":MAILTO:biuro@bikemaraton.com.pl
END:VEVENT
BEGIN:VEVENT
DTSTART;VALUE=DATE:20221009
DTEND;VALUE=DATE:20221010
DTSTAMP:20260422T104357
CREATED:20220426T205359Z
LAST-MODIFIED:20220909T212507Z
UID:5172-1665273600-1665359999@dzkol.pl
SUMMARY:„Runda Spadających Liści” Finał Sezonu 2022
DESCRIPTION:REGULAMIN\n\n\n\n    \n        \n            \n            \n                20221009 : Korona Kocich Gór - Memoriał Kornela Morawieckiego - Runda Spadających Liści - Sobótka - regulamin\n                 1 plik(i)  2.15 MB\n            \n            \n                Pobierz
URL:https://dzkol.pl/kalendarz/runda-spadajacych-lisci-final-sezonu-2022/
LOCATION:Sobótka
CATEGORIES:szosa
ORGANIZER;CN="%C5%9Al%C4%99%C5%BCa Sob%C3%B3tka Bike Academy":MAILTO:kssleza@gmail.com
END:VEVENT
BEGIN:VEVENT
DTSTART;VALUE=DATE:20221009
DTEND;VALUE=DATE:20221010
DTSTAMP:20260422T104357
CREATED:20220426T205626Z
LAST-MODIFIED:20220426T205626Z
UID:5174-1665273600-1665359999@dzkol.pl
SUMMARY:PKO Ubezpieczenia Via Dolny Śląsk „Runda Spadających Liści” Finał Sezonu 2022
DESCRIPTION:
URL:https://dzkol.pl/kalendarz/pko-ubezpieczenia-via-dolny-slask-runda-spadajacych-lisci-final-sezonu-2022/
LOCATION:Sobótka
CATEGORIES:Via Dolny Śląsk
ORGANIZER;CN="%C5%9Al%C4%99%C5%BCa Sob%C3%B3tka Bike Academy":MAILTO:kssleza@gmail.com
END:VEVENT
BEGIN:VEVENT
DTSTART;VALUE=DATE:20221009
DTEND;VALUE=DATE:20221010
DTSTAMP:20260422T104357
CREATED:20220823T100130Z
LAST-MODIFIED:20220909T212533Z
UID:5442-1665273600-1665359999@dzkol.pl
SUMMARY:X Wyścig Kolarski Korona Kocich Gór - Memoriał im. Kornela Morawieckiego\, 40. Lat Solidarności Walczącej
DESCRIPTION:REGULAMIN\n\n\n\n    \n        \n            \n            \n                20221009 : Korona Kocich Gór - Memoriał Kornela Morawieckiego - Runda Spadających Liści - Sobótka - regulamin\n                 1 plik(i)  2.15 MB\n            \n            \n                Pobierz
URL:https://dzkol.pl/kalendarz/x-wyscig-kolarski-korona-kocich-gor-memorial-im-kornela-morawieckiego-40-lat-solidarnosci-walczacej/
LOCATION:Sobótka
CATEGORIES:szosa
END:VEVENT
BEGIN:VEVENT
DTSTART;VALUE=DATE:20221014
DTEND;VALUE=DATE:20221017
DTSTAMP:20260422T104357
CREATED:20220426T205904Z
LAST-MODIFIED:20220426T205904Z
UID:5176-1665705600-1665964799@dzkol.pl
SUMMARY:Mistrzostwa Polski w kolarstwie torowym i konkurencje nieolimpijskie U23 i junior
DESCRIPTION:
URL:https://dzkol.pl/kalendarz/mistrzostwa-polski-w-kolarstwie-torowym-i-konkurencje-nieolimpijskie-u23-i-junior/
LOCATION:Pruszków
CATEGORIES:tor
END:VEVENT
BEGIN:VEVENT
DTSTART;VALUE=DATE:20221203
DTEND;VALUE=DATE:20221205
DTSTAMP:20260422T104357
CREATED:20220426T210028Z
LAST-MODIFIED:20220426T210028Z
UID:5178-1670025600-1670198399@dzkol.pl
SUMMARY:Mistrzostwa Polski Szkółek Kolarskich w kolarstwie torowym\, klasy IV-VIII
DESCRIPTION:
URL:https://dzkol.pl/kalendarz/mistrzostwa-polski-szkolek-kolarskich-w-kolarstwie-torowym-klasy-iv-viii/
LOCATION:Pruszków
CATEGORIES:Mistrzostwa Polski Szkółek Kolarskich w kolarstwie torowym
END:VEVENT
BEGIN:VEVENT
DTSTART;VALUE=DATE:20230812
DTEND;VALUE=DATE:20230814
DTSTAMP:20260422T104357
CREATED:20230727T142157Z
LAST-MODIFIED:20230727T142157Z
UID:5669-1691798400-1691971199@dzkol.pl
SUMMARY:Sowiogórski Tour
DESCRIPTION:
URL:https://dzkol.pl/kalendarz/sowiogorski-tour-2/
LOCATION:Ostroszowice
END:VEVENT
END:VCALENDAR