BEGIN:VCALENDAR
VERSION:2.0
PRODID:-//Dolnośląski Związek Kolarski - ECPv6.15.20//NONSGML v1.0//EN
CALSCALE:GREGORIAN
METHOD:PUBLISH
X-ORIGINAL-URL:https://dzkol.pl
X-WR-CALDESC:Wydarzenia dla Dolnośląski Związek Kolarski
REFRESH-INTERVAL;VALUE=DURATION:PT1H
X-Robots-Tag:noindex
X-PUBLISHED-TTL:PT1H
BEGIN:VTIMEZONE
TZID:Europe/Warsaw
BEGIN:DAYLIGHT
TZOFFSETFROM:+0100
TZOFFSETTO:+0200
TZNAME:CEST
DTSTART:20180325T010000
END:DAYLIGHT
BEGIN:STANDARD
TZOFFSETFROM:+0200
TZOFFSETTO:+0100
TZNAME:CET
DTSTART:20181028T010000
END:STANDARD
BEGIN:DAYLIGHT
TZOFFSETFROM:+0100
TZOFFSETTO:+0200
TZNAME:CEST
DTSTART:20190331T010000
END:DAYLIGHT
BEGIN:STANDARD
TZOFFSETFROM:+0200
TZOFFSETTO:+0100
TZNAME:CET
DTSTART:20191027T010000
END:STANDARD
BEGIN:DAYLIGHT
TZOFFSETFROM:+0100
TZOFFSETTO:+0200
TZNAME:CEST
DTSTART:20200329T010000
END:DAYLIGHT
BEGIN:STANDARD
TZOFFSETFROM:+0200
TZOFFSETTO:+0100
TZNAME:CET
DTSTART:20201025T010000
END:STANDARD
END:VTIMEZONE
BEGIN:VEVENT
DTSTART;VALUE=DATE:20190309
DTEND;VALUE=DATE:20190310
DTSTAMP:20260425T154811
CREATED:20190226T071825Z
LAST-MODIFIED:20190226T072152Z
UID:2189-1552089600-1552175999@dzkol.pl
SUMMARY:X Jubileuszowy Puchar Piastów Śląskich:  Mistrzostwa Dolnego Śląska kolarstwie przełajowym
DESCRIPTION:I-edycja: XIII Puchar Prezydenta Jeleniej Góry \n\n\n\n    \n        \n            \n            \n                20190309-10 : X Jubileuszowy Puchar Piastów Śląskich - Mistrzostwa Dolnego Śląska w kolarstwie przełajowym - Jelenia Góra - regulamin\n                 1 plik(i)  271.27 KB\n            \n            \n                Pobierz\n            \n        \n    \n\n\n\n 
URL:https://dzkol.pl/kalendarz/x-jubileuszowy-puchar-piastow-slaskich-mistrzostwa-dolnego-slaska-kolarstwie-przelajowym/
LOCATION:Jelenia Góra\, Jelenia Góra\, Polska
CATEGORIES:Mistrzostwa Dolnego Śląska,przełaj
ORGANIZER;CN="Karkonoskie Stowarzyszenie Cyklist%C3%B3w":MAILTO:wiesio_k@op.pl
END:VEVENT
BEGIN:VEVENT
DTSTART;VALUE=DATE:20190310
DTEND;VALUE=DATE:20190311
DTSTAMP:20260425T154811
CREATED:20190226T071949Z
LAST-MODIFIED:20190226T071949Z
UID:2191-1552176000-1552262399@dzkol.pl
SUMMARY:X Jubileuszowy Puchar Piastów Śląskich: VII Puchar Questsport i  XVII Memoriał Jana Kozłowskiego
DESCRIPTION:II-edycja: VII Puchar Questsport i XVII Memoriał Jana Kozłowskieg
URL:https://dzkol.pl/kalendarz/x-jubileuszowy-puchar-piastow-slaskich-vii-puchar-questsport-i-xvii-memorial-jana-kozlowskiego/
LOCATION:Jelenia Góra\, Jelenia Góra\, Polska
CATEGORIES:przełaj
ORGANIZER;CN="Karkonoskie Stowarzyszenie Cyklist%C3%B3w":MAILTO:wiesio_k@op.pl
END:VEVENT
BEGIN:VEVENT
DTSTART;VALUE=DATE:20190406
DTEND;VALUE=DATE:20190407
DTSTAMP:20260425T154811
CREATED:20190226T072343Z
LAST-MODIFIED:20190226T072343Z
UID:2195-1554508800-1554595199@dzkol.pl
SUMMARY:Międzynarodowe Kryterium Kolarskie Dzierżoniów 2019. Eliminacja do Mistrzostw Polski w Kryterium
DESCRIPTION:
URL:https://dzkol.pl/kalendarz/miedzynarodowe-kryterium-kolarskie-dzierzoniow-2019-eliminacja-do-mistrzostw-polski-w-kryterium/
LOCATION:Dzierżoniów\, Dzierżoniów\, dolnośląskie\, Polska
CATEGORIES:Eliminacje do Mistrzostw Polski,szosa
ORGANIZER;CN="O%C5%9Brodek Sportu i Rekreacji Dzier%C5%BConi%C3%B3w":MAILTO:grzegorz.winiarski@hotelsoir.pl
END:VEVENT
BEGIN:VEVENT
DTSTART;VALUE=DATE:20190407
DTEND;VALUE=DATE:20190408
DTSTAMP:20260425T154811
CREATED:20190226T072545Z
LAST-MODIFIED:20190226T072546Z
UID:2197-1554595200-1554681599@dzkol.pl
SUMMARY:XXXII Międzynarodowy Wyścig Kolarski "Ślężański Mnich". Memoriał Romana Ręgorowicza
DESCRIPTION:
URL:https://dzkol.pl/kalendarz/xxxii-miedzynarodowy-wyscig-kolarski-slezanski-mnich-memorial-romana-regorowicza/
LOCATION:Sobótka
CATEGORIES:szosa
ORGANIZER;CN="%C5%9Al%C4%99%C5%BCa Sob%C3%B3tka Bike Academy":MAILTO:kssleza@gmail.com
END:VEVENT
BEGIN:VEVENT
DTSTART;VALUE=DATE:20190407
DTEND;VALUE=DATE:20190408
DTSTAMP:20260425T154811
CREATED:20190226T072819Z
LAST-MODIFIED:20190226T072819Z
UID:2199-1554595200-1554681599@dzkol.pl
SUMMARY:Via Dolny Śląsk : Ślężański Mnich
DESCRIPTION:
URL:https://dzkol.pl/kalendarz/via-dolny-slask-slezanski-mnich/
LOCATION:Sobótka
CATEGORIES:Via Dolny Śląsk
ORGANIZER;CN="%C5%9Al%C4%99%C5%BCa Sob%C3%B3tka Bike Academy":MAILTO:kssleza@gmail.com
END:VEVENT
BEGIN:VEVENT
DTSTART;VALUE=DATE:20190413
DTEND;VALUE=DATE:20190414
DTSTAMP:20260425T154811
CREATED:20190412T213357Z
LAST-MODIFIED:20190412T213357Z
UID:2253-1555113600-1555199999@dzkol.pl
SUMMARY:Bike Maraton Miękinia
DESCRIPTION:
URL:https://dzkol.pl/kalendarz/bike-maraton-miekinia/
LOCATION:Miękinia
CATEGORIES:Bike Maraton,maraton MTB
ORGANIZER;CN="Grabek Promotion":MAILTO:biuro@bikemaraton.com.pl
END:VEVENT
BEGIN:VEVENT
DTSTART;VALUE=DATE:20190413
DTEND;VALUE=DATE:20190414
DTSTAMP:20260425T154811
CREATED:20190412T213606Z
LAST-MODIFIED:20190412T213606Z
UID:2255-1555113600-1555199999@dzkol.pl
SUMMARY:MMM Międzywojewódzkie Mistrzostwa Młodzików (k+m) na szosie w jeździe indywidualnej na czas: Lubuskie i Dolnośląskie
DESCRIPTION:
URL:https://dzkol.pl/kalendarz/mmm-miedzywojewodzkie-mistrzostwa-mlodzikow-km-na-szosie-w-jezdzie-indywidualnej-na-czas-lubuskie-i-dolnoslaskie/
LOCATION:Strzelce Krajeńskie\, Strzelce Krajeńskie\, lubuskie\, Polska
CATEGORIES:Międzywojewódzki Mistrzostwa Młodzików
ORGANIZER;CN="LKS POM Strzelce Kraje%C5%84skie":MAILTO:iks@pom.net.pl
END:VEVENT
BEGIN:VEVENT
DTSTART;VALUE=DATE:20190413
DTEND;VALUE=DATE:20190414
DTSTAMP:20260425T154811
CREATED:20190412T214458Z
LAST-MODIFIED:20190414T083806Z
UID:2266-1555113600-1555113600@dzkol.pl
SUMMARY:Cykl wyścigów MTB – Wyścig #1 – o Puchar Wójta Gminy Walim
DESCRIPTION:
URL:https://dzkol.pl/kalendarz/cykl-wyscigow-mtb-wyscig-1-o-puchar-wojta-gminy-walim/
LOCATION:Walim
CATEGORIES:MTB
END:VEVENT
BEGIN:VEVENT
DTSTART;VALUE=DATE:20190413
DTEND;VALUE=DATE:20190414
DTSTAMP:20260425T154811
CREATED:20190226T073042Z
LAST-MODIFIED:20190226T073042Z
UID:2201-1555113600-1555199999@dzkol.pl
SUMMARY:Liga MTB Aglomeracji Wałbrzyskiej #1 Walim - Puchar Wójta Gminy Walim
DESCRIPTION:
URL:https://dzkol.pl/kalendarz/liga-mtb-aglomeracji-walbrzyskiej-1-walim-puchar-wojta-gminy-walim/
LOCATION:Walim
CATEGORIES:Liga MTB Aglomeracji Wałbrzyskiej
ORGANIZER;CN="Centrum Sportu i Rekreacji Walim":MAILTO:sport@walim.pl
END:VEVENT
BEGIN:VEVENT
DTSTART;VALUE=DATE:20190414
DTEND;VALUE=DATE:20190415
DTSTAMP:20260425T154811
CREATED:20190412T213706Z
LAST-MODIFIED:20190412T213735Z
UID:2257-1555200000-1555286399@dzkol.pl
SUMMARY:MMM Międzywojewódzkie Mistrzostwa Młodzików (k+m) na szosie ze startu wspólnego: Lubuskie i Dolnośląskie
DESCRIPTION:
URL:https://dzkol.pl/kalendarz/mmm-miedzywojewodzkie-mistrzostwa-mlodzikow-km-na-szosie-ze-startu-wspolnego-lubuskie-i-dolnoslaskie/
LOCATION:Strzelce Krajeńskie\, Strzelce Krajeńskie\, lubuskie\, Polska
CATEGORIES:Międzywojewódzki Mistrzostwa Młodzików
ORGANIZER;CN="LKS POM Strzelce Kraje%C5%84skie":MAILTO:iks@pom.net.pl
END:VEVENT
BEGIN:VEVENT
DTSTART;VALUE=DATE:20190414
DTEND;VALUE=DATE:20190415
DTSTAMP:20260425T154811
CREATED:20190412T213921Z
LAST-MODIFIED:20190412T213921Z
UID:2259-1555200000-1555200000@dzkol.pl
SUMMARY:Via Dolny Śląsk #Szosowy Klasyk Miękinia
DESCRIPTION:
URL:https://dzkol.pl/kalendarz/via-dolny-slask-szosowy-klasyk-miekinia/
LOCATION:Miękinia
CATEGORIES:Via Dolny Śląsk
ORGANIZER;CN="Grabek Promotion":MAILTO:biuro@bikemaraton.com.pl
END:VEVENT
BEGIN:VEVENT
DTSTART;VALUE=DATE:20190420
DTEND;VALUE=DATE:20190421
DTSTAMP:20260425T154811
CREATED:20190412T214124Z
LAST-MODIFIED:20190412T214124Z
UID:2261-1555718400-1555718400@dzkol.pl
SUMMARY:Puchar Strefy MTB Sudety - Grand Prix Barda MTB - V Bardo Open sezon
DESCRIPTION:
URL:https://dzkol.pl/kalendarz/puchar-strefy-mtb-sudety-grand-prix-barda-mtb-v-bardo-open-sezon/
LOCATION:Bardo\, Bardo\, Polska
CATEGORIES:MTB
ORGANIZER;CN="Marcin Skocze%C5%84%2C":MAILTO:marcinskomar@gmail.com
END:VEVENT
BEGIN:VEVENT
DTSTART;VALUE=DATE:20190427
DTEND;VALUE=DATE:20190428
DTSTAMP:20260425T154811
CREATED:20190412T214356Z
LAST-MODIFIED:20190412T214356Z
UID:2264-1556323200-1556323200@dzkol.pl
SUMMARY:Liga MTB Aglomeracji Wałbrzyskiej- Wyścig #2 - o Puchar Wójta Gminy Stare Bogaczowice
DESCRIPTION:
URL:https://dzkol.pl/kalendarz/liga-mtb-aglomeracji-walbrzyskiej-wyscig-2-o-puchar-wojta-gminy-stare-bogaczowice/
LOCATION:Stare Bogaczowice\, Stare Bogaczowice\, dolnośląskie\, Polska
CATEGORIES:Liga MTB Aglomeracji Wałbrzyskiej
END:VEVENT
BEGIN:VEVENT
DTSTART;VALUE=DATE:20190427
DTEND;VALUE=DATE:20190428
DTSTAMP:20260425T154811
CREATED:20190412T214632Z
LAST-MODIFIED:20190412T214632Z
UID:2268-1556323200-1556323200@dzkol.pl
SUMMARY:Cykl wyścigów MTB – Wyścig # 2 – o Puchar Wójta Gminy Stare Bogaczowice
DESCRIPTION:
URL:https://dzkol.pl/kalendarz/cykl-wyscigow-mtb-wyscig-2-o-puchar-wojta-gminy-stare-bogaczowice/
LOCATION:Stare Bogaczowice\, Stare Bogaczowice\, dolnośląskie\, Polska
CATEGORIES:MTB,MTB XC
END:VEVENT
BEGIN:VEVENT
DTSTART;VALUE=DATE:20190427
DTEND;VALUE=DATE:20190428
DTSTAMP:20260425T154811
CREATED:20190412T214748Z
LAST-MODIFIED:20190412T214748Z
UID:2270-1556323200-1556409599@dzkol.pl
SUMMARY:XXII Ogólnopolskie Kryterium Uliczne o Puchar Karkonoszy z okazji „Wiosny Cieplickiej”
DESCRIPTION:
URL:https://dzkol.pl/kalendarz/xxii-ogolnopolskie-kryterium-uliczne-o-puchar-karkonoszy-z-okazji-wiosny-cieplickiej/
LOCATION:Jelenia Góra\, Jelenia Góra\, Polska
CATEGORIES:szosa
END:VEVENT
BEGIN:VEVENT
DTSTART;VALUE=DATE:20190428
DTEND;VALUE=DATE:20190429
DTSTAMP:20260425T154811
CREATED:20190412T214939Z
LAST-MODIFIED:20200804T195154Z
UID:2272-1556409600-1556495999@dzkol.pl
SUMMARY:Visegrad Bicykle Race Grand Prix Poland
DESCRIPTION:
URL:https://dzkol.pl/kalendarz/visegrad-bicykle-race-grand-prix-poland/
LOCATION:Sobótka
ORGANIZER;CN="Dolno%C5%9Bl%C4%85ski Zwi%C4%85zek Kolarski":MAILTO:dzkol@dzkol.eu
END:VEVENT
BEGIN:VEVENT
DTSTART;VALUE=DATE:20190428
DTEND;VALUE=DATE:20190429
DTSTAMP:20260425T154811
CREATED:20190412T215058Z
LAST-MODIFIED:20200804T195202Z
UID:2274-1556409600-1556495999@dzkol.pl
SUMMARY:Via Dolny Śląsk #Visegrad Bicykle Race Grand Prix Poland
DESCRIPTION:
URL:https://dzkol.pl/kalendarz/via-dolny-slask-visegrad-bicykle-race-grand-prix-poland/
LOCATION:Sobótka
CATEGORIES:szosa
ORGANIZER;CN="%C5%9Al%C4%99%C5%BCa Sob%C3%B3tka Bike Academy":MAILTO:kssleza@gmail.com
END:VEVENT
BEGIN:VEVENT
DTSTART;VALUE=DATE:20190505
DTEND;VALUE=DATE:20190506
DTSTAMP:20260425T154811
CREATED:20190412T215253Z
LAST-MODIFIED:20190412T215253Z
UID:2276-1557014400-1557100799@dzkol.pl
SUMMARY:Puchar Strefy MTB Sudety - Grand Prix Walimia MTB
DESCRIPTION:
URL:https://dzkol.pl/kalendarz/puchar-strefy-mtb-sudety-grand-prix-walimia-mtb/
LOCATION:Walim
CATEGORIES:MTB,MTB XC
ORGANIZER;CN="CSiR w Walimiu":MAILTO:sport@walim.pl
END:VEVENT
BEGIN:VEVENT
DTSTART;VALUE=DATE:20190509
DTEND;VALUE=DATE:20190510
DTSTAMP:20260425T154811
CREATED:20190412T215945Z
LAST-MODIFIED:20190412T215945Z
UID:2286-1557360000-1557446399@dzkol.pl
SUMMARY:Gold Lion of Legnica Kryterium
DESCRIPTION:
URL:https://dzkol.pl/kalendarz/gold-lion-of-legnica-kryterium/
LOCATION:Legnica
CATEGORIES:szosa
ORGANIZER;CN="Stowarzyszenie Grody Piastowskie Polkowice":MAILTO:contact@grody.com.pl
END:VEVENT
BEGIN:VEVENT
DTSTART;TZID=Europe/Warsaw:20190510T080000
DTEND;TZID=Europe/Warsaw:20190512T170000
DTSTAMP:20260425T154811
CREATED:20190412T220246Z
LAST-MODIFIED:20190412T220246Z
UID:2288-1557475200-1557680400@dzkol.pl
SUMMARY:CCC TOUR – Grody Piastowskie UCI 2.2
DESCRIPTION:10.05.2019: Polkowice-Polkowice – jazda indywidualna na czas\n10.05.2019: Głogów-Polkowice – start wspólny\n11.05.2019: Złotoryja-Jawor – start wspólny\n12.05.2019: Nowa Ruda-Dzierżoniów – start wspólny
URL:https://dzkol.pl/kalendarz/ccc-tour-grody-piastowskie-uci-2-2-3/
LOCATION:Dolny Śląsk
ORGANIZER;CN="Stowarzyszenie Grody Piastowskie Polkowice":MAILTO:contact@grody.com.pl
END:VEVENT
BEGIN:VEVENT
DTSTART;VALUE=DATE:20190511
DTEND;VALUE=DATE:20190512
DTSTAMP:20260425T154811
CREATED:20190412T215713Z
LAST-MODIFIED:20190412T215713Z
UID:2281-1557532800-1557619199@dzkol.pl
SUMMARY:Górale na Start PP + EOOM
DESCRIPTION:
URL:https://dzkol.pl/kalendarz/gorale-na-start-pp-eoom/
LOCATION:Wałbrzych
CATEGORIES:Eliminacje OOM,EOOM,Górale na start,MTB XC
ORGANIZER;CN="KKW Whyte Nexelo Wa%C5%82brzych":MAILTO:klub@kk.walbrzych.pl
END:VEVENT
BEGIN:VEVENT
DTSTART;VALUE=DATE:20190511
DTEND;VALUE=DATE:20190512
DTSTAMP:20260425T154811
CREATED:20190412T215810Z
LAST-MODIFIED:20190412T215810Z
UID:2284-1557532800-1557619199@dzkol.pl
SUMMARY:Bike Maraton Polanica-Zdrój
DESCRIPTION:
URL:https://dzkol.pl/kalendarz/bike-maraton-polanica-zdroj-2/
LOCATION:Polanica Zdrój\, Polanica Zdrój\, Polska
CATEGORIES:Bike Maraton
ORGANIZER;CN="Grabek Promotion":MAILTO:biuro@bikemaraton.com.pl
END:VEVENT
BEGIN:VEVENT
DTSTART;VALUE=DATE:20190511
DTEND;VALUE=DATE:20190512
DTSTAMP:20260425T154811
CREATED:20190412T220427Z
LAST-MODIFIED:20190412T220618Z
UID:2291-1557532800-1557619199@dzkol.pl
SUMMARY:Jaworska „Duża i Mała ” Pajda Chleba - wyścig poprzedzający: III-etap CCC Tour-Grody Piastowskie
DESCRIPTION:
URL:https://dzkol.pl/kalendarz/jaworska-duza-i-mala-pajda-chleba-wyscig-poprzedzajacy-iii-etap-ccc-tour-grody-piastowskie/
LOCATION:Jawor\, Poland
CATEGORIES:szosa
ORGANIZER;CN="Stowarzyszenie Grody Piastowskie Polkowice":MAILTO:contact@grody.com.pl
END:VEVENT
BEGIN:VEVENT
DTSTART;VALUE=DATE:20190512
DTEND;VALUE=DATE:20190513
DTSTAMP:20260425T154811
CREATED:20190412T220532Z
LAST-MODIFIED:20190412T220532Z
UID:2293-1557619200-1557705599@dzkol.pl
SUMMARY:Korona Gór Sowich - wyścig poprzedzający: IV-etap CCC Tour-Grody Piastowskie
DESCRIPTION:
URL:https://dzkol.pl/kalendarz/korona-gor-sowich-wyscig-poprzedzajacy-iv-etap-ccc-tour-grody-piastowskie/
LOCATION:Nowa Ruda\, Nowa Ruda\, dolnośląskie\, Polska
CATEGORIES:szosa
ORGANIZER;CN="Stowarzyszenie Grody Piastowskie Polkowice":MAILTO:contact@grody.com.pl
END:VEVENT
BEGIN:VEVENT
DTSTART;VALUE=DATE:20190519
DTEND;VALUE=DATE:20190520
DTSTAMP:20260425T154811
CREATED:20190412T221122Z
LAST-MODIFIED:20190412T221122Z
UID:2299-1558224000-1558310399@dzkol.pl
SUMMARY:XI Ogólnopolskie Kryterium Uliczne o Puchar Wójta Gminy Podgórzyn
DESCRIPTION:
URL:https://dzkol.pl/kalendarz/xi-ogolnopolskie-kryterium-uliczne-o-puchar-wojta-gminy-podgorzyn/
LOCATION:Podgórzyn\, Podgórzyn\, dolnośląskie\, Polska
CATEGORIES:szosa
END:VEVENT
BEGIN:VEVENT
DTSTART;VALUE=DATE:20190519
DTEND;VALUE=DATE:20190520
DTSTAMP:20260425T154811
CREATED:20190412T221348Z
LAST-MODIFIED:20190412T221348Z
UID:2301-1558224000-1558310399@dzkol.pl
SUMMARY:Via Dolny Śląsk #"Road Racing”
DESCRIPTION:
URL:https://dzkol.pl/kalendarz/via-dolny-slask-road-racing/
LOCATION:Gromadka\, Gromadka\, dolnośląskie\, 59-706\, Polska
CATEGORIES:szosa
ORGANIZER;CN="%C5%9Al%C4%99%C5%BCa Sob%C3%B3tka Bike Academy":MAILTO:kssleza@gmail.com
END:VEVENT
BEGIN:VEVENT
DTSTART;VALUE=DATE:20190519
DTEND;VALUE=DATE:20190520
DTSTAMP:20260425T154811
CREATED:20190412T221515Z
LAST-MODIFIED:20190412T221515Z
UID:2304-1558224000-1558310399@dzkol.pl
SUMMARY:Puchar Strefy MTB Sudety - Grand Prix Głuszycy MTB - MTB Podziemia Osówki
DESCRIPTION:
URL:https://dzkol.pl/kalendarz/puchar-strefy-mtb-sudety-grand-prix-gluszycy-mtb-mtb-podziemia-osowki/
LOCATION:Głuszyca\, Głuszyca\, Polska
CATEGORIES:MTB
END:VEVENT
BEGIN:VEVENT
DTSTART;VALUE=DATE:20190525
DTEND;VALUE=DATE:20190526
DTSTAMP:20260425T154811
CREATED:20190412T221613Z
LAST-MODIFIED:20190412T221613Z
UID:2306-1558742400-1558828799@dzkol.pl
SUMMARY:Liga MTB Aglomeracji Wałbrzyskiej- Wyścig #3 - oPuchar Wójta Gminy Dobromierz
DESCRIPTION:
URL:https://dzkol.pl/kalendarz/liga-mtb-aglomeracji-walbrzyskiej-wyscig-3-opuchar-wojta-gminy-dobromierz/
LOCATION:Dobromierz
CATEGORIES:Liga MTB Aglomeracji Wałbrzyskiej
END:VEVENT
BEGIN:VEVENT
DTSTART;VALUE=DATE:20190531
DTEND;VALUE=DATE:20190601
DTSTAMP:20260425T154811
CREATED:20190412T221729Z
LAST-MODIFIED:20190412T221729Z
UID:2308-1559260800-1559347199@dzkol.pl
SUMMARY:Rowerowy Dzień Dziecka o Puchar Burmistrza Szczawna Zdrój – Wyścig #3
DESCRIPTION:
URL:https://dzkol.pl/kalendarz/rowerowy-dzien-dziecka-o-puchar-burmistrza-szczawna-zdroj-wyscig-3/
LOCATION:Szczawno Zdrój\, Szczawno Zdrój\, Polska
ORGANIZER;CN="Uzdrowiskowa Gmina Miejska Szczawno Zdr%C3%B3j":MAILTO:sekretariat@szczawno-zdroj.pl
END:VEVENT
BEGIN:VEVENT
DTSTART;VALUE=DATE:20190601
DTEND;VALUE=DATE:20190602
DTSTAMP:20260425T154811
CREATED:20190413T100843Z
LAST-MODIFIED:20190413T100843Z
UID:2313-1559347200-1559433599@dzkol.pl
SUMMARY:Otwarte Mistrzostwa Dolnego Śląska w jeździe dwójkami na czas
DESCRIPTION:hr
URL:https://dzkol.pl/kalendarz/otwarte-mistrzostwa-dolnego-slaska-w-jezdzie-dwojkami-na-czas/
LOCATION:Pęcław
CATEGORIES:szosa
ORGANIZER;CN="TC Chrobry G%C5%82og%C3%B3w":MAILTO:sbb200@wp.pl
END:VEVENT
END:VCALENDAR