BEGIN:VCALENDAR
VERSION:2.0
PRODID:-//Dolnośląski Związek Kolarski - ECPv6.15.20//NONSGML v1.0//EN
CALSCALE:GREGORIAN
METHOD:PUBLISH
X-ORIGINAL-URL:https://dzkol.pl
X-WR-CALDESC:Wydarzenia dla Dolnośląski Związek Kolarski
REFRESH-INTERVAL;VALUE=DURATION:PT1H
X-Robots-Tag:noindex
X-PUBLISHED-TTL:PT1H
BEGIN:VTIMEZONE
TZID:Europe/Warsaw
BEGIN:DAYLIGHT
TZOFFSETFROM:+0100
TZOFFSETTO:+0200
TZNAME:CEST
DTSTART:20180325T010000
END:DAYLIGHT
BEGIN:STANDARD
TZOFFSETFROM:+0200
TZOFFSETTO:+0100
TZNAME:CET
DTSTART:20181028T010000
END:STANDARD
BEGIN:DAYLIGHT
TZOFFSETFROM:+0100
TZOFFSETTO:+0200
TZNAME:CEST
DTSTART:20190331T010000
END:DAYLIGHT
BEGIN:STANDARD
TZOFFSETFROM:+0200
TZOFFSETTO:+0100
TZNAME:CET
DTSTART:20191027T010000
END:STANDARD
BEGIN:DAYLIGHT
TZOFFSETFROM:+0100
TZOFFSETTO:+0200
TZNAME:CEST
DTSTART:20200329T010000
END:DAYLIGHT
BEGIN:STANDARD
TZOFFSETFROM:+0200
TZOFFSETTO:+0100
TZNAME:CET
DTSTART:20201025T010000
END:STANDARD
END:VTIMEZONE
BEGIN:VEVENT
DTSTART;VALUE=DATE:20190817
DTEND;VALUE=DATE:20190819
DTSTAMP:20260425T002739
CREATED:20190413T230221Z
LAST-MODIFIED:20190413T230221Z
UID:2408-1566000000-1566172799@dzkol.pl
SUMMARY:MMM Międzywojewódzkie Mistrzostwa Młodzików w kolarstwie torowym: Dolnośląskie\, Lubuskie\, Opolskie i Wielkopolskie
DESCRIPTION:
URL:https://dzkol.pl/kalendarz/mmm-miedzywojewodzkie-mistrzostwa-mlodzikow-w-kolarstwie-torowym-dolnoslaskie-lubuskie-opolskie-i-wielkopolskie/
LOCATION:Wrocław – tor kolarski\, Żmigrodzka 243\, Wrocław\, dolnośląskie\, 51-117\, Polska
CATEGORIES:Międzywojewódzki Mistrzostwa Młodzików,tor
ORGANIZER;CN="Dolno%C5%9Bl%C4%85ski Zwi%C4%85zek Kolarski":MAILTO:dzkol@dzkol.eu
END:VEVENT
BEGIN:VEVENT
DTSTART;VALUE=DATE:20190817
DTEND;VALUE=DATE:20190818
DTSTAMP:20260425T002739
CREATED:20190413T230418Z
LAST-MODIFIED:20190413T230418Z
UID:2410-1566000000-1566086399@dzkol.pl
SUMMARY:4x Pro Tour Round 3 – III-cia runda Pucharu Świata. Tor fourcrosowy „Słoneczna Polana”
DESCRIPTION:
URL:https://dzkol.pl/kalendarz/4x-pro-tour-round-3-iii-cia-runda-pucharu-swiata-tor-fourcrosowy-sloneczna-polana/
LOCATION:Szczawno Zdrój\, Szczawno Zdrój\, Polska
CATEGORIES:4X MTB
ORGANIZER;CN="Uzdrowiskowa Gmina Miejska Szczawno Zdr%C3%B3j":MAILTO:sekretariat@szczawno-zdroj.pl
END:VEVENT
BEGIN:VEVENT
DTSTART;VALUE=DATE:20190818
DTEND;VALUE=DATE:20190819
DTSTAMP:20260425T002739
CREATED:20190413T230506Z
LAST-MODIFIED:20190413T230506Z
UID:2412-1566086400-1566172799@dzkol.pl
SUMMARY:Mistrzostwa Polski 4xFourcross
DESCRIPTION:
URL:https://dzkol.pl/kalendarz/mistrzostwa-polski-4xfourcross/
LOCATION:Szczawno Zdrój\, Szczawno Zdrój\, Polska
CATEGORIES:4X MTB
ORGANIZER;CN="Uzdrowiskowa Gmina Miejska Szczawno Zdr%C3%B3j":MAILTO:sekretariat@szczawno-zdroj.pl
END:VEVENT
BEGIN:VEVENT
DTSTART;VALUE=DATE:20190818
DTEND;VALUE=DATE:20190819
DTSTAMP:20260425T002739
CREATED:20190413T230605Z
LAST-MODIFIED:20190413T230605Z
UID:2414-1566086400-1566172799@dzkol.pl
SUMMARY:IV Ogólnopolski Wyścig Kolarski „Szlakiem Bitwy Kaczawskiej” ze startu wspólnego
DESCRIPTION:
URL:https://dzkol.pl/kalendarz/iv-ogolnopolski-wyscig-kolarski-szlakiem-bitwy-kaczawskiej-ze-startu-wspolnego/
LOCATION:Krotoszyce\, Krotoszyce\, dolnośląskie\, Polska
CATEGORIES:szosa
END:VEVENT
BEGIN:VEVENT
DTSTART;VALUE=DATE:20190824
DTEND;VALUE=DATE:20190825
DTSTAMP:20260425T002739
CREATED:20190413T230729Z
LAST-MODIFIED:20190413T230729Z
UID:2416-1566604800-1566691199@dzkol.pl
SUMMARY:Uphil Race Śnieżka
DESCRIPTION:
URL:https://dzkol.pl/kalendarz/uphil-race-sniezka/
LOCATION:Karpacz
CATEGORIES:MTB
ORGANIZER;CN="Grabek Promotion":MAILTO:biuro@bikemaraton.com.pl
END:VEVENT
BEGIN:VEVENT
DTSTART;VALUE=DATE:20190824
DTEND;VALUE=DATE:20190826
DTSTAMP:20260425T002739
CREATED:20190413T230837Z
LAST-MODIFIED:20190413T230837Z
UID:2418-1566604800-1566777599@dzkol.pl
SUMMARY:Górskie Mistrzostwa Polski w Kolarstwie Szosowym
DESCRIPTION:
URL:https://dzkol.pl/kalendarz/gorskie-mistrzostwa-polski-w-kolarstwie-szosowym/
LOCATION:Podgórzyn – Sosnówka\, Podgórzyn\, dolnośląskie\, Polska
CATEGORIES:szosa
END:VEVENT
BEGIN:VEVENT
DTSTART;VALUE=DATE:20190825
DTEND;VALUE=DATE:20190826
DTSTAMP:20260425T002739
CREATED:20190413T230945Z
LAST-MODIFIED:20190413T230945Z
UID:2420-1566691200-1566777599@dzkol.pl
SUMMARY:Bike Maraton #Karpacz
DESCRIPTION:
URL:https://dzkol.pl/kalendarz/bike-maraton-karpacz/
LOCATION:Karpacz
CATEGORIES:Bike Maraton,maraton MTB
ORGANIZER;CN="Grabek Promotion":MAILTO:biuro@bikemaraton.com.pl
END:VEVENT
BEGIN:VEVENT
DTSTART;VALUE=DATE:20190831
DTEND;VALUE=DATE:20190901
DTSTAMP:20260425T002739
CREATED:20190413T231149Z
LAST-MODIFIED:20190413T231149Z
UID:2422-1567209600-1567295999@dzkol.pl
SUMMARY:XV Grand Prix MTB Solidarności - Liga MTB Aglomeracji Wałbrzyskiej - Wyścig #5
DESCRIPTION:
URL:https://dzkol.pl/kalendarz/xv-grand-prix-mtb-solidarnosci-liga-mtb-aglomeracji-walbrzyskiej-wyscig-5/
LOCATION:Jaworzyna Śląska\, Jaworzyna Śląska\, dolnośląskie\, Polska
CATEGORIES:Liga MTB Aglomeracji Wałbrzyskiej,MTB
ORGANIZER;CN="MKS %E2%80%9EKarolina%E2%80%9D Jaworzyna %C5%9Al%C4%85ska":MAILTO:kontakt@mkskarolina.com
END:VEVENT
BEGIN:VEVENT
DTSTART;VALUE=DATE:20190831
DTEND;VALUE=DATE:20190901
DTSTAMP:20260425T002739
CREATED:20190413T231248Z
LAST-MODIFIED:20190413T231248Z
UID:2424-1567209600-1567295999@dzkol.pl
SUMMARY:XV Grand Prix MTB Solidarności – Cykl Wyścigów MTB Aglomeracji Wałbrzyskiej - Wyścig #5
DESCRIPTION:
URL:https://dzkol.pl/kalendarz/xv-grand-prix-mtb-solidarnosci-cykl-wyscigow-mtb-aglomeracji-walbrzyskiej-wyscig-5/
LOCATION:Jaworzyna Śląska\, Jaworzyna Śląska\, dolnośląskie\, Polska
CATEGORIES:Liga MTB Aglomeracji Wałbrzyskiej,MTB
ORGANIZER;CN="MKS %E2%80%9EKarolina%E2%80%9D Jaworzyna %C5%9Al%C4%85ska":MAILTO:kontakt@mkskarolina.com
END:VEVENT
BEGIN:VEVENT
DTSTART;VALUE=DATE:20190831
DTEND;VALUE=DATE:20190901
DTSTAMP:20260425T002739
CREATED:20190413T231344Z
LAST-MODIFIED:20190413T231344Z
UID:2426-1567209600-1567295999@dzkol.pl
SUMMARY:Enduro MTB Series
DESCRIPTION:
URL:https://dzkol.pl/kalendarz/enduro-mtb-series-2/
LOCATION:Srebrna Góra
CATEGORIES:MTB Enduro
ORGANIZER;CN="Active Group":MAILTO:EnduroMTBseries@gmail.com
END:VEVENT
BEGIN:VEVENT
DTSTART;VALUE=DATE:20190831
DTEND;VALUE=DATE:20190901
DTSTAMP:20260425T002739
CREATED:20190811T204504Z
LAST-MODIFIED:20190811T204504Z
UID:2850-1567209600-1567295999@dzkol.pl
SUMMARY:Międzywojewódzkie Mistrzostwa Młodzików w jeździe dwójkami na czas – Ogólnopolski Wyścig w jeździe indywidualnej na czas
DESCRIPTION:
URL:https://dzkol.pl/kalendarz/miedzywojewodzkie-mistrzostwa-mlodzikow-w-jezdzie-dwojkami-na-czas-ogolnopolski-wyscig-w-jezdzie-indywidualnej-na-czas/
LOCATION:Tuszyn
END:VEVENT
BEGIN:VEVENT
DTSTART;VALUE=DATE:20190901
DTEND;VALUE=DATE:20190902
DTSTAMP:20260425T002739
CREATED:20190414T084636Z
LAST-MODIFIED:20190414T084636Z
UID:2433-1567296000-1567382399@dzkol.pl
SUMMARY:Puchar Strefy MTB Sudety - Grand Prix Pieszyc MTB Wielka Sowa
DESCRIPTION:
URL:https://dzkol.pl/kalendarz/puchar-strefy-mtb-sudety-grand-prix-pieszyc-mtb-wielka-sowa/
LOCATION:Pieszyce\, Pieszyce\, dolnośląskie\, Polska
CATEGORIES:maraton MTB
ORGANIZER;CN="UMiG Pieszyce":MAILTO:promocja@pieszyce.pl
END:VEVENT
BEGIN:VEVENT
DTSTART;VALUE=DATE:20190901
DTEND;VALUE=DATE:20190902
DTSTAMP:20260425T002739
CREATED:20190414T084830Z
LAST-MODIFIED:20190414T084830Z
UID:2436-1567296000-1567382399@dzkol.pl
SUMMARY:Liga MTB 2019 #Jakubów
DESCRIPTION:
URL:https://dzkol.pl/kalendarz/liga-mtb-2019-jakubow/
LOCATION:Jakubów\, Jakubów\, dolnośląskie\, 59-160\, Polska
CATEGORIES:MTB
END:VEVENT
BEGIN:VEVENT
DTSTART;VALUE=DATE:20190901
DTEND;VALUE=DATE:20190902
DTSTAMP:20260425T002739
CREATED:20190811T204648Z
LAST-MODIFIED:20190811T204710Z
UID:2853-1567296000-1567382399@dzkol.pl
SUMMARY:Otwarte Mistrzostwa Gminy Dzierżoniów o Puchar Wójta Gminy Dzierżoniów Pana Marka Chmielewskiego – Ogólnopolski Wyścig Kolarski o Puchar Starosty Dzierżoniowskiego Pana Grzegorza Kosowskiego
DESCRIPTION:
URL:https://dzkol.pl/kalendarz/otwarte-mistrzostwa-gminy-dzierzoniow-o-puchar-wojta-gminy-dzierzoniow-pana-marka-chmielewskiego-ogolnopolski-wyscig-kolarski-o-puchar-starosty-dzierzoniowskiego-pana-grzegorza-kosowskiego/
LOCATION:Roztocznik
END:VEVENT
BEGIN:VEVENT
DTSTART;VALUE=DATE:20190907
DTEND;VALUE=DATE:20190908
DTSTAMP:20260425T002739
CREATED:20190414T085018Z
LAST-MODIFIED:20190414T090333Z
UID:2440-1567814400-1567900799@dzkol.pl
SUMMARY:Liga MTB Aglomeracji Wałbrzyskiej – Wyścig #6
DESCRIPTION:
URL:https://dzkol.pl/kalendarz/liga-mtb-aglomeracji-walbrzyskiej-wyscig-4/
LOCATION:Świebodzice
CATEGORIES:Liga MTB Aglomeracji Wałbrzyskiej,MTB
END:VEVENT
BEGIN:VEVENT
DTSTART;VALUE=DATE:20190907
DTEND;VALUE=DATE:20190908
DTSTAMP:20260425T002739
CREATED:20190414T085147Z
LAST-MODIFIED:20190414T085147Z
UID:2442-1567814400-1567900799@dzkol.pl
SUMMARY:Górskie Mistrzostwa Polski Służb Mundurowych Amatorów
DESCRIPTION:
URL:https://dzkol.pl/kalendarz/gorskie-mistrzostwa-polski-sluzb-mundurowych-amatorow/
LOCATION:Podgórzyn – Sosnówka\, Podgórzyn\, dolnośląskie\, Polska
CATEGORIES:szosa
END:VEVENT
BEGIN:VEVENT
DTSTART;VALUE=DATE:20190907
DTEND;VALUE=DATE:20190908
DTSTAMP:20260425T002739
CREATED:20190414T085248Z
LAST-MODIFIED:20190414T085248Z
UID:2444-1567814400-1567900799@dzkol.pl
SUMMARY:Bike Maraton #Ludwikowice Kłodzkie
DESCRIPTION:
URL:https://dzkol.pl/kalendarz/bike-maraton-ludwikowice-klodzkie/
LOCATION:Ludkowice Kłodzkie\, Ludkowice Kłodzkie\, Polska
CATEGORIES:Bike Maraton,maraton MTB
ORGANIZER;CN="Grabek Promotion":MAILTO:biuro@bikemaraton.com.pl
END:VEVENT
BEGIN:VEVENT
DTSTART;VALUE=DATE:20190908
DTEND;VALUE=DATE:20190909
DTSTAMP:20260425T002739
CREATED:20190414T085414Z
LAST-MODIFIED:20190414T085414Z
UID:2446-1567900800-1567987199@dzkol.pl
SUMMARY:Via Dolny Śląsk: Szosowy Klasyk #Ludwikowice Kłodzkie
DESCRIPTION:
URL:https://dzkol.pl/kalendarz/via-dolny-slask-szosowy-klasyk-ludwikowice-klodzkie/
LOCATION:Ludwikowice Kłodzkie
ORGANIZER;CN="Grabek Promotion":MAILTO:biuro@bikemaraton.com.pl
END:VEVENT
BEGIN:VEVENT
DTSTART;VALUE=DATE:20190908
DTEND;VALUE=DATE:20190909
DTSTAMP:20260425T002739
CREATED:20190414T085654Z
LAST-MODIFIED:20190414T085654Z
UID:2449-1567900800-1567987199@dzkol.pl
SUMMARY:Liga Szkółek Kolarskich #Głogów
DESCRIPTION:
URL:https://dzkol.pl/kalendarz/liga-szkolek-kolarskich-glogow/
LOCATION:Głogów\, Głogów\, dolnośląskie\, Poland
CATEGORIES:Liga Szkółek Kolarskich,MTB
ORGANIZER;CN="TC Chrobry G%C5%82og%C3%B3w":MAILTO:sbb200@wp.pl
END:VEVENT
BEGIN:VEVENT
DTSTART;VALUE=DATE:20190908
DTEND;VALUE=DATE:20190909
DTSTAMP:20260425T002739
CREATED:20190828T200647Z
LAST-MODIFIED:20190828T201401Z
UID:2875-1567900800-1567987199@dzkol.pl
SUMMARY:Otwarte Mistrzostwa Dolnego Śląska w Zjeździe MTB Downhill – Boguszów Gorce-Góra Dzikowiec
DESCRIPTION:
URL:https://dzkol.pl/kalendarz/otwarte-mistrzostwa-dolnego-slaska-w-zjezdzie-mtb-downhill-boguszow-gorce-gora-dzikowiec/
LOCATION:dolnośląskie
CATEGORIES:Downhill
ORGANIZER;CN="O%C5%9Brodek Sportu i Rekreacji w Boguszowie-Gorcach":MAILTO:biuro@osir-boguszow.eu
END:VEVENT
BEGIN:VEVENT
DTSTART;VALUE=DATE:20190914
DTEND;VALUE=DATE:20190915
DTSTAMP:20260425T002739
CREATED:20190414T085748Z
LAST-MODIFIED:20190414T085748Z
UID:2451-1568419200-1568505599@dzkol.pl
SUMMARY:Otwarte Mistrzostwa Dolnego Śląska w MTB
DESCRIPTION:
URL:https://dzkol.pl/kalendarz/otwarte-mistrzostwa-dolnego-slaska-w-mtb/
LOCATION:Nowa Ruda\, Nowa Ruda\, dolnośląskie\, Polska
CATEGORIES:MTB
ORGANIZER;CN="UKS Centrum Nowa Ruda":MAILTO:lukasz_roznicki@vp.pl
END:VEVENT
BEGIN:VEVENT
DTSTART;VALUE=DATE:20190915
DTEND;VALUE=DATE:20190916
DTSTAMP:20260425T002739
CREATED:20190414T085850Z
LAST-MODIFIED:20190414T085850Z
UID:2453-1568505600-1568591999@dzkol.pl
SUMMARY:Górale na Start - Finał PP
DESCRIPTION:
URL:https://dzkol.pl/kalendarz/gorale-na-start-final-pp/
LOCATION:Boguszów Gorce\, Boguszów Gorce\, Polska
CATEGORIES:Górale na start,MTB
ORGANIZER;CN="KKW Whyte Nexelo Wa%C5%82brzych":MAILTO:klub@kk.walbrzych.pl
END:VEVENT
BEGIN:VEVENT
DTSTART;VALUE=DATE:20190915
DTEND;VALUE=DATE:20190916
DTSTAMP:20260425T002739
CREATED:20190414T090033Z
LAST-MODIFIED:20190414T090033Z
UID:2455-1568505600-1568591999@dzkol.pl
SUMMARY:Puchar Strefy MTB Sudety - Grand Prix Bielawa MTB Sowiogórski Maraton Rowerowy
DESCRIPTION:
URL:https://dzkol.pl/kalendarz/puchar-strefy-mtb-sudety-grand-prix-bielawa-mtb-sowiogorski-maraton-rowerowy/
LOCATION:Bielawa
CATEGORIES:maraton MTB
ORGANIZER;CN="OSiR w Bielawie":MAILTO:szewczyk@osir.bielawa.pl
END:VEVENT
BEGIN:VEVENT
DTSTART;VALUE=DATE:20190921
DTEND;VALUE=DATE:20190922
DTSTAMP:20260425T002739
CREATED:20190414T090127Z
LAST-MODIFIED:20190414T090127Z
UID:2458-1569024000-1569110399@dzkol.pl
SUMMARY:Bike Maraton #Świeradów-Zdrój
DESCRIPTION:
URL:https://dzkol.pl/kalendarz/bike-maraton-swieradow-zdroj-2/
LOCATION:Świeradów Zdroj\, Świeradów Zdroj\, Polska
CATEGORIES:Bike Maraton,maraton MTB
ORGANIZER;CN="Grabek Promotion":MAILTO:biuro@bikemaraton.com.pl
END:VEVENT
BEGIN:VEVENT
DTSTART;VALUE=DATE:20190921
DTEND;VALUE=DATE:20190922
DTSTAMP:20260425T002739
CREATED:20190414T090311Z
LAST-MODIFIED:20190414T090311Z
UID:2460-1569024000-1569110399@dzkol.pl
SUMMARY:Liga MTB Aglomeracji Wałbrzyskiej - Wyścig #7
DESCRIPTION:
URL:https://dzkol.pl/kalendarz/liga-mtb-aglomeracji-walbrzyskiej-wyscig-7/
LOCATION:Szczawno Zdrój\, Szczawno Zdrój\, Polska
CATEGORIES:Liga MTB Aglomeracji Wałbrzyskiej
END:VEVENT
BEGIN:VEVENT
DTSTART;VALUE=DATE:20190921
DTEND;VALUE=DATE:20190922
DTSTAMP:20260425T002739
CREATED:20190414T090448Z
LAST-MODIFIED:20190414T090448Z
UID:2463-1569024000-1569110399@dzkol.pl
SUMMARY:Cykl Wyścigów MTB - Wyścig #6
DESCRIPTION:
URL:https://dzkol.pl/kalendarz/cykl-wyscigow-mtb-wyscig-6/
LOCATION:Szczawno Zdrój\, Szczawno Zdrój\, Polska
CATEGORIES:MTB
END:VEVENT
BEGIN:VEVENT
DTSTART;VALUE=DATE:20190921
DTEND;VALUE=DATE:20190922
DTSTAMP:20260425T002739
CREATED:20190414T090548Z
LAST-MODIFIED:20190414T090548Z
UID:2465-1569024000-1569110399@dzkol.pl
SUMMARY:VIII Czasówka Kaczawska Górska - Edycja VI
DESCRIPTION:
URL:https://dzkol.pl/kalendarz/viii-czasowka-kaczawska-gorska-edycja-vi/
LOCATION:Wojcieszów – Podgórki\, Wojcieszów\, dolnośląskie\, Polska
CATEGORIES:szosa
END:VEVENT
BEGIN:VEVENT
DTSTART;VALUE=DATE:20190922
DTEND;VALUE=DATE:20190923
DTSTAMP:20260425T002739
CREATED:20190414T090637Z
LAST-MODIFIED:20190414T090637Z
UID:2467-1569110400-1569196799@dzkol.pl
SUMMARY:Ogólnopolski Wyścig Kolarski o Puchar Starosty Złotoryjskiego
DESCRIPTION:
URL:https://dzkol.pl/kalendarz/ogolnopolski-wyscig-kolarski-o-puchar-starosty-zlotoryjskiego-2/
LOCATION:Wysocko gmina Złotoryja\, Wysocko\, dolnośląskie\, Polska
CATEGORIES:szosa
END:VEVENT
BEGIN:VEVENT
DTSTART;VALUE=DATE:20190922
DTEND;VALUE=DATE:20190923
DTSTAMP:20260425T002739
CREATED:20190414T090729Z
LAST-MODIFIED:20190414T090729Z
UID:2469-1569110400-1569196799@dzkol.pl
SUMMARY:Finał Mistrzostw Polski w Kryteriach
DESCRIPTION:
URL:https://dzkol.pl/kalendarz/final-mistrzostw-polski-w-kryteriach/
LOCATION:Jelcz Laskowice\, Jelcz Laskowice\, Polska
CATEGORIES:szosa
END:VEVENT
BEGIN:VEVENT
DTSTART;VALUE=DATE:20190922
DTEND;VALUE=DATE:20190923
DTSTAMP:20260425T002739
CREATED:20190414T090841Z
LAST-MODIFIED:20190414T090841Z
UID:2471-1569110400-1569196799@dzkol.pl
SUMMARY:Via Dolny Śląsk: „ITT Grand Prix Kobierzyc”
DESCRIPTION:
URL:https://dzkol.pl/kalendarz/via-dolny-slask-itt-grand-prix-kobierzyc/
LOCATION:Kobierzyce\, Kobierzyce\, dolnośląskie\, Polska
CATEGORIES:szosa,Via Dolny Śląsk
ORGANIZER;CN="%C5%9Al%C4%99%C5%BCa Sob%C3%B3tka Bike Academy":MAILTO:kssleza@gmail.com
END:VEVENT
END:VCALENDAR