BEGIN:VCALENDAR
VERSION:2.0
PRODID:-//Dolnośląski Związek Kolarski - ECPv6.15.20//NONSGML v1.0//EN
CALSCALE:GREGORIAN
METHOD:PUBLISH
X-ORIGINAL-URL:https://dzkol.pl
X-WR-CALDESC:Wydarzenia dla Dolnośląski Związek Kolarski
REFRESH-INTERVAL;VALUE=DURATION:PT1H
X-Robots-Tag:noindex
X-PUBLISHED-TTL:PT1H
BEGIN:VTIMEZONE
TZID:Europe/Warsaw
BEGIN:DAYLIGHT
TZOFFSETFROM:+0100
TZOFFSETTO:+0200
TZNAME:CEST
DTSTART:20190331T010000
END:DAYLIGHT
BEGIN:STANDARD
TZOFFSETFROM:+0200
TZOFFSETTO:+0100
TZNAME:CET
DTSTART:20191027T010000
END:STANDARD
BEGIN:DAYLIGHT
TZOFFSETFROM:+0100
TZOFFSETTO:+0200
TZNAME:CEST
DTSTART:20200329T010000
END:DAYLIGHT
BEGIN:STANDARD
TZOFFSETFROM:+0200
TZOFFSETTO:+0100
TZNAME:CET
DTSTART:20201025T010000
END:STANDARD
BEGIN:DAYLIGHT
TZOFFSETFROM:+0100
TZOFFSETTO:+0200
TZNAME:CEST
DTSTART:20210328T010000
END:DAYLIGHT
BEGIN:STANDARD
TZOFFSETFROM:+0200
TZOFFSETTO:+0100
TZNAME:CET
DTSTART:20211031T010000
END:STANDARD
END:VTIMEZONE
BEGIN:VEVENT
DTSTART;VALUE=DATE:20200801
DTEND;VALUE=DATE:20200803
DTSTAMP:20260423T234601
CREATED:20200704T111805Z
LAST-MODIFIED:20200704T111805Z
UID:3356-1596240000-1596412799@dzkol.pl
SUMMARY:Finał Ogólnopolskiej Olimpiady Młodzieży w kolarstwie szosowym w jeździe indywidualnej na czas i ze startu wspólnego
DESCRIPTION:
URL:https://dzkol.pl/kalendarz/final-ogolnopolskiej-olimpiady-mlodziezy-w-kolarstwie-szosowym-w-jezdzie-indywidualnej-na-czas-i-ze-startu-wspolnego/
LOCATION:Stryków\, łódzkie
CATEGORIES:Ogólnopolska Olimpiada Młodzieży,szosa
END:VEVENT
BEGIN:VEVENT
DTSTART;VALUE=DATE:20200802
DTEND;VALUE=DATE:20200803
DTSTAMP:20260423T234601
CREATED:20200704T112813Z
LAST-MODIFIED:20200704T112813Z
UID:3369-1596326400-1596412799@dzkol.pl
SUMMARY:Pump It Tour\, Puchar Polski Pumptrack\, Mistrzostwa Polski Pumptrack
DESCRIPTION:
URL:https://dzkol.pl/kalendarz/pump-it-tour-puchar-polski-pumptrack-mistrzostwa-polski-pumptrack/
LOCATION:Kasina
CATEGORIES:MTB
END:VEVENT
BEGIN:VEVENT
DTSTART;VALUE=DATE:20200802
DTEND;VALUE=DATE:20200803
DTSTAMP:20260423T234601
CREATED:20200704T112947Z
LAST-MODIFIED:20210722T082604Z
UID:3372-1596326400-1596412799@dzkol.pl
SUMMARY:Wyścigu Kolarski o Puchar Wójta Gminy Czarny Bór - Szukamy Następców Naszych Olimpijczyków
DESCRIPTION:
URL:https://dzkol.pl/kalendarz/puchar-starosty-walbrzyskiego-2/
LOCATION:Jaczków
CATEGORIES:szosa
END:VEVENT
BEGIN:VEVENT
DTSTART;VALUE=DATE:20200808
DTEND;VALUE=DATE:20200809
DTSTAMP:20260423T234601
CREATED:20200704T113107Z
LAST-MODIFIED:20200704T113107Z
UID:3374-1596844800-1596931199@dzkol.pl
SUMMARY:Kryterium o Złotą Spinkę Prezydenta Miasta Wałbrzycha
DESCRIPTION:
URL:https://dzkol.pl/kalendarz/kryterium-o-zlota-spinke-prezydenta-miasta-walbrzycha/
LOCATION:Wałbrzych
CATEGORIES:szosa
ORGANIZER;CN="LKKS G%C3%B3rnik Wa%C5%82brzych":MAILTO:lkks.g.w@wp.pl
END:VEVENT
BEGIN:VEVENT
DTSTART;VALUE=DATE:20200809
DTEND;VALUE=DATE:20200810
DTSTAMP:20260423T234601
CREATED:20200704T113154Z
LAST-MODIFIED:20200707T184555Z
UID:3377-1596931200-1597017599@dzkol.pl
SUMMARY:Memoriał Pawła Sosika
DESCRIPTION:
URL:https://dzkol.pl/kalendarz/memorial-pawla-sosika-2/
LOCATION:Świebodzice
CATEGORIES:szosa
ORGANIZER;CN="LKKS G%C3%B3rnik Wa%C5%82brzych":MAILTO:lkks.g.w@wp.pl
END:VEVENT
BEGIN:VEVENT
DTSTART;VALUE=DATE:20200809
DTEND;VALUE=DATE:20200810
DTSTAMP:20260423T234601
CREATED:20200704T113309Z
LAST-MODIFIED:20200704T113337Z
UID:3379-1596931200-1597017599@dzkol.pl
SUMMARY:Grand Prix Dolina Baryczy\, XXX Międzynarodowy Wyścig Kolarski\, Memoriał Grundmanna i Wizowskiego
DESCRIPTION:
URL:https://dzkol.pl/kalendarz/grand-prix-dolina-baryczy-xxx-miedzynarodowy-wyscig-kolarski-memorial-grundmanna-i-wizowskiego/
LOCATION:Żmigród
CATEGORIES:szosa
ORGANIZER;CN="%C5%9Al%C4%99%C5%BCa Sob%C3%B3tka Bike Academy":MAILTO:kssleza@gmail.com
END:VEVENT
BEGIN:VEVENT
DTSTART;VALUE=DATE:20200809
DTEND;VALUE=DATE:20200810
DTSTAMP:20260423T234601
CREATED:20200704T113502Z
LAST-MODIFIED:20200704T113502Z
UID:3381-1596931200-1597017599@dzkol.pl
SUMMARY:PKO Ubezpieczenia Via Dolny Śląsk\, Grand Prix Dolina Baryczy\, Żmigród
DESCRIPTION:
URL:https://dzkol.pl/kalendarz/pko-ubezpieczenia-via-dolny-slask-grand-prix-dolina-baryczy-zmigrod/
LOCATION:dolnośląskie
CATEGORIES:szosa,Via Dolny Śląsk
ORGANIZER;CN="%C5%9Al%C4%99%C5%BCa Sob%C3%B3tka Bike Academy":MAILTO:kssleza@gmail.com
END:VEVENT
BEGIN:VEVENT
DTSTART;VALUE=DATE:20200811
DTEND;VALUE=DATE:20200814
DTSTAMP:20260423T234601
CREATED:20200704T113609Z
LAST-MODIFIED:20200704T113609Z
UID:3383-1597104000-1597363199@dzkol.pl
SUMMARY:Finał Ogólnopolskiej Olimpiady Młodzieży w kolarstwie torowym według regulaminu
DESCRIPTION:
URL:https://dzkol.pl/kalendarz/final-ogolnopolskiej-olimpiady-mlodziezy-w-kolarstwie-torowym-wedlug-regulaminu/
LOCATION:Łódź
CATEGORIES:Ogólnopolska Olimpiada Młodzieży,tor
END:VEVENT
BEGIN:VEVENT
DTSTART;VALUE=DATE:20200813
DTEND;VALUE=DATE:20200816
DTSTAMP:20260423T234601
CREATED:20200704T120647Z
LAST-MODIFIED:20200704T120647Z
UID:3397-1597276800-1597535999@dzkol.pl
SUMMARY:Sowiogórski Tour – Nadzieje Olimpijskie\, Dzierżoniów-Oborniki Śląskie
DESCRIPTION:
URL:https://dzkol.pl/kalendarz/sowiogorski-tour-nadzieje-olimpijskie-dzierzoniow-oborniki-slaskie/
LOCATION:Dzierżoniów-Oborniki Śląskie
CATEGORIES:szosa
END:VEVENT
BEGIN:VEVENT
DTSTART;VALUE=DATE:20200814
DTEND;VALUE=DATE:20200817
DTSTAMP:20260423T234601
CREATED:20200704T115803Z
LAST-MODIFIED:20200704T115803Z
UID:3386-1597363200-1597622399@dzkol.pl
SUMMARY:Mistrzostwa Polski MTB XCO/XCR\, Mrągowo 2020
DESCRIPTION:
URL:https://dzkol.pl/kalendarz/mistrzostwa-polski-mtb-xco-xcr-mragowo-2020/
LOCATION:Mrągowo
CATEGORIES:Mistrzostwa Polski,MTB
END:VEVENT
BEGIN:VEVENT
DTSTART;VALUE=DATE:20200815
DTEND;VALUE=DATE:20200817
DTSTAMP:20260423T234601
CREATED:20200704T115922Z
LAST-MODIFIED:20200704T120034Z
UID:3389-1597449600-1597622399@dzkol.pl
SUMMARY:Mistrzostwa Polski Pumptrack
DESCRIPTION:
URL:https://dzkol.pl/kalendarz/mistrzostwa-polski-pumptrack/
LOCATION:Rzyki
CATEGORIES:Mistrzostwa Polski,MTB
END:VEVENT
BEGIN:VEVENT
DTSTART;VALUE=DATE:20200815
DTEND;VALUE=DATE:20200816
DTSTAMP:20260423T234601
CREATED:20200704T120235Z
LAST-MODIFIED:20200704T120235Z
UID:3392-1597449600-1597535999@dzkol.pl
SUMMARY:PKO Ubezpieczenia Via Dolny Śląsk\, Szosowy Klasyk\, ITT Okraj
DESCRIPTION:
URL:https://dzkol.pl/kalendarz/pko-ubezpieczenia-via-dolny-slask-szosowy-klasyk-itt-okraj/
LOCATION:Kowary
CATEGORIES:szosa,Via Dolny Śląsk
END:VEVENT
BEGIN:VEVENT
DTSTART;VALUE=DATE:20200815
DTEND;VALUE=DATE:20200816
DTSTAMP:20260423T234601
CREATED:20200704T120902Z
LAST-MODIFIED:20200704T120902Z
UID:3400-1597449600-1597535999@dzkol.pl
SUMMARY:Ogólnopolski Wyścig Kolarski „Korona Kocich Gór – Memoriał Kornela Morawieckiego” – jazda indywidualna na czas
DESCRIPTION:
URL:https://dzkol.pl/kalendarz/ogolnopolski-wyscig-kolarski-korona-kocich-gor-memorial-kornela-morawieckiego-jazda-indywidualna-na-czas/
LOCATION:Bagno\, Bagno\, dolnośląskie
CATEGORIES:szosa
END:VEVENT
BEGIN:VEVENT
DTSTART;VALUE=DATE:20200815
DTEND;VALUE=DATE:20200816
DTSTAMP:20260423T234601
CREATED:20200704T121126Z
LAST-MODIFIED:20200704T121126Z
UID:3403-1597449600-1597535999@dzkol.pl
SUMMARY:Wyścig jazdy indywidualnej na czas o Puchar Wójta\, Międzywojewódzkie Mistrzostwa Młodzików: Dolnośląskie i Lubuskie\, jazda indywidualna na czas
DESCRIPTION:
URL:https://dzkol.pl/kalendarz/wyscig-jazdy-indywidualnej-na-czas-o-puchar-wojta-miedzywojewodzkie-mistrzostwa-mlodzikow-dolnoslaskie-i-lubuskie-jazda-indywidualna-na-czas/
LOCATION:Tuszyn
CATEGORIES:Międzywojewódzki Mistrzostwa Młodzików,szosa
ORGANIZER;CN="LKS Atom Dzier%C5%BConi%C3%B3w":MAILTO:mazur.atom@gmail.com
END:VEVENT
BEGIN:VEVENT
DTSTART;VALUE=DATE:20200816
DTEND;VALUE=DATE:20200817
DTSTAMP:20260423T234601
CREATED:20200704T120441Z
LAST-MODIFIED:20200704T120520Z
UID:3395-1597536000-1597622399@dzkol.pl
SUMMARY:3# Bike Maraton\, Kowary
DESCRIPTION:
URL:https://dzkol.pl/kalendarz/3-bike-maraton-kowary/
LOCATION:Kowary
CATEGORIES:Bike Maraton,maraton MTB
ORGANIZER;CN="Grabek Promotion":MAILTO:biuro@bikemaraton.com.pl
END:VEVENT
BEGIN:VEVENT
DTSTART;VALUE=DATE:20200816
DTEND;VALUE=DATE:20200817
DTSTAMP:20260423T234601
CREATED:20200704T121256Z
LAST-MODIFIED:20200704T121256Z
UID:3405-1597536000-1597622399@dzkol.pl
SUMMARY:Wyścig ze startu wspólnego o Puchar Starosty Dzierżoniowa\, Międzywojewódzkie Mistrzostwa Młodzików: Dolnośląskie i Lubuskie\, start wspólny
DESCRIPTION:
URL:https://dzkol.pl/kalendarz/wyscig-ze-startu-wspolnego-o-puchar-starosty-dzierzoniowa-miedzywojewodzkie-mistrzostwa-mlodzikow-dolnoslaskie-i-lubuskie-start-wspolny/
LOCATION:Roztocznik
CATEGORIES:Międzywojewódzki Mistrzostwa Młodzików,szosa
ORGANIZER;CN="LKS Atom Dzier%C5%BConi%C3%B3w":MAILTO:mazur.atom@gmail.com
END:VEVENT
BEGIN:VEVENT
DTSTART;VALUE=DATE:20200820
DTEND;VALUE=DATE:20200824
DTSTAMP:20260423T234601
CREATED:20200704T121400Z
LAST-MODIFIED:20200704T121400Z
UID:3407-1597881600-1598227199@dzkol.pl
SUMMARY:Mistrzostwa Polski w Kolarstwie Szosowym w jeździe indywidualnej na czas i ze startu wspólnego
DESCRIPTION:
URL:https://dzkol.pl/kalendarz/mistrzostwa-polski-w-kolarstwie-szosowym-w-jezdzie-indywidualnej-na-czas-i-ze-startu-wspolnego/
LOCATION:Busko-Zdrój
CATEGORIES:Mistrzostwa Polski,szosa
END:VEVENT
BEGIN:VEVENT
DTSTART;VALUE=DATE:20200822
DTEND;VALUE=DATE:20200823
DTSTAMP:20260423T234601
CREATED:20200414T193633Z
LAST-MODIFIED:20200704T121650Z
UID:3174-1598054400-1598140799@dzkol.pl
SUMMARY:Liga MTB Aglomeracji Wałbrzyskiej - Wyścig nr 4 – Puchar Wójta Gminy Walim
DESCRIPTION:
URL:https://dzkol.pl/kalendarz/liga-mtb-xc-aglomeracji-walbrzyskiej-wyscig-nr-1-w-walimiu/
LOCATION:Walim
CATEGORIES:Liga MTB Aglomeracji Wałbrzyskiej
ORGANIZER;CN="CSiR w Walimiu":MAILTO:sport@walim.pl
END:VEVENT
BEGIN:VEVENT
DTSTART;VALUE=DATE:20200822
DTEND;VALUE=DATE:20200823
DTSTAMP:20260423T234601
CREATED:20200704T121526Z
LAST-MODIFIED:20200704T121526Z
UID:3410-1598054400-1598140799@dzkol.pl
SUMMARY:Czasówka Izerska
DESCRIPTION:
URL:https://dzkol.pl/kalendarz/czasowka-izerska/
LOCATION:Szklarska Poręba
CATEGORIES:szosa
END:VEVENT
BEGIN:VEVENT
DTSTART;VALUE=DATE:20200822
DTEND;VALUE=DATE:20200824
DTSTAMP:20260423T234601
CREATED:20200704T121744Z
LAST-MODIFIED:20200704T121744Z
UID:3414-1598054400-1598227199@dzkol.pl
SUMMARY:Finał Ogólnopolskiej Olimpiady Młodzieży w kolarstwie MTB
DESCRIPTION:
URL:https://dzkol.pl/kalendarz/final-ogolnopolskiej-olimpiady-mlodziezy-w-kolarstwie-mtb-2/
LOCATION:Sławno
CATEGORIES:Mistrzostwa Polski,MTB
END:VEVENT
BEGIN:VEVENT
DTSTART;VALUE=DATE:20200822
DTEND;VALUE=DATE:20200824
DTSTAMP:20260423T234601
CREATED:20200704T121854Z
LAST-MODIFIED:20200704T121854Z
UID:3417-1598054400-1598227199@dzkol.pl
SUMMARY:MMM Międzywojewódzkie Mistrzostwa Młodzików w kolarstwie torowym: Dolnośląskie\, Lubuskie\, Opolskie i Wielkopolskie
DESCRIPTION:
URL:https://dzkol.pl/kalendarz/mmm-miedzywojewodzkie-mistrzostwa-mlodzikow-w-kolarstwie-torowym-dolnoslaskie-lubuskie-opolskie-i-wielkopolskie-2/
LOCATION:Kalisz
CATEGORIES:Międzywojewódzki Mistrzostwa Młodzików,tor
END:VEVENT
BEGIN:VEVENT
DTSTART;VALUE=DATE:20200823
DTEND;VALUE=DATE:20200824
DTSTAMP:20260423T234601
CREATED:20200704T122344Z
LAST-MODIFIED:20200704T122344Z
UID:3420-1598140800-1598227199@dzkol.pl
SUMMARY:V Ogólnopolski Wyścig Kolarski Szlakiem Bitwy Kaczawskiej
DESCRIPTION:
URL:https://dzkol.pl/kalendarz/v-ogolnopolski-wyscig-kolarski-szlakiem-bitwy-kaczawskiej/
LOCATION:Krotoszyce\, Krotoszyce\, dolnośląskie\, Polska
CATEGORIES:szosa
END:VEVENT
BEGIN:VEVENT
DTSTART;VALUE=DATE:20200829
DTEND;VALUE=DATE:20200831
DTSTAMP:20260423T234601
CREATED:20200704T122436Z
LAST-MODIFIED:20200704T122436Z
UID:3422-1598659200-1598831999@dzkol.pl
SUMMARY:Górskie Szosowe Mistrzostwa Polski
DESCRIPTION:
URL:https://dzkol.pl/kalendarz/gorskie-szosowe-mistrzostwa-polski-3/
LOCATION:Wysowa Zdrój\, Wysowa Zdrój\, Polska
CATEGORIES:Mistrzostwa Polski,szosa
END:VEVENT
BEGIN:VEVENT
DTSTART;VALUE=DATE:20200829
DTEND;VALUE=DATE:20200830
DTSTAMP:20260423T234601
CREATED:20200704T122705Z
LAST-MODIFIED:20200704T122705Z
UID:3426-1598659200-1598745599@dzkol.pl
SUMMARY:Doka Downhill City Tour
DESCRIPTION:
URL:https://dzkol.pl/kalendarz/doka-downhill-city-tour/
LOCATION:Ustroń Zawodzie
CATEGORIES:Downhill
END:VEVENT
BEGIN:VEVENT
DTSTART;VALUE=DATE:20200829
DTEND;VALUE=DATE:20200830
DTSTAMP:20260423T234601
CREATED:20200704T122940Z
LAST-MODIFIED:20200704T122940Z
UID:3429-1598659200-1598745599@dzkol.pl
SUMMARY:4# Bike Maraton\, Zieleniec\, Gmina Duszniki Zdrój
DESCRIPTION:
URL:https://dzkol.pl/kalendarz/4-bike-maraton-zieleniec-gmina-duszniki-zdroj/
LOCATION:Zieleniec
CATEGORIES:Bike Maraton,maraton MTB,MTB
ORGANIZER;CN="Grabek Promotion":MAILTO:biuro@bikemaraton.com.pl
END:VEVENT
BEGIN:VEVENT
DTSTART;VALUE=DATE:20200829
DTEND;VALUE=DATE:20200830
DTSTAMP:20260423T234601
CREATED:20200704T123101Z
LAST-MODIFIED:20200704T123101Z
UID:3432-1598659200-1598745599@dzkol.pl
SUMMARY:MMM Międzywojewódzkie Mistrzostwa Młodzików w Kolarstwie Górskim MTB XC
DESCRIPTION:
URL:https://dzkol.pl/kalendarz/mmm-miedzywojewodzkie-mistrzostwa-mlodzikow-w-kolarstwie-gorskim-mtb-xc/
LOCATION:Boguszów Gorce\, Boguszów Gorce\, Polska
CATEGORIES:Międzywojewódzki Mistrzostwa Młodzików,MTB
END:VEVENT
BEGIN:VEVENT
DTSTART;VALUE=DATE:20200829
DTEND;VALUE=DATE:20200830
DTSTAMP:20260423T234601
CREATED:20200704T123431Z
LAST-MODIFIED:20200704T123431Z
UID:3434-1598659200-1598745599@dzkol.pl
SUMMARY:Górale na Start – Mistrzostwa Polski E-Bike
DESCRIPTION:
URL:https://dzkol.pl/kalendarz/gorale-na-start-mistrzostwa-polski-e-bike/
LOCATION:Boguszów Gorce\, Boguszów Gorce\, Polska
CATEGORIES:e-bike,Mistrzostwa Polski,MTB
END:VEVENT
BEGIN:VEVENT
DTSTART;VALUE=DATE:20200830
DTEND;VALUE=DATE:20200831
DTSTAMP:20260423T234601
CREATED:20200704T123557Z
LAST-MODIFIED:20200704T123557Z
UID:3436-1598745600-1598831999@dzkol.pl
SUMMARY:Górale na Start\, Puchar Polski XCO\, edycja #2
DESCRIPTION:
URL:https://dzkol.pl/kalendarz/gorale-na-start-puchar-polski-xco-edycja-2/
LOCATION:Boguszów Gorce\, Boguszów Gorce\, Polska
CATEGORIES:MTB
END:VEVENT
BEGIN:VEVENT
DTSTART;VALUE=DATE:20200903
DTEND;VALUE=DATE:20200907
DTSTAMP:20260423T234601
CREATED:20200704T123740Z
LAST-MODIFIED:20200704T123740Z
UID:3438-1599091200-1599436799@dzkol.pl
SUMMARY:Albertina Bałtyk-Karkonosze Tour
DESCRIPTION:
URL:https://dzkol.pl/kalendarz/albertina-baltyk-karkonosze-tour/
LOCATION:Kołobrzeg-Karpacz
CATEGORIES:szosa
END:VEVENT
BEGIN:VEVENT
DTSTART;VALUE=DATE:20200905
DTEND;VALUE=DATE:20200907
DTSTAMP:20260423T234601
CREATED:20200704T124510Z
LAST-MODIFIED:20200704T124510Z
UID:3443-1599264000-1599436799@dzkol.pl
SUMMARY:Finał Pucharu Polski w kolarstwie szosowym – jazda indywidualna na czas i start wspólny
DESCRIPTION:
URL:https://dzkol.pl/kalendarz/final-pucharu-polski-w-kolarstwie-szosowym-jazda-indywidualna-na-czas-i-start-wspolny/
LOCATION:Koźminek\, Koźminek\, Polska
CATEGORIES:szosa
END:VEVENT
END:VCALENDAR