BEGIN:VCALENDAR
VERSION:2.0
PRODID:-//Dolnośląski Związek Kolarski - ECPv6.15.20//NONSGML v1.0//EN
CALSCALE:GREGORIAN
METHOD:PUBLISH
X-ORIGINAL-URL:https://dzkol.pl
X-WR-CALDESC:Wydarzenia dla Dolnośląski Związek Kolarski
REFRESH-INTERVAL;VALUE=DURATION:PT1H
X-Robots-Tag:noindex
X-PUBLISHED-TTL:PT1H
BEGIN:VTIMEZONE
TZID:Europe/Warsaw
BEGIN:DAYLIGHT
TZOFFSETFROM:+0100
TZOFFSETTO:+0200
TZNAME:CEST
DTSTART:20190331T010000
END:DAYLIGHT
BEGIN:STANDARD
TZOFFSETFROM:+0200
TZOFFSETTO:+0100
TZNAME:CET
DTSTART:20191027T010000
END:STANDARD
BEGIN:DAYLIGHT
TZOFFSETFROM:+0100
TZOFFSETTO:+0200
TZNAME:CEST
DTSTART:20200329T010000
END:DAYLIGHT
BEGIN:STANDARD
TZOFFSETFROM:+0200
TZOFFSETTO:+0100
TZNAME:CET
DTSTART:20201025T010000
END:STANDARD
BEGIN:DAYLIGHT
TZOFFSETFROM:+0100
TZOFFSETTO:+0200
TZNAME:CEST
DTSTART:20210328T010000
END:DAYLIGHT
BEGIN:STANDARD
TZOFFSETFROM:+0200
TZOFFSETTO:+0100
TZNAME:CET
DTSTART:20211031T010000
END:STANDARD
BEGIN:DAYLIGHT
TZOFFSETFROM:+0100
TZOFFSETTO:+0200
TZNAME:CEST
DTSTART:20220327T010000
END:DAYLIGHT
BEGIN:STANDARD
TZOFFSETFROM:+0200
TZOFFSETTO:+0100
TZNAME:CET
DTSTART:20221030T010000
END:STANDARD
END:VTIMEZONE
BEGIN:VEVENT
DTSTART;VALUE=DATE:20200903
DTEND;VALUE=DATE:20200907
DTSTAMP:20260423T232050
CREATED:20200704T123740Z
LAST-MODIFIED:20200704T123740Z
UID:3438-1599091200-1599436799@dzkol.pl
SUMMARY:Albertina Bałtyk-Karkonosze Tour
DESCRIPTION:
URL:https://dzkol.pl/kalendarz/albertina-baltyk-karkonosze-tour/
LOCATION:Kołobrzeg-Karpacz
CATEGORIES:szosa
END:VEVENT
BEGIN:VEVENT
DTSTART;VALUE=DATE:20200905
DTEND;VALUE=DATE:20200907
DTSTAMP:20260423T232050
CREATED:20200704T124510Z
LAST-MODIFIED:20200704T124510Z
UID:3443-1599264000-1599436799@dzkol.pl
SUMMARY:Finał Pucharu Polski w kolarstwie szosowym – jazda indywidualna na czas i start wspólny
DESCRIPTION:
URL:https://dzkol.pl/kalendarz/final-pucharu-polski-w-kolarstwie-szosowym-jazda-indywidualna-na-czas-i-start-wspolny/
LOCATION:Koźminek\, Koźminek\, Polska
CATEGORIES:szosa
END:VEVENT
BEGIN:VEVENT
DTSTART;VALUE=DATE:20200906
DTEND;VALUE=DATE:20200907
DTSTAMP:20260423T232050
CREATED:20200704T124611Z
LAST-MODIFIED:20200704T124611Z
UID:3445-1599350400-1599436799@dzkol.pl
SUMMARY:Liga Szkółek Kolarskich w Jerzmanowej
DESCRIPTION:
URL:https://dzkol.pl/kalendarz/liga-szkolek-kolarskich-w-jerzmanowej/
LOCATION:Jerzmanowa\, Jerzmanowa\, dolnośląskie\, Polska
CATEGORIES:Liga Szkółek Kolarskich
END:VEVENT
BEGIN:VEVENT
DTSTART;VALUE=DATE:20200906
DTEND;VALUE=DATE:20200907
DTSTAMP:20260423T232050
CREATED:20200901T184606Z
LAST-MODIFIED:20200901T184942Z
UID:3731-1599350400-1599436799@dzkol.pl
SUMMARY:Otwarte Mistrzostwa Dolnego Śląska w Zjeździe MTB Downhill
DESCRIPTION:
URL:https://dzkol.pl/kalendarz/otwarte-mistrzostwa-dolnego-slaska-w-zjezdzie-mtb-downhill/
LOCATION:Boguszów Gorce\, Boguszów Gorce\, Polska
CATEGORIES:Downhill
ORGANIZER;CN="O%C5%9Brodek Sportu i Rekreacji w Boguszowie-Gorcach":MAILTO:biuro@osir-boguszow.eu
END:VEVENT
BEGIN:VEVENT
DTSTART;VALUE=DATE:20200912
DTEND;VALUE=DATE:20200913
DTSTAMP:20260423T232050
CREATED:20200704T124823Z
LAST-MODIFIED:20200704T125100Z
UID:3449-1599868800-1599955199@dzkol.pl
SUMMARY:5# Bike Maraton\, Jelenia Góra
DESCRIPTION:
URL:https://dzkol.pl/kalendarz/5-bike-maraton-jelenia-gora/
LOCATION:Jelenia Góra\, Jelenia Góra\, Polska
CATEGORIES:Bike Maraton,maraton MTB,MTB
END:VEVENT
BEGIN:VEVENT
DTSTART;VALUE=DATE:20200912
DTEND;VALUE=DATE:20200913
DTSTAMP:20260423T232050
CREATED:20200704T125357Z
LAST-MODIFIED:20200704T125415Z
UID:3451-1599868800-1599955199@dzkol.pl
SUMMARY:Liga MTB Aglomeracji Wałbrzyskiej – Wyścig nr 5 – Puchar Burmistrza Świebodzic
DESCRIPTION:
URL:https://dzkol.pl/kalendarz/liga-mtb-aglomeracji-walbrzyskiej-wyscig-nr-5-puchar-burmistrza-swiebodzic/
LOCATION:Świebodzice
CATEGORIES:Liga MTB Aglomeracji Wałbrzyskiej,MTB
ORGANIZER;CN="LKKS G%C3%B3rnik Wa%C5%82brzych":MAILTO:lkks.g.w@wp.pl
END:VEVENT
BEGIN:VEVENT
DTSTART;VALUE=DATE:20200912
DTEND;VALUE=DATE:20200913
DTSTAMP:20260423T232050
CREATED:20200704T125619Z
LAST-MODIFIED:20200704T125619Z
UID:3453-1599868800-1599955199@dzkol.pl
SUMMARY:IX Czasówka Kaczawska Górska
DESCRIPTION:
URL:https://dzkol.pl/kalendarz/ix-czasowka-kaczawska-gorska/
LOCATION:Wojcieszów – Podgórki\, Wojcieszów\, dolnośląskie\, Polska
CATEGORIES:szosa
END:VEVENT
BEGIN:VEVENT
DTSTART;VALUE=DATE:20200912
DTEND;VALUE=DATE:20200913
DTSTAMP:20260423T232050
CREATED:20200727T180914Z
LAST-MODIFIED:20200728T153740Z
UID:3557-1599868800-1599955199@dzkol.pl
SUMMARY:Międzywojewódzkie Mistrzostwa Młodzików w jeździe parami na czas
DESCRIPTION:\,
URL:https://dzkol.pl/kalendarz/miedzywojewodzkie-mistrzostwa-mlodzikow-w-jezdzie-parami-na-czas/
LOCATION:Zwierzyn\, Zwierzyn
ORGANIZER;CN="LKS POM Strzelce Kraje%C5%84skie":MAILTO:iks@pom.net.pl
END:VEVENT
BEGIN:VEVENT
DTSTART;VALUE=DATE:20200913
DTEND;VALUE=DATE:20200914
DTSTAMP:20260423T232050
CREATED:20200704T125715Z
LAST-MODIFIED:20200704T125715Z
UID:3455-1599955200-1600041599@dzkol.pl
SUMMARY:Ogólnopolski Wyścig Kolarski o Puchar Starosty Złotoryjskiego
DESCRIPTION:
URL:https://dzkol.pl/kalendarz/ogolnopolski-wyscig-kolarski-o-puchar-starosty-zlotoryjskiego-3/
LOCATION:Wyscoko
CATEGORIES:szosa
END:VEVENT
BEGIN:VEVENT
DTSTART;VALUE=DATE:20200913
DTEND;VALUE=DATE:20200914
DTSTAMP:20260423T232050
CREATED:20200704T125937Z
LAST-MODIFIED:20200704T125937Z
UID:3458-1599955200-1600041599@dzkol.pl
SUMMARY:Finał Ogólnopolskiej Olimpiady Młodzieży BMX
DESCRIPTION:
URL:https://dzkol.pl/kalendarz/final-ogolnopolskiej-olimpiady-mlodziezy-bmx/
LOCATION:Nowa Sól
CATEGORIES:BMX,Ogólnopolska Olimpiada Młodzieży
END:VEVENT
BEGIN:VEVENT
DTSTART;VALUE=DATE:20200913
DTEND;VALUE=DATE:20200914
DTSTAMP:20260423T232050
CREATED:20200704T130130Z
LAST-MODIFIED:20200704T130130Z
UID:3461-1599955200-1600041599@dzkol.pl
SUMMARY:Górale na Start - Puchar Polski XCO - edycja #3
DESCRIPTION:
URL:https://dzkol.pl/kalendarz/gorale-na-start-puchar-polski-xco-edycja-3/
LOCATION:Wałbrzych
CATEGORIES:MTB
END:VEVENT
BEGIN:VEVENT
DTSTART;VALUE=DATE:20200919
DTEND;VALUE=DATE:20200920
DTSTAMP:20260423T232050
CREATED:20200704T122603Z
LAST-MODIFIED:20200730T193736Z
UID:3424-1600473600-1600559999@dzkol.pl
SUMMARY:Górskie Szosowe Mistrzostwa Polski - Tandemy\, Służby Mundurowe i Amatorzy
DESCRIPTION:
URL:https://dzkol.pl/kalendarz/gorskie-szosowe-mistrzostwa-polski-tandemy-sluzby-mundurowe-i-amatorzy/
LOCATION:Podgórzyn – Sosnówka\, Podgórzyn\, dolnośląskie\, Polska
CATEGORIES:Mistrzostwa Polski,szosa
END:VEVENT
BEGIN:VEVENT
DTSTART;VALUE=DATE:20200919
DTEND;VALUE=DATE:20200920
DTSTAMP:20260423T232050
CREATED:20200704T130302Z
LAST-MODIFIED:20200704T130302Z
UID:3464-1600473600-1600559999@dzkol.pl
SUMMARY:6# Bike Maraton\, Polanica-Zdrój
DESCRIPTION:
URL:https://dzkol.pl/kalendarz/6-bike-maraton-polanica-zdroj/
LOCATION:Polanica Zdrój\, Polanica Zdrój\, Polska
CATEGORIES:Bike Maraton,maraton MTB,MTB
ORGANIZER;CN="Grabek Promotion":MAILTO:biuro@bikemaraton.com.pl
END:VEVENT
BEGIN:VEVENT
DTSTART;VALUE=DATE:20200919
DTEND;VALUE=DATE:20200920
DTSTAMP:20260423T232050
CREATED:20200704T130635Z
LAST-MODIFIED:20200704T130635Z
UID:3472-1600473600-1600559999@dzkol.pl
SUMMARY:XVI Grand Prix MTB Solidarności – Liga MTB Aglomeracji Wałbrzyskiej – Wyścig nr 6
DESCRIPTION:
URL:https://dzkol.pl/kalendarz/xvi-grand-prix-mtb-solidarnosci-liga-mtb-aglomeracji-walbrzyskiej-wyscig-nr-6/
LOCATION:Jaworzyna Śląska\, Jaworzyna Śląska\, dolnośląskie\, Polska
CATEGORIES:Liga MTB Aglomeracji Wałbrzyskiej,MTB
ORGANIZER;CN="LKKS G%C3%B3rnik Wa%C5%82brzych":MAILTO:lkks.g.w@wp.pl
END:VEVENT
BEGIN:VEVENT
DTSTART;VALUE=DATE:20200920
DTEND;VALUE=DATE:20200921
DTSTAMP:20260423T232050
CREATED:20200704T130459Z
LAST-MODIFIED:20200704T130459Z
UID:3469-1600560000-1600646399@dzkol.pl
SUMMARY:Pump It Tour – Puchar Polski Pumptrack
DESCRIPTION:
URL:https://dzkol.pl/kalendarz/pump-it-tour-puchar-polski-pumptrack/
LOCATION:Kasina Wielka
END:VEVENT
BEGIN:VEVENT
DTSTART;VALUE=DATE:20200920
DTEND;VALUE=DATE:20200921
DTSTAMP:20260423T232050
CREATED:20200704T130730Z
LAST-MODIFIED:20200704T130730Z
UID:3474-1600560000-1600646399@dzkol.pl
SUMMARY:VII Memoriał Stanisława Szozdy\, Finał Mistrzostw Polski w Kryterium
DESCRIPTION:
URL:https://dzkol.pl/kalendarz/vii-memorial-stanislawa-szozdy-final-mistrzostw-polski-w-kryterium/
LOCATION:Prudnik
CATEGORIES:szosa
END:VEVENT
BEGIN:VEVENT
DTSTART;VALUE=DATE:20200920
DTEND;VALUE=DATE:20200921
DTSTAMP:20260423T232050
CREATED:20200704T131012Z
LAST-MODIFIED:20200704T203929Z
UID:3477-1600560000-1600646399@dzkol.pl
SUMMARY:PKO Ubezpieczenia Via Dolny Śląsk\, „Grand Prix Gminy Kobierzyce”
DESCRIPTION:
URL:https://dzkol.pl/kalendarz/pko-ubezpieczenia-via-dolny-slask-grand-prix-gminy-kobierzyce/
LOCATION:Krzyżanowice
CATEGORIES:szosa,Via Dolny Śląsk
ORGANIZER;CN="%C5%9Al%C4%99%C5%BCa Sob%C3%B3tka Bike Academy":MAILTO:kssleza@gmail.com
END:VEVENT
BEGIN:VEVENT
DTSTART;VALUE=DATE:20200925
DTEND;VALUE=DATE:20200928
DTSTAMP:20260423T232050
CREATED:20200704T131124Z
LAST-MODIFIED:20200704T131124Z
UID:3479-1600992000-1601251199@dzkol.pl
SUMMARY:Mistrzostwa Polski w jeździe dwójkami i jeździe drużynowej
DESCRIPTION:
URL:https://dzkol.pl/kalendarz/mistrzostwa-polski-w-jezdzie-dwojkami-i-jezdzie-druzynowej/
LOCATION:Godziesze Wielkie\, Godziesze Wielkie\, Polska
CATEGORIES:Mistrzostwa Polski,Mistrzostwa Polski,szosa
END:VEVENT
BEGIN:VEVENT
DTSTART;VALUE=DATE:20200926
DTEND;VALUE=DATE:20200927
DTSTAMP:20260423T232050
CREATED:20200704T131507Z
LAST-MODIFIED:20200704T131507Z
UID:3483-1601078400-1601164799@dzkol.pl
SUMMARY:VIII Czasówka Gorzanowicka na dystansie 10 km\, Finał\, Pogwizdów
DESCRIPTION:
URL:https://dzkol.pl/kalendarz/viii-czasowka-gorzanowicka-na-dystansie-10-km-final-pogwizdow/
LOCATION:Pogwizdów
CATEGORIES:szosa
END:VEVENT
BEGIN:VEVENT
DTSTART;VALUE=DATE:20201001
DTEND;VALUE=DATE:20201005
DTSTAMP:20260423T232050
CREATED:20200704T131923Z
LAST-MODIFIED:20200704T131923Z
UID:3490-1601510400-1601855999@dzkol.pl
SUMMARY:Mistrzostwa Polski Elity w kolarstwie torowym\, Mistrzostwa Polski w konkurencjach nieolimpijskich
DESCRIPTION:
URL:https://dzkol.pl/kalendarz/mistrzostwa-polski-elity-w-kolarstwie-torowym-mistrzostwa-polski-w-konkurencjach-nieolimpijskich/
LOCATION:Pruszków
CATEGORIES:Mistrzostwa Polski,tor
END:VEVENT
BEGIN:VEVENT
DTSTART;VALUE=DATE:20201003
DTEND;VALUE=DATE:20201004
DTSTAMP:20260423T232050
CREATED:20200704T131323Z
LAST-MODIFIED:20200910T194901Z
UID:3481-1601683200-1601769599@dzkol.pl
SUMMARY:Liga MTB Aglomeracji Wałbrzyskiej – Wyścig nr 7 – FINAŁ – Puchar Burmistrza Szczawna-Zdroju
DESCRIPTION:
URL:https://dzkol.pl/kalendarz/liga-mtb-aglomeracji-walbrzyskiej-wyscig-nr-7-puchar-burmistrza-szczawna-zdroju/
LOCATION:Szczawno Zdrój\, Szczawno Zdrój\, Polska
CATEGORIES:Liga MTB Aglomeracji Wałbrzyskiej,MTB
ORGANIZER;CN="LKKS G%C3%B3rnik Wa%C5%82brzych":MAILTO:lkks.g.w@wp.pl
END:VEVENT
BEGIN:VEVENT
DTSTART;VALUE=DATE:20201003
DTEND;VALUE=DATE:20201004
DTSTAMP:20260423T232050
CREATED:20200704T132038Z
LAST-MODIFIED:20200704T132050Z
UID:3492-1601683200-1601769599@dzkol.pl
SUMMARY:Liga Szkółek Kolarskich w Wilkowie
DESCRIPTION:
URL:https://dzkol.pl/kalendarz/liga-szkolek-kolarskich-w-wilkowie/
LOCATION:Wilków\, Wilków\, dolnośląskie\, Polska
CATEGORIES:Liga Szkółek Kolarskich,MTB
END:VEVENT
BEGIN:VEVENT
DTSTART;VALUE=DATE:20201003
DTEND;VALUE=DATE:20201004
DTSTAMP:20260423T232050
CREATED:20200704T132158Z
LAST-MODIFIED:20200704T132158Z
UID:3494-1601683200-1601769599@dzkol.pl
SUMMARY:7# Bike Maraton\, Świeradów
DESCRIPTION:
URL:https://dzkol.pl/kalendarz/7-bike-maraton-swieradow/
LOCATION:Świeradów
CATEGORIES:Bike Maraton,maraton MTB,MTB
ORGANIZER;CN="Grabek Promotion":MAILTO:biuro@bikemaraton.com.pl
END:VEVENT
BEGIN:VEVENT
DTSTART;VALUE=DATE:20201010
DTEND;VALUE=DATE:20201011
DTSTAMP:20260423T232050
CREATED:20200704T132313Z
LAST-MODIFIED:20200704T132313Z
UID:3497-1602288000-1602374399@dzkol.pl
SUMMARY:8# Bike Maraton\, Sobótka
DESCRIPTION:
URL:https://dzkol.pl/kalendarz/8-bike-maraton-sobotka/
LOCATION:Sobótka
CATEGORIES:Bike Maraton,maraton MTB,MTB
ORGANIZER;CN="Grabek Promotion":MAILTO:biuro@bikemaraton.com.pl
END:VEVENT
BEGIN:VEVENT
DTSTART;VALUE=DATE:20201011
DTEND;VALUE=DATE:20201012
DTSTAMP:20260423T232050
CREATED:20200704T133027Z
LAST-MODIFIED:20200704T133027Z
UID:3499-1602374400-1602460799@dzkol.pl
SUMMARY:XXXIII Międzynarodowy Wyścig Kolarski „Ślężański Mnich”\, Memoriał Romana Ręgorowicza\, Sobótka
DESCRIPTION:
URL:https://dzkol.pl/kalendarz/xxxiii-miedzynarodowy-wyscig-kolarski-slezanski-mnich-memorial-romana-regorowicza-sobotka/
LOCATION:Sobótka
CATEGORIES:szosa
ORGANIZER;CN="%C5%9Al%C4%99%C5%BCa Sob%C3%B3tka Bike Academy":MAILTO:kssleza@gmail.com
END:VEVENT
BEGIN:VEVENT
DTSTART;VALUE=DATE:20201011
DTEND;VALUE=DATE:20201012
DTSTAMP:20260423T232050
CREATED:20200704T133322Z
LAST-MODIFIED:20200704T133322Z
UID:3502-1602374400-1602460799@dzkol.pl
SUMMARY:PKO Ubezpieczenia Via Dolny Śląsk\, „Runda Spadających Liści”
DESCRIPTION:
URL:https://dzkol.pl/kalendarz/pko-ubezpieczenia-via-dolny-slask-runda-spadajacych-lisci/
LOCATION:Sobótka
CATEGORIES:szosa,Via Dolny Śląsk
ORGANIZER;CN="%C5%9Al%C4%99%C5%BCa Sob%C3%B3tka Bike Academy":MAILTO:kssleza@gmail.com
END:VEVENT
BEGIN:VEVENT
DTSTART;VALUE=DATE:20201016
DTEND;VALUE=DATE:20201019
DTSTAMP:20260423T232050
CREATED:20200704T133434Z
LAST-MODIFIED:20200704T133434Z
UID:3504-1602806400-1603065599@dzkol.pl
SUMMARY:Mistrzostwa Polski w torowych konkurencjach nieolimpijskich
DESCRIPTION:
URL:https://dzkol.pl/kalendarz/mistrzostwa-polski-w-torowych-konkurencjach-nieolimpijskich/
LOCATION:Pruszków
CATEGORIES:Mistrzostwa Polski,tor
END:VEVENT
BEGIN:VEVENT
DTSTART;VALUE=DATE:20201017
DTEND;VALUE=DATE:20201018
DTSTAMP:20260423T232050
CREATED:20200704T133555Z
LAST-MODIFIED:20200704T133555Z
UID:3506-1602892800-1602979199@dzkol.pl
SUMMARY:9# Bike Maraton Miękinia - FINAŁ
DESCRIPTION:
URL:https://dzkol.pl/kalendarz/9-bike-maraton-miekinia-final/
LOCATION:Miękinia
CATEGORIES:Bike Maraton,maraton MTB,MTB
ORGANIZER;CN="Grabek Promotion":MAILTO:biuro@bikemaraton.com.pl
END:VEVENT
BEGIN:VEVENT
DTSTART;VALUE=DATE:20201018
DTEND;VALUE=DATE:20201019
DTSTAMP:20260423T232050
CREATED:20200414T194014Z
LAST-MODIFIED:20200704T133649Z
UID:3177-1602979200-1603065599@dzkol.pl
SUMMARY:PKO Ubezpieczenia Via Dolny Śląsk\, Szosowy Klasyk\, Miękinia - finał sezonu
DESCRIPTION:ięk
URL:https://dzkol.pl/kalendarz/pko-ubezpieczenia-via-dolny-slask-miekinia-szosowy-klasyk/
LOCATION:Miękinia
CATEGORIES:szosa,Via Dolny Śląsk
ORGANIZER;CN="Grabek Promotion":MAILTO:biuro@bikemaraton.com.pl
END:VEVENT
BEGIN:VEVENT
DTSTART;VALUE=DATE:20210423
DTEND;VALUE=DATE:20210426
DTSTAMP:20260423T232050
CREATED:20210422T132251Z
LAST-MODIFIED:20210422T132251Z
UID:4096-1619136000-1619395199@dzkol.pl
SUMMARY:Puchar Polski Juniorów na torze\, eliminacje do torowej OOM
DESCRIPTION:
URL:https://dzkol.pl/kalendarz/puchar-polski-juniorow-na-torze-eliminacje-do-torowej-oom/
LOCATION:Kalisz
CATEGORIES:tor
END:VEVENT
END:VCALENDAR