BEGIN:VCALENDAR
VERSION:2.0
PRODID:-//Dolnośląski Związek Kolarski - ECPv6.15.20//NONSGML v1.0//EN
CALSCALE:GREGORIAN
METHOD:PUBLISH
X-ORIGINAL-URL:https://dzkol.pl
X-WR-CALDESC:Wydarzenia dla Dolnośląski Związek Kolarski
REFRESH-INTERVAL;VALUE=DURATION:PT1H
X-Robots-Tag:noindex
X-PUBLISHED-TTL:PT1H
BEGIN:VTIMEZONE
TZID:Europe/Warsaw
BEGIN:DAYLIGHT
TZOFFSETFROM:+0100
TZOFFSETTO:+0200
TZNAME:CEST
DTSTART:20200329T010000
END:DAYLIGHT
BEGIN:STANDARD
TZOFFSETFROM:+0200
TZOFFSETTO:+0100
TZNAME:CET
DTSTART:20201025T010000
END:STANDARD
BEGIN:DAYLIGHT
TZOFFSETFROM:+0100
TZOFFSETTO:+0200
TZNAME:CEST
DTSTART:20210328T010000
END:DAYLIGHT
BEGIN:STANDARD
TZOFFSETFROM:+0200
TZOFFSETTO:+0100
TZNAME:CET
DTSTART:20211031T010000
END:STANDARD
BEGIN:DAYLIGHT
TZOFFSETFROM:+0100
TZOFFSETTO:+0200
TZNAME:CEST
DTSTART:20220327T010000
END:DAYLIGHT
BEGIN:STANDARD
TZOFFSETFROM:+0200
TZOFFSETTO:+0100
TZNAME:CET
DTSTART:20221030T010000
END:STANDARD
END:VTIMEZONE
BEGIN:VEVENT
DTSTART;VALUE=DATE:20210616
DTEND;VALUE=DATE:20210621
DTSTAMP:20260423T121009
CREATED:20210513T194551Z
LAST-MODIFIED:20210513T194551Z
UID:4217-1623801600-1624233599@dzkol.pl
SUMMARY:Mistrzostwa Polski w kolarstwie szosowym
DESCRIPTION:
URL:https://dzkol.pl/kalendarz/mistrzostwa-polski-w-kolarstwie-szosowym-2/
LOCATION:Kartuzy
CATEGORIES:Mistrzostwa Polski,szosa
END:VEVENT
BEGIN:VEVENT
DTSTART;VALUE=DATE:20210619
DTEND;VALUE=DATE:20210620
DTSTAMP:20260423T121009
CREATED:20210319T172941Z
LAST-MODIFIED:20210618T102759Z
UID:4006-1624060800-1624147199@dzkol.pl
SUMMARY:Liga MTB XC Aglomeracji Wałbrzyskiej - Wyścig nr 5 - Dobromierz
DESCRIPTION:Regulamin Ligi MTB XC Aglomeracji Wałbrzyskiej\n\n\n\n    \n        \n            \n        \n        \n            \n                2021 : Liga MTB XC Aglomeracji Wałbrzyskiej - regulamin\n                \n                     1.03 MB\n                     1158 downloads\n                \n            \n            ...\n        \n        \n            Pobierz\n        \n    \n\n\n\n\nKomunikat organizacyjny\n\n\n\n    \n        \n            \n        \n        \n            \n                20210619 : Liga MTB XC Aglomeracji Wałbrzyskiej - Wyścig nr 5 - Dobromierz - komunikat organizacyjny\n                \n                     553.83 KB\n                     33 downloads\n                \n            \n            ...\n        \n        \n            Pobierz
URL:https://dzkol.pl/kalendarz/liga-mtb-xc-aglomeracji-walbrzyskiej-wyscig-nr-5-dobromierz/
LOCATION:Dobromierz
CATEGORIES:Liga MTB Aglomeracji Wałbrzyskiej
ORGANIZER;CN="LKKS G%C3%B3rnik Wa%C5%82brzych":MAILTO:lkks.g.w@wp.pl
END:VEVENT
BEGIN:VEVENT
DTSTART;VALUE=DATE:20210619
DTEND;VALUE=DATE:20210621
DTSTAMP:20260423T121009
CREATED:20210513T194901Z
LAST-MODIFIED:20210602T132649Z
UID:4221-1624060800-1624233599@dzkol.pl
SUMMARY:MMM - Międzywojewódzkie Mistrzostwa Młodzików w kolarstwie szosowym
DESCRIPTION:2021-06-19 Jazda indywidualna na czas – regulamin\n\n\n\n    \n        \n            \n        \n        \n            \n                20210619 : Międzywojewódzkie Mistrzostwa Młodzików - jazda indywidualna na czas - Zielona Góra - regulamin\n                \n                     194.24 KB\n                     118 downloads\n                \n            \n            ...\n        \n        \n            Pobierz\n        \n    \n\n\n\n\n2021-06-20 Wyścig ze startu wspólnego – regulamin\n\n\n\n    \n        \n            \n        \n        \n            \n                20210620 : Międzywojewódzkie Mistrzostwa Młodzików - start wspólny - Zabór - regulamin\n                \n                     234.50 KB\n                     139 downloads\n                \n            \n            ...\n        \n        \n            Pobierz
URL:https://dzkol.pl/kalendarz/mmm-miedzywojewodzkie-mistrzostwa-mlodzikow-w-kolarstwie-szosowym/
LOCATION:Zielona Góra
CATEGORIES:Międzywojewódzkie Mistrzostwa Młodzików
END:VEVENT
BEGIN:VEVENT
DTSTART;VALUE=DATE:20210626
DTEND;VALUE=DATE:20210627
DTSTAMP:20260423T121009
CREATED:20210319T173143Z
LAST-MODIFIED:20210618T102316Z
UID:4008-1624665600-1624751999@dzkol.pl
SUMMARY:Liga MTB XC Aglomeracji Wałbrzyskiej - XVII Grand Prix Solidarności - Wyścig nr 6 - Jaworzyna Śląska
DESCRIPTION:Regulamin Ligi MTB XC Aglomeracji Wałbrzyskiej\n\n\n\n    \n        \n            \n        \n        \n            \n                2021 : Liga MTB XC Aglomeracji Wałbrzyskiej - regulamin\n                \n                     1.03 MB\n                     1158 downloads\n                \n            \n            ...\n        \n        \n            Pobierz\n        \n    \n\n\n\n\nKomunikat organizacyjny\n\n\n\n    \n        \n            \n        \n        \n            \n                20210626 : Liga MTB XC Aglomeracji Wałbrzyskiej - XVII Grand Prix Solidarności - Wyścig nr 6 - Jaworzyna Śląska - komunikat organizacyjny\n                \n                     739.11 KB\n                     52 downloads\n                \n            \n            ...\n        \n        \n            Pobierz\n        \n    \n\n\n\n\n 
URL:https://dzkol.pl/kalendarz/liga-mtb-xc-aglomeracji-walbrzyskiej-wyscig-nr-6-jaworzyna-slaska/
LOCATION:Jaworzyna Śląska\, Jaworzyna Śląska\, dolnośląskie\, Polska
CATEGORIES:Liga MTB Aglomeracji Wałbrzyskiej
ORGANIZER;CN="LKKS G%C3%B3rnik Wa%C5%82brzych":MAILTO:lkks.g.w@wp.pl
END:VEVENT
BEGIN:VEVENT
DTSTART;VALUE=DATE:20210626
DTEND;VALUE=DATE:20210627
DTSTAMP:20260423T121009
CREATED:20210421T094454Z
LAST-MODIFIED:20210429T113829Z
UID:4083-1624665600-1624751999@dzkol.pl
SUMMARY:MINI Sikora Enduro MTB Series
DESCRIPTION:20210508 : MINI Sikora Enduro MTB Series 2021 - Świeradów - regulamin\n                \n                     670.06 KB\n                     26 downloads\n                \n            \n            ...\n        \n        \n            Pobierz
URL:https://dzkol.pl/kalendarz/mini-sikora-enduro-mtb-series/
LOCATION:Świeradów
CATEGORIES:MTB Enduro
ORGANIZER;CN="Active Group":MAILTO:EnduroMTBseries@gmail.com
END:VEVENT
BEGIN:VEVENT
DTSTART;VALUE=DATE:20210626
DTEND;VALUE=DATE:20210630
DTSTAMP:20260423T121009
CREATED:20210513T195632Z
LAST-MODIFIED:20210513T195632Z
UID:4225-1624665600-1625011199@dzkol.pl
SUMMARY:Bike Adventure
DESCRIPTION:
URL:https://dzkol.pl/kalendarz/bike-adventure/
LOCATION:Szklarska Poręba
CATEGORIES:Bike Maraton,maraton MTB
ORGANIZER;CN="Grabek Promotion":MAILTO:biuro@bikemaraton.com.pl
END:VEVENT
BEGIN:VEVENT
DTSTART;VALUE=DATE:20210626
DTEND;VALUE=DATE:20210628
DTSTAMP:20260423T121009
CREATED:20210513T200025Z
LAST-MODIFIED:20210513T200025Z
UID:4227-1624665600-1624838399@dzkol.pl
SUMMARY:Mistrzostwa Szkółek Kolarskich
DESCRIPTION:
URL:https://dzkol.pl/kalendarz/mistrzostwa-szkolek-kolarskich/
LOCATION:Raszków
CATEGORIES:Mistrzostwa Polski Szkółek Kolarskich w MTB
END:VEVENT
BEGIN:VEVENT
DTSTART;VALUE=DATE:20210702
DTEND;VALUE=DATE:20210703
DTSTAMP:20260423T121009
CREATED:20210513T202100Z
LAST-MODIFIED:20210704T141415Z
UID:4237-1625184000-1625270399@dzkol.pl
SUMMARY:MMM Międzywojewódzkie Mistrzostwa Młodzików w kolarstwie torowym
DESCRIPTION:WYNIKI\n\n\n\n    \n        \n            \n        \n        \n            \n                20210702 : Międzywojewódzkie Mistrzostwa Młodzików w kolarstwie torowym - Wrocław - wyniki\n                \n                     2.63 MB\n                     361 downloads\n                \n            \n            ...\n        \n        \n            Pobierz\n        \n    \n\n\n\n\nREGULAMIN\n\n\n\n    \n        \n            \n        \n        \n            \n                20210702 : Międzywojewódzkie Mistrzostwa Młodziczek i Młodzików w kolarstwie torowym - Wrocław - regulamin\n                \n                     1.05 MB\n                     155 downloads\n                \n            \n            ...\n        \n        \n            Pobierz\n        \n    \n\n\n\n\nDRUK ZGŁOSZENIA\n\n\n\n    \n        \n            \n        \n        \n            \n                20210702 : Międzywojewódzkie Mistrzostwa Młodziczek i Młodzików w kolarstwie torowym - Wrocław - druk zgłoszenia\n                \n                     12.57 KB\n                     61 downloads\n                \n            \n            \n\n\nZgłoszenia\, wyłącznie na powyższym druku\, do 30.06.2021 na: dzkol@dzkol.eu\n\n\n\n...\n        \n        \n            Pobierz\n        \n    \n\n\n\n\n 
URL:https://dzkol.pl/kalendarz/mmm-miedzywojewodzkie-mistrzostwa-mlodzikow-w-kolarstwie-torowym/
LOCATION:Wrocław – tor kolarski\, Żmigrodzka 243\, Wrocław\, dolnośląskie\, 51-117\, Polska
CATEGORIES:Międzywojewódzki Mistrzostwa Młodzików,tor
ORGANIZER;CN="Dolno%C5%9Bl%C4%85ski Zwi%C4%85zek Kolarski":MAILTO:dzkol@dzkol.eu
END:VEVENT
BEGIN:VEVENT
DTSTART;VALUE=DATE:20210703
DTEND;VALUE=DATE:20210705
DTSTAMP:20260423T121009
CREATED:20210506T053655Z
LAST-MODIFIED:20210704T141324Z
UID:4149-1625270400-1625443199@dzkol.pl
SUMMARY:Eliminacje do Ogólnopolskiej Olimpiady Młodzieży – Puchar Polski w kolarstwie torowym
DESCRIPTION:WYNIKI\n\n\n\n    \n        \n            \n        \n        \n            \n                20210703-04 : Puchar Polski w kolarstwie torowym - Eliminacje do OOM - Wrocław - wyniki\n                \n                     7.16 MB\n                     80 downloads\n                \n            \n            ...\n        \n        \n            Pobierz\n        \n    \n\n\n\n\nREGULAMIN\n\n\n\n    \n        \n            \n        \n        \n            \n                20210703-04 : Puchar Polski w kolarstwie torowym - Eliminacje do Ogólnopolskiej Olimpiady Młodzieży w kolarstwie torowym - Wrocław - regulamin\n                \n                     172.37 KB\n                     123 downloads\n                \n            \n            ...\n        \n        \n            Pobierz\n        \n    \n\n\n\n\nDRUK ZGŁOSZENIA\n\n\n\n    \n        \n            \n        \n        \n            \n                20210703-04 : Puchar Polski w kolarstwie torowym - Eliminacje do Ogólnopolskiej Olimpiady Młodzieży w kolarstwie torowym - Wrocław - druk zgloszenia\n                \n                     13.83 KB\n                     46 downloads\n                \n            \n            Zgłoszenia\, wyłącznie na powyższym druku\, do 30.06.2021 na: dzkol@dzkol.eu\n...\n        \n        \n            Pobierz
URL:https://dzkol.pl/kalendarz/eliminacje-do-ogolnopolskiej-olimpiady-mlodziezy-puchar-polski-w-kolarstwie-torowym/
LOCATION:Wrocław – tor kolarski\, Żmigrodzka 243\, Wrocław\, dolnośląskie\, 51-117\, Polska
CATEGORIES:tor
ORGANIZER;CN="Dolno%C5%9Bl%C4%85ski Zwi%C4%85zek Kolarski":MAILTO:dzkol@dzkol.eu
END:VEVENT
BEGIN:VEVENT
DTSTART;VALUE=DATE:20210703
DTEND;VALUE=DATE:20210704
DTSTAMP:20260423T121009
CREATED:20210513T200258Z
LAST-MODIFIED:20210708T123908Z
UID:4229-1625270400-1625356799@dzkol.pl
SUMMARY:Szukamy Następców Olimpijczyka Tadeusza Mytnika - jazda indywidualna na czas
DESCRIPTION:WYNIKI\n\n\n\n    \n        \n            \n        \n        \n            \n                20210703 : VII edycja szosowego wyścigu w jeździe indywidualnej na czas - Szukamy Następców Olimpijczyka Tadeusza Mytnika - Nowice - wyniki\n                \n                     804.89 KB\n                     213 downloads\n                \n            \n            ...\n        \n        \n            Pobierz\n        \n    \n\n\n\n\nREGULAMIN\n\n\n\n    \n        \n            \n        \n        \n            \n                20210703 : VI edycja Szosowego Wyścigu Kolarskiego „Szukamy następców Olimpijczyka Tadeusza Mytnika” - jazda indywidualna na czas - Nowice - regulamin\n                \n                     564.85 KB\n                     365 downloads\n                \n            \n            ...\n        \n        \n            Pobierz
URL:https://dzkol.pl/kalendarz/szukamy-nastepcow-olimpijczyka-tadeusza-mytnika-jazda-indywidualna-na-czas/
LOCATION:Nowice\, Nowice\, dolnośląskie\, Polska
CATEGORIES:szosa
ORGANIZER;CN="MKS %E2%80%9EKarolina%E2%80%9D Jaworzyna %C5%9Al%C4%85ska":MAILTO:kontakt@mkskarolina.com
END:VEVENT
BEGIN:VEVENT
DTSTART;VALUE=DATE:20210703
DTEND;VALUE=DATE:20210704
DTSTAMP:20260423T121009
CREATED:20210513T201432Z
LAST-MODIFIED:20210513T201432Z
UID:4232-1625270400-1625356799@dzkol.pl
SUMMARY:Bike Maraton Szklarska Poręba
DESCRIPTION:
URL:https://dzkol.pl/kalendarz/bike-maraton-szklarska-poreba-3/
LOCATION:Szklarska Poręba
CATEGORIES:Bike Maraton
ORGANIZER;CN="Grabek Promotion":MAILTO:biuro@bikemaraton.com.pl
END:VEVENT
BEGIN:VEVENT
DTSTART;VALUE=DATE:20210703
DTEND;VALUE=DATE:20210704
DTSTAMP:20260423T121009
CREATED:20210513T201747Z
LAST-MODIFIED:20210513T201747Z
UID:4234-1625270400-1625356799@dzkol.pl
SUMMARY:Mistrzostwa Polski BMX Racing – start wspólny
DESCRIPTION:
URL:https://dzkol.pl/kalendarz/mistrzostwa-polski-bmx-racing-start-wspolny-2/
LOCATION:Nowa Sól
CATEGORIES:BMX,Mistrzostwa Polski
END:VEVENT
BEGIN:VEVENT
DTSTART;VALUE=DATE:20210704
DTEND;VALUE=DATE:20210705
DTSTAMP:20260423T121009
CREATED:20210513T202406Z
LAST-MODIFIED:20210513T202406Z
UID:4239-1625356800-1625443199@dzkol.pl
SUMMARY:Mistrzostwa Polski BMX Racing – start wspólny
DESCRIPTION:
URL:https://dzkol.pl/kalendarz/mistrzostwa-polski-bmx-racing-start-wspolny-3/
LOCATION:Dzierżoniów\, Dzierżoniów\, dolnośląskie\, Polska
CATEGORIES:BMX,Mistrzostwa Polski
END:VEVENT
BEGIN:VEVENT
DTSTART;VALUE=DATE:20210704
DTEND;VALUE=DATE:20210705
DTSTAMP:20260423T121009
CREATED:20210513T202657Z
LAST-MODIFIED:20210513T202657Z
UID:4242-1625356800-1625443199@dzkol.pl
SUMMARY:Grand Prix Walimia MTB XCO – Eliminacje do OOM
DESCRIPTION:
URL:https://dzkol.pl/kalendarz/grand-prix-walimia-mtb-xco-eliminacje-do-oom/
LOCATION:Walim
CATEGORIES:EOOM,MTB XC,Puchar Polski MTB
ORGANIZER;CN="Centrum Sportu i Rekreacji Walim":MAILTO:sport@walim.pl
END:VEVENT
BEGIN:VEVENT
DTSTART;VALUE=DATE:20210704
DTEND;VALUE=DATE:20210705
DTSTAMP:20260423T121009
CREATED:20210513T202950Z
LAST-MODIFIED:20210513T202950Z
UID:4247-1625356800-1625443199@dzkol.pl
SUMMARY:PKO Ubezpieczenia Via Dolny Śląsk „Szosowy Klasyk”
DESCRIPTION:
URL:https://dzkol.pl/kalendarz/pko-ubezpieczenia-via-dolny-slask-szosowy-klasyk-2/
LOCATION:Szklarska Poręba
CATEGORIES:szosa,Via Dolny Śląsk
ORGANIZER;CN="Grabek Promotion":MAILTO:biuro@bikemaraton.com.pl
END:VEVENT
BEGIN:VEVENT
DTSTART;VALUE=DATE:20210708
DTEND;VALUE=DATE:20210712
DTSTAMP:20260423T121009
CREATED:20210513T202840Z
LAST-MODIFIED:20210513T202840Z
UID:4244-1625702400-1626047999@dzkol.pl
SUMMARY:Młodzieżowe Mistrzostwa Polski w kolarstwie torowym
DESCRIPTION:
URL:https://dzkol.pl/kalendarz/mlodziezowe-mistrzostwa-polski-w-kolarstwie-torowym-2/
LOCATION:Szczecin\, Szczecin\, zachodniopomorskie\, Polska
CATEGORIES:tor
END:VEVENT
BEGIN:VEVENT
DTSTART;VALUE=DATE:20210717
DTEND;VALUE=DATE:20210718
DTSTAMP:20260423T121009
CREATED:20210513T203412Z
LAST-MODIFIED:20210513T203412Z
UID:4249-1626480000-1626566399@dzkol.pl
SUMMARY:Bike Maraton Bielawa
DESCRIPTION:
URL:https://dzkol.pl/kalendarz/bike-maraton-bielawa-3/
LOCATION:Bielawa
CATEGORIES:Bike Maraton,maraton MTB
ORGANIZER;CN="Grabek Promotion":MAILTO:biuro@bikemaraton.com.pl
END:VEVENT
BEGIN:VEVENT
DTSTART;VALUE=DATE:20210718
DTEND;VALUE=DATE:20210719
DTSTAMP:20260423T121009
CREATED:20210513T203710Z
LAST-MODIFIED:20210513T203758Z
UID:4251-1626566400-1626652799@dzkol.pl
SUMMARY:Visegrad V4 Bicycle Race Grand Prix Poland
DESCRIPTION:
URL:https://dzkol.pl/kalendarz/visegrad-v4-bicykle-race-grand-prix-poland/
LOCATION:Oleśnica-Długołęka
CATEGORIES:szosa
ORGANIZER;CN="%C5%9Al%C4%99%C5%BCa Sob%C3%B3tka Bike Academy":MAILTO:kssleza@gmail.com
END:VEVENT
BEGIN:VEVENT
DTSTART;VALUE=DATE:20210718
DTEND;VALUE=DATE:20210719
DTSTAMP:20260423T121009
CREATED:20210513T203923Z
LAST-MODIFIED:20210513T203923Z
UID:4254-1626566400-1626652799@dzkol.pl
SUMMARY:UCI Warsaw Cup – Puchar Polski XCO – edycja 1 - Eliminacje do OOM
DESCRIPTION:
URL:https://dzkol.pl/kalendarz/uci-warsaw-cup-puchar-polski-xco-edycja-1-eliminacje-do-oom/
LOCATION:Warszawa
CATEGORIES:EOOM,MTB XC,Puchar Polski MTB
ORGANIZER;CN="Warszawski Klub Kolarski":MAILTO:bmaresz@o2.pl
END:VEVENT
BEGIN:VEVENT
DTSTART;VALUE=DATE:20210721
DTEND;VALUE=DATE:20210726
DTSTAMP:20260423T121009
CREATED:20210513T204047Z
LAST-MODIFIED:20210513T204047Z
UID:4256-1626825600-1627257599@dzkol.pl
SUMMARY:UCI Bałtyk-Karkonosze Tour
DESCRIPTION:
URL:https://dzkol.pl/kalendarz/uci-baltyk-karkonosze-tour/
LOCATION:Kołobrzeg-Karpacz
CATEGORIES:szosa
END:VEVENT
BEGIN:VEVENT
DTSTART;VALUE=DATE:20210724
DTEND;VALUE=DATE:20210725
DTSTAMP:20260423T121009
CREATED:20210513T204224Z
LAST-MODIFIED:20210513T204224Z
UID:4259-1627084800-1627171199@dzkol.pl
SUMMARY:Międzynarodowy Wyścig Kolarski o Puchar Bogumiły Matusiak - Puchar Polski - jazda indywidualna na czas
DESCRIPTION:
URL:https://dzkol.pl/kalendarz/miedzynarodowy-wyscig-kolarski-o-puchar-bogumily-matusiak-puchar-polski-jazda-indywidualna-na-czas/
LOCATION:Pabianice
CATEGORIES:szosa
END:VEVENT
BEGIN:VEVENT
DTSTART;VALUE=DATE:20210724
DTEND;VALUE=DATE:20210725
DTSTAMP:20260423T121009
CREATED:20210701T115624Z
LAST-MODIFIED:20210712T211529Z
UID:4520-1627084800-1627171199@dzkol.pl
SUMMARY:Międzywojewódzkie Mistrzostwa Młodzików w sztafecie MTB
DESCRIPTION:REGULAMIN\n\n\n\n    \n        \n            \n        \n        \n            \n                20210724 : Międzywojewódzkie Mistrzostwa Młodzików w sztafecie MTB - Biała Prudnicka - regulamin\n                \n                     851.85 KB\n                     57 downloads\n                \n            \n            ...\n        \n        \n            Pobierz
URL:https://dzkol.pl/kalendarz/miedzywojewodzkie-mistrzostwa-mlodzikow-w-sztafecie-mtb/
LOCATION:Biała Prudnicka\, Jana i Karola Augustynów\, Biała Prudnicka\, Opolskie\, 48-210
CATEGORIES:Międzywojewódzkie Mistrzostwa Młodzików,MTB XC
END:VEVENT
BEGIN:VEVENT
DTSTART;VALUE=DATE:20210725
DTEND;VALUE=DATE:20210726
DTSTAMP:20260423T121009
CREATED:20210513T204303Z
LAST-MODIFIED:20210513T204303Z
UID:4263-1627171200-1627257599@dzkol.pl
SUMMARY:Międzynarodowy Wyścig Kolarski o Puchar Bogumiły Matusiak - Puchar Polski - wyścig ze startu wspólnego
DESCRIPTION:
URL:https://dzkol.pl/kalendarz/miedzynarodowy-wyscig-kolarski-o-puchar-bogumily-matusiak-puchar-polski-wyscig-ze-startu-wspolnego/
LOCATION:Pabianice
CATEGORIES:szosa
END:VEVENT
BEGIN:VEVENT
DTSTART;VALUE=DATE:20210730
DTEND;VALUE=DATE:20210802
DTSTAMP:20260423T121009
CREATED:20210513T204421Z
LAST-MODIFIED:20210513T204421Z
UID:4265-1627603200-1627862399@dzkol.pl
SUMMARY:Finał Ogólnopolskiej Olimpiady Młodzieży w kolarstwie torowym
DESCRIPTION:
URL:https://dzkol.pl/kalendarz/final-ogolnopolskiej-olimpiady-mlodziezy-w-kolarstwie-torowym/
LOCATION:Pruszków
CATEGORIES:tor
END:VEVENT
BEGIN:VEVENT
DTSTART;VALUE=DATE:20210731
DTEND;VALUE=DATE:20210801
DTSTAMP:20260423T121009
CREATED:20210506T055754Z
LAST-MODIFIED:20210802T172356Z
UID:4155-1627689600-1627775999@dzkol.pl
SUMMARY:Liga Szkółek Kolarskich - Dolny Śląsk 2021 - Obiszów
DESCRIPTION:WYNIKI\n\n\n\n    \n        \n            \n            \n                20210731 : Liga Szkółek Kolarskich - Dolny Śląsk 2021 - Obiszów - wyniki\n                 1 plik(i)  732.04 KB\n            \n            \n                Pobierz\n            \n        \n    \n\n\n\nKOMUNIKAT ORGANIZACYJNY\n\n\n\n    \n        \n            \n        \n        \n            \n                20210731 : Liga Szkółek Kolarskich MTB - Dolny Śląsk 2021 - Obiszów - komunikat organizacyjny\n                \n                     311.46 KB\n                     80 downloads\n                \n            \n            ...\n        \n        \n            Pobierz\n        \n    \n\n\n\n\nREGULAMIN\n\n\n\n    \n        \n            \n        \n        \n            \n                2021 : Liga Szkółek Kolarskich - Dolny Śląsk - regulamin\n                \n                     1.75 MB\n                     268 downloads\n                \n            \n            ...\n        \n        \n            Pobierz\n        \n    \n\n\n\n\n  \n 
URL:https://dzkol.pl/kalendarz/liga-szkolek-kolarskich-dolny-slask-2021-obiszow/
LOCATION:Obiszów
CATEGORIES:Liga Szkółek Kolarskich
ORGANIZER;CN="TC Chrobry G%C5%82og%C3%B3w":MAILTO:sbb200@wp.pl
END:VEVENT
BEGIN:VEVENT
DTSTART;VALUE=DATE:20210731
DTEND;VALUE=DATE:20210801
DTSTAMP:20260423T121009
CREATED:20210513T204547Z
LAST-MODIFIED:20210513T204547Z
UID:4268-1627689600-1627775999@dzkol.pl
SUMMARY:PKO Ubezpieczenia Via Dolny Śląsk „Szosowy Klasyk”
DESCRIPTION:
URL:https://dzkol.pl/kalendarz/pko-ubezpieczenia-via-dolny-slask-szosowy-klasyk-3/
LOCATION:Obiszów
CATEGORIES:szosa,Via Dolny Śląsk
ORGANIZER;CN="Grabek Promotion":MAILTO:biuro@bikemaraton.com.pl
END:VEVENT
BEGIN:VEVENT
DTSTART;VALUE=DATE:20210801
DTEND;VALUE=DATE:20210802
DTSTAMP:20260423T121009
CREATED:20210513T204935Z
LAST-MODIFIED:20210513T204935Z
UID:4270-1627776000-1627862399@dzkol.pl
SUMMARY:Puchar Starosty Wałbrzyskiego
DESCRIPTION:
URL:https://dzkol.pl/kalendarz/puchar-starosty-walbrzyskiego-3/
LOCATION:Jaczków
CATEGORIES:szosa
ORGANIZER;CN="LKS Jocker Jaczk%C3%B3w":MAILTO:dawidzdzieblko1@wp.pl
END:VEVENT
BEGIN:VEVENT
DTSTART;VALUE=DATE:20210801
DTEND;VALUE=DATE:20210802
DTSTAMP:20260423T121009
CREATED:20210513T205149Z
LAST-MODIFIED:20210514T065445Z
UID:4273-1627776000-1627862399@dzkol.pl
SUMMARY:Bike Maraton Obiszów
DESCRIPTION:
URL:https://dzkol.pl/kalendarz/bike-maraton-obiszow-3/
LOCATION:Obiszów
CATEGORIES:Bike Maraton
ORGANIZER;CN="Grabek Promotion":MAILTO:biuro@bikemaraton.com.pl
END:VEVENT
BEGIN:VEVENT
DTSTART;VALUE=DATE:20210801
DTEND;VALUE=DATE:20210802
DTSTAMP:20260423T121009
CREATED:20210722T082812Z
LAST-MODIFIED:20210722T083011Z
UID:4610-1627776000-1627862399@dzkol.pl
SUMMARY:Wyścig Kolarski o Puchar Wójta Gminy Czarny Bór - Szukamy Następców Naszych Olimpijczyków
DESCRIPTION:REGULAMIN\n\n\n\n    \n        \n            \n            \n                20210801 : Wyścig Kolarski o Puchar Wójta Gminy Czarny Bór - XVI Festyn Sportu - Szukamy Następców Naszych Olimpijczyków - Jaczków - regulamin\n                 1 plik(i)  184.59 KB\n            \n            \n                Pobierz
URL:https://dzkol.pl/kalendarz/wyscig-kolarski-o-puchar-wojta-gminy-czarny-bor-szukamy-nastepcow-naszych-olimpijczykow/
LOCATION:Jaczków
CATEGORIES:szosa
END:VEVENT
BEGIN:VEVENT
DTSTART;VALUE=DATE:20210806
DTEND;VALUE=DATE:20210809
DTSTAMP:20260423T121009
CREATED:20210514T065712Z
LAST-MODIFIED:20210514T065712Z
UID:4275-1628208000-1628467199@dzkol.pl
SUMMARY:Mistrzostwa Polski MTB XCO
DESCRIPTION:
URL:https://dzkol.pl/kalendarz/mistrzostwa-polski-mtb-xco/
LOCATION:Boguszów Gorce\, Boguszów Gorce\, Polska
CATEGORIES:Mistrzostwa Polski,MTB
ORGANIZER;CN="KKW Whyte Nexelo Wa%C5%82brzych":MAILTO:klub@kk.walbrzych.pl
END:VEVENT
END:VCALENDAR