BEGIN:VCALENDAR
VERSION:2.0
PRODID:-//Dolnośląski Związek Kolarski - ECPv6.15.20//NONSGML v1.0//EN
CALSCALE:GREGORIAN
METHOD:PUBLISH
X-ORIGINAL-URL:https://dzkol.pl
X-WR-CALDESC:Wydarzenia dla Dolnośląski Związek Kolarski
REFRESH-INTERVAL;VALUE=DURATION:PT1H
X-Robots-Tag:noindex
X-PUBLISHED-TTL:PT1H
BEGIN:VTIMEZONE
TZID:Europe/Warsaw
BEGIN:DAYLIGHT
TZOFFSETFROM:+0100
TZOFFSETTO:+0200
TZNAME:CEST
DTSTART:20200329T010000
END:DAYLIGHT
BEGIN:STANDARD
TZOFFSETFROM:+0200
TZOFFSETTO:+0100
TZNAME:CET
DTSTART:20201025T010000
END:STANDARD
BEGIN:DAYLIGHT
TZOFFSETFROM:+0100
TZOFFSETTO:+0200
TZNAME:CEST
DTSTART:20210328T010000
END:DAYLIGHT
BEGIN:STANDARD
TZOFFSETFROM:+0200
TZOFFSETTO:+0100
TZNAME:CET
DTSTART:20211031T010000
END:STANDARD
BEGIN:DAYLIGHT
TZOFFSETFROM:+0100
TZOFFSETTO:+0200
TZNAME:CEST
DTSTART:20220327T010000
END:DAYLIGHT
BEGIN:STANDARD
TZOFFSETFROM:+0200
TZOFFSETTO:+0100
TZNAME:CET
DTSTART:20221030T010000
END:STANDARD
END:VTIMEZONE
BEGIN:VEVENT
DTSTART;VALUE=DATE:20210730
DTEND;VALUE=DATE:20210802
DTSTAMP:20260423T054108
CREATED:20210513T204421Z
LAST-MODIFIED:20210513T204421Z
UID:4265-1627603200-1627862399@dzkol.pl
SUMMARY:Finał Ogólnopolskiej Olimpiady Młodzieży w kolarstwie torowym
DESCRIPTION:
URL:https://dzkol.pl/kalendarz/final-ogolnopolskiej-olimpiady-mlodziezy-w-kolarstwie-torowym/
LOCATION:Pruszków
CATEGORIES:tor
END:VEVENT
BEGIN:VEVENT
DTSTART;VALUE=DATE:20210731
DTEND;VALUE=DATE:20210801
DTSTAMP:20260423T054108
CREATED:20210506T055754Z
LAST-MODIFIED:20210802T172356Z
UID:4155-1627689600-1627775999@dzkol.pl
SUMMARY:Liga Szkółek Kolarskich - Dolny Śląsk 2021 - Obiszów
DESCRIPTION:WYNIKI\n\n\n\n    \n        \n            \n            \n                20210731 : Liga Szkółek Kolarskich - Dolny Śląsk 2021 - Obiszów - wyniki\n                 1 plik(i)  732.04 KB\n            \n            \n                Pobierz\n            \n        \n    \n\n\n\nKOMUNIKAT ORGANIZACYJNY\n\n\n\n    \n        \n            \n        \n        \n            \n                20210731 : Liga Szkółek Kolarskich MTB - Dolny Śląsk 2021 - Obiszów - komunikat organizacyjny\n                \n                     311.46 KB\n                     80 downloads\n                \n            \n            ...\n        \n        \n            Pobierz\n        \n    \n\n\n\n\nREGULAMIN\n\n\n\n    \n        \n            \n        \n        \n            \n                2021 : Liga Szkółek Kolarskich - Dolny Śląsk - regulamin\n                \n                     1.75 MB\n                     268 downloads\n                \n            \n            ...\n        \n        \n            Pobierz\n        \n    \n\n\n\n\n  \n 
URL:https://dzkol.pl/kalendarz/liga-szkolek-kolarskich-dolny-slask-2021-obiszow/
LOCATION:Obiszów
CATEGORIES:Liga Szkółek Kolarskich
ORGANIZER;CN="TC Chrobry G%C5%82og%C3%B3w":MAILTO:sbb200@wp.pl
END:VEVENT
BEGIN:VEVENT
DTSTART;VALUE=DATE:20210731
DTEND;VALUE=DATE:20210801
DTSTAMP:20260423T054108
CREATED:20210513T204547Z
LAST-MODIFIED:20210513T204547Z
UID:4268-1627689600-1627775999@dzkol.pl
SUMMARY:PKO Ubezpieczenia Via Dolny Śląsk „Szosowy Klasyk”
DESCRIPTION:
URL:https://dzkol.pl/kalendarz/pko-ubezpieczenia-via-dolny-slask-szosowy-klasyk-3/
LOCATION:Obiszów
CATEGORIES:szosa,Via Dolny Śląsk
ORGANIZER;CN="Grabek Promotion":MAILTO:biuro@bikemaraton.com.pl
END:VEVENT
BEGIN:VEVENT
DTSTART;VALUE=DATE:20210801
DTEND;VALUE=DATE:20210802
DTSTAMP:20260423T054108
CREATED:20210513T204935Z
LAST-MODIFIED:20210513T204935Z
UID:4270-1627776000-1627862399@dzkol.pl
SUMMARY:Puchar Starosty Wałbrzyskiego
DESCRIPTION:
URL:https://dzkol.pl/kalendarz/puchar-starosty-walbrzyskiego-3/
LOCATION:Jaczków
CATEGORIES:szosa
ORGANIZER;CN="LKS Jocker Jaczk%C3%B3w":MAILTO:dawidzdzieblko1@wp.pl
END:VEVENT
BEGIN:VEVENT
DTSTART;VALUE=DATE:20210801
DTEND;VALUE=DATE:20210802
DTSTAMP:20260423T054108
CREATED:20210513T205149Z
LAST-MODIFIED:20210514T065445Z
UID:4273-1627776000-1627862399@dzkol.pl
SUMMARY:Bike Maraton Obiszów
DESCRIPTION:
URL:https://dzkol.pl/kalendarz/bike-maraton-obiszow-3/
LOCATION:Obiszów
CATEGORIES:Bike Maraton
ORGANIZER;CN="Grabek Promotion":MAILTO:biuro@bikemaraton.com.pl
END:VEVENT
BEGIN:VEVENT
DTSTART;VALUE=DATE:20210801
DTEND;VALUE=DATE:20210802
DTSTAMP:20260423T054108
CREATED:20210722T082812Z
LAST-MODIFIED:20210722T083011Z
UID:4610-1627776000-1627862399@dzkol.pl
SUMMARY:Wyścig Kolarski o Puchar Wójta Gminy Czarny Bór - Szukamy Następców Naszych Olimpijczyków
DESCRIPTION:REGULAMIN\n\n\n\n    \n        \n            \n            \n                20210801 : Wyścig Kolarski o Puchar Wójta Gminy Czarny Bór - XVI Festyn Sportu - Szukamy Następców Naszych Olimpijczyków - Jaczków - regulamin\n                 1 plik(i)  184.59 KB\n            \n            \n                Pobierz
URL:https://dzkol.pl/kalendarz/wyscig-kolarski-o-puchar-wojta-gminy-czarny-bor-szukamy-nastepcow-naszych-olimpijczykow/
LOCATION:Jaczków
CATEGORIES:szosa
END:VEVENT
BEGIN:VEVENT
DTSTART;VALUE=DATE:20210806
DTEND;VALUE=DATE:20210809
DTSTAMP:20260423T054108
CREATED:20210514T065712Z
LAST-MODIFIED:20210514T065712Z
UID:4275-1628208000-1628467199@dzkol.pl
SUMMARY:Mistrzostwa Polski MTB XCO
DESCRIPTION:
URL:https://dzkol.pl/kalendarz/mistrzostwa-polski-mtb-xco/
LOCATION:Boguszów Gorce\, Boguszów Gorce\, Polska
CATEGORIES:Mistrzostwa Polski,MTB
ORGANIZER;CN="KKW Whyte Nexelo Wa%C5%82brzych":MAILTO:klub@kk.walbrzych.pl
END:VEVENT
BEGIN:VEVENT
DTSTART;VALUE=DATE:20210808
DTEND;VALUE=DATE:20210809
DTSTAMP:20260423T054108
CREATED:20210514T065939Z
LAST-MODIFIED:20210514T065939Z
UID:4277-1628380800-1628467199@dzkol.pl
SUMMARY:PKO Ubezpieczenia Via Dolny Śląsk „Grand Prix „Kargula i Pawlaka”
DESCRIPTION:
URL:https://dzkol.pl/kalendarz/pko-ubezpieczenia-via-dolny-slask-grand-prix-kargula-i-pawlaka/
LOCATION:Lubomierz\, Lubomierz\, dolnośląskie\, Polska
CATEGORIES:szosa,Via Dolny Śląsk
ORGANIZER;CN="%C5%9Al%C4%99%C5%BCa Sob%C3%B3tka Bike Academy":MAILTO:kssleza@gmail.com
END:VEVENT
BEGIN:VEVENT
DTSTART;VALUE=DATE:20210814
DTEND;VALUE=DATE:20210816
DTSTAMP:20260423T054108
CREATED:20210514T070600Z
LAST-MODIFIED:20210815T192919Z
UID:4279-1628899200-1629071999@dzkol.pl
SUMMARY:Sowiogórski Tour
DESCRIPTION:WYNIKI\n\n\n\n    \n        \n            \n            \n                20210814-15 : Sowiogórski Tour - Dzierżoniów-Przełęcz Woliborska-Ostroszowice - wyniki\n                 1 plik(i)  3.55 MB\n            \n            \n                Pobierz\n            \n        \n    \n\n\n\nREGULAMIN\n\n\n\n    \n        \n            \n            \n                20210814-15 : Sowiogórski Tour - Dzierżoniów-Przełęcz Woliborska-Ostroszowice - regulamin\n                 1 plik(i)  1.03 MB\n            \n            \n                Pobierz
URL:https://dzkol.pl/kalendarz/sowiogorski-tour-wyscig-kolarski-nadziei-olimpijskich-grupy-wyszehradzkiej/
LOCATION:Powiat Dzierżoniów
CATEGORIES:szosa
END:VEVENT
BEGIN:VEVENT
DTSTART;VALUE=DATE:20210814
DTEND;VALUE=DATE:20210815
DTSTAMP:20260423T054108
CREATED:20210514T070735Z
LAST-MODIFIED:20210627T104138Z
UID:4282-1628899200-1628985599@dzkol.pl
SUMMARY:Wyścig Kolarski o „Złotą Spinkę Prezydenta Miasta Wałbrzycha”
DESCRIPTION:REGULAMIN\n\n\n\n    \n        \n            \n        \n        \n            \n                20210814 : XXV Uliczne Kryterium o Złotą Spinkę Prezydenta Miasta Wałbrzycha - Memoriał Janusza Wilczewskiego - Wałbrzych-Podzamcze - regulamin\n                \n                     486.04 KB\n                     398 downloads\n                \n            \n            ...\n        \n        \n            Pobierz
URL:https://dzkol.pl/kalendarz/wyscig-kolarski-o-zlota-spinke-prezydenta-miasta-walbrzycha/
LOCATION:Wałbrzych
CATEGORIES:szosa
ORGANIZER;CN="LKKS G%C3%B3rnik Wa%C5%82brzych":MAILTO:lkks.g.w@wp.pl
END:VEVENT
BEGIN:VEVENT
DTSTART;VALUE=DATE:20210814
DTEND;VALUE=DATE:20210815
DTSTAMP:20260423T054108
CREATED:20210514T071138Z
LAST-MODIFIED:20210514T071138Z
UID:4284-1628899200-1628985599@dzkol.pl
SUMMARY:Bike Maraton Kowary
DESCRIPTION:
URL:https://dzkol.pl/kalendarz/bike-maraton-kowary/
LOCATION:Kowary
CATEGORIES:Bike Maraton
ORGANIZER;CN="Grabek Promotion":MAILTO:biuro@bikemaraton.com.pl
END:VEVENT
BEGIN:VEVENT
DTSTART;VALUE=DATE:20210815
DTEND;VALUE=DATE:20210816
DTSTAMP:20260423T054108
CREATED:20210514T071403Z
LAST-MODIFIED:20210627T104222Z
UID:4286-1628985600-1629071999@dzkol.pl
SUMMARY:Wyścig Kolarski - XX Memoriał Pawła Sosika
DESCRIPTION:REGULAMIN\n\n\n\n    \n        \n            \n        \n        \n            \n                20210815 : Wyścig Kolarski - Memoriał Pawła Sosika - Świebodzice - regulamin\n                \n                     605.54 KB\n                     205 downloads\n                \n            \n            ...\n        \n        \n            Pobierz
URL:https://dzkol.pl/kalendarz/xx-memorial-pawla-sosika/
LOCATION:Świebodzice
CATEGORIES:szosa
ORGANIZER;CN="LKKS G%C3%B3rnik Wa%C5%82brzych":MAILTO:lkks.g.w@wp.pl
END:VEVENT
BEGIN:VEVENT
DTSTART;VALUE=DATE:20210815
DTEND;VALUE=DATE:20210816
DTSTAMP:20260423T054108
CREATED:20210514T071633Z
LAST-MODIFIED:20210514T071633Z
UID:4288-1628985600-1629071999@dzkol.pl
SUMMARY:PKO Ubezpieczenia Via Dolny Śląsk „Szosowy Klasyk”
DESCRIPTION:
URL:https://dzkol.pl/kalendarz/pko-ubezpieczenia-via-dolny-slask-szosowy-klasyk-4/
LOCATION:Kowary
CATEGORIES:szosa,Via Dolny Śląsk
ORGANIZER;CN="Grabek Promotion":MAILTO:biuro@bikemaraton.com.pl
END:VEVENT
BEGIN:VEVENT
DTSTART;VALUE=DATE:20210819
DTEND;VALUE=DATE:20210820
DTSTAMP:20260423T054108
CREATED:20210514T071939Z
LAST-MODIFIED:20210514T071939Z
UID:4290-1629331200-1629417599@dzkol.pl
SUMMARY:Gold Lion of Legnica Kryterium
DESCRIPTION:
URL:https://dzkol.pl/kalendarz/gold-lion-of-legnica-kryterium-2/
LOCATION:Legnica
CATEGORIES:szosa
ORGANIZER;CN="Stowarzyszenie Grody Piastowskie Polkowice":MAILTO:contact@grody.com.pl
END:VEVENT
BEGIN:VEVENT
DTSTART;VALUE=DATE:20210820
DTEND;VALUE=DATE:20210823
DTSTAMP:20260423T054108
CREATED:20210514T072307Z
LAST-MODIFIED:20210514T072307Z
UID:4292-1629417600-1629676799@dzkol.pl
SUMMARY:CCC TOUR – Grody Piastowskie (UCI 2.2)
DESCRIPTION:
URL:https://dzkol.pl/kalendarz/ccc-tour-grody-piastowskie-uci-2-2-4/
LOCATION:Dolny Śląsk
CATEGORIES:szosa
ORGANIZER;CN="Stowarzyszenie Grody Piastowskie Polkowice":MAILTO:contact@grody.com.pl
END:VEVENT
BEGIN:VEVENT
DTSTART;VALUE=DATE:20210821
DTEND;VALUE=DATE:20210822
DTSTAMP:20260423T054108
CREATED:20210319T173426Z
LAST-MODIFIED:20210805T202848Z
UID:4010-1629504000-1629590399@dzkol.pl
SUMMARY:Liga MTB XC Aglomeracji Wałbrzyskiej - Wyścig nr 7 - Grzędy
DESCRIPTION:KOMUNIKAT ORGANIZACYJNY\n\n\n\n    \n        \n            \n            \n                20210821 : Liga MTB XC Aglomeracji Wałbrzyskiej - Wyścig nr 7 - Grzędy - komunikat organizacyjny\n                 1 plik(i)  339.48 KB\n            \n            \n                Pobierz\n            \n        \n    \n\n\n\nREGULAMIN\n\n\n\n    \n        \n            \n        \n        \n            \n                2021 : Liga MTB XC Aglomeracji Wałbrzyskiej - regulamin\n                \n                     1.03 MB\n                     1158 downloads\n                \n            \n            ...\n        \n        \n            Pobierz
URL:https://dzkol.pl/kalendarz/liga-mtb-xc-aglomeracji-walbrzyskiej-wyscig-nr-7-grzedy/
LOCATION:Grzędy\, 58-379\, Poland
CATEGORIES:Liga MTB Aglomeracji Wałbrzyskiej
ORGANIZER;CN="LKKS G%C3%B3rnik Wa%C5%82brzych":MAILTO:lkks.g.w@wp.pl
END:VEVENT
BEGIN:VEVENT
DTSTART;VALUE=DATE:20210821
DTEND;VALUE=DATE:20210822
DTSTAMP:20260423T054108
CREATED:20210514T072516Z
LAST-MODIFIED:20210514T072525Z
UID:4294-1629504000-1629590399@dzkol.pl
SUMMARY:Korona Gór Sowich – wyścig amatorów przed II etapem CCC Tour-Grody Piastowskie
DESCRIPTION:
URL:https://dzkol.pl/kalendarz/korona-gor-sowich-wyscig-amatorow-przed-ii-etapem-ccc-tour-grody-piastowskie/
LOCATION:Ostroszowice
CATEGORIES:szosa
ORGANIZER;CN="Stowarzyszenie Grody Piastowskie Polkowice":MAILTO:contact@grody.com.pl
END:VEVENT
BEGIN:VEVENT
DTSTART;VALUE=DATE:20210822
DTEND;VALUE=DATE:20210823
DTSTAMP:20260423T054108
CREATED:20210514T072832Z
LAST-MODIFIED:20210514T072832Z
UID:4298-1629590400-1629676799@dzkol.pl
SUMMARY:Jaworska Pajda Chleba - wyścig amatorów przed III etapem CCC Tour-Grody Piastowskie
DESCRIPTION:
URL:https://dzkol.pl/kalendarz/jaworska-pajda-chleba-wyscig-amatorow-przed-iii-etapem-ccc-tour-grody-piastowskie/
LOCATION:Jawor\, Poland
CATEGORIES:szosa
ORGANIZER;CN="Stowarzyszenie Grody Piastowskie Polkowice":MAILTO:contact@grody.com.pl
END:VEVENT
BEGIN:VEVENT
DTSTART;VALUE=DATE:20210822
DTEND;VALUE=DATE:20210823
DTSTAMP:20260423T054108
CREATED:20210514T075503Z
LAST-MODIFIED:20210514T075503Z
UID:4300-1629590400-1629676799@dzkol.pl
SUMMARY:Uphill Race Śnieżka
DESCRIPTION:
URL:https://dzkol.pl/kalendarz/uphill-race-sniezka/
LOCATION:Karpacz
CATEGORIES:MTB
ORGANIZER;CN="Grabek Promotion":MAILTO:biuro@bikemaraton.com.pl
END:VEVENT
BEGIN:VEVENT
DTSTART;VALUE=DATE:20210828
DTEND;VALUE=DATE:20210830
DTSTAMP:20260423T054108
CREATED:20210514T081205Z
LAST-MODIFIED:20210829T201151Z
UID:4302-1630108800-1630281599@dzkol.pl
SUMMARY:Górskie Szosowe Mistrzostwa Polski
DESCRIPTION:WYNIKI\n\n\n\n    \n        \n            \n            \n                20210828-29 : Górskie Szosowe Mistrzostwa Polski - Łukowica - wyniki\n                 1 plik(i)  7.36 MB\n            \n            \n                Pobierz
URL:https://dzkol.pl/kalendarz/gorskie-szosowe-mistrzostwa-polski-4/
LOCATION:dolnośląskie
CATEGORIES:szosa
END:VEVENT
BEGIN:VEVENT
DTSTART;VALUE=DATE:20210828
DTEND;VALUE=DATE:20210829
DTSTAMP:20260423T054108
CREATED:20210514T081254Z
LAST-MODIFIED:20210514T081254Z
UID:4304-1630108800-1630195199@dzkol.pl
SUMMARY:Bike Maraton Miękinia
DESCRIPTION:
URL:https://dzkol.pl/kalendarz/bike-maraton-miekinia-2/
LOCATION:Miękinia
CATEGORIES:Bike Maraton,MTB
ORGANIZER;CN="Grabek Promotion":MAILTO:biuro@bikemaraton.com.pl
END:VEVENT
BEGIN:VEVENT
DTSTART;VALUE=DATE:20210829
DTEND;VALUE=DATE:20210830
DTSTAMP:20260423T054108
CREATED:20210514T082048Z
LAST-MODIFIED:20210829T202835Z
UID:4306-1630195200-1630281599@dzkol.pl
SUMMARY:IX Międzynarodowy Wyścig Kolarski „Korona Kocich Gór” - Memoriał Kornela Morawieckiego
DESCRIPTION:WYNIKI\n\n\n\n    \n        \n            \n            \n                20210829 : Korona Kocich Gór - Memoriał Kornela Morawieckiego - Miękinia - wyniki\n                 1 plik(i)  936.82 KB\n            \n            \n                Pobierz\n            \n        \n    \n\n\n\nREGULAMIN\n\n\n\n    \n        \n            \n            \n                20210829 : Korona Kocich Gór - Memoriał Kornela Morawieckiego - Miękinia - regulamin\n                 1 plik(i)  249.22 KB\n            \n            \n                Pobierz\n            \n        \n    \n\n\n\n 
URL:https://dzkol.pl/kalendarz/ix-miedzynarodowy-wyscig-kolarski-korona-kocich-gor-memorial-kornela-morawieckiego/
LOCATION:Miękinia
CATEGORIES:szosa
END:VEVENT
BEGIN:VEVENT
DTSTART;VALUE=DATE:20210829
DTEND;VALUE=DATE:20210830
DTSTAMP:20260423T054108
CREATED:20210514T082412Z
LAST-MODIFIED:20210514T082412Z
UID:4308-1630195200-1630281599@dzkol.pl
SUMMARY:PKO Ubezpieczenia Via Dolny Śląsk „Szosowy Klasyk”
DESCRIPTION:
URL:https://dzkol.pl/kalendarz/pko-ubezpieczenia-via-dolny-slask-szosowy-klasyk-5/
LOCATION:Miękinia
CATEGORIES:szosa,Via Dolny Śląsk
ORGANIZER;CN="Grabek Promotion":MAILTO:biuro@bikemaraton.com.pl
END:VEVENT
BEGIN:VEVENT
DTSTART;VALUE=DATE:20210904
DTEND;VALUE=DATE:20210905
DTSTAMP:20260423T054108
CREATED:20210514T083223Z
LAST-MODIFIED:20210514T083223Z
UID:4310-1630713600-1630799999@dzkol.pl
SUMMARY:IX Wyścig CycloOpawy XC - MTB Głuchołazy - Puchar Polski
DESCRIPTION:
URL:https://dzkol.pl/kalendarz/ix-wyscig-cycloopawy-xc-mtb-glucholazy-puchar-polski/
LOCATION:Głuchołazy\, Głuchołazy\, opolskie\, Polska
CATEGORIES:MTB,MTB XC,Puchar Polski MTB
END:VEVENT
BEGIN:VEVENT
DTSTART;VALUE=DATE:20210904
DTEND;VALUE=DATE:20210905
DTSTAMP:20260423T054108
CREATED:20210514T083313Z
LAST-MODIFIED:20210730T110625Z
UID:4313-1630713600-1630799999@dzkol.pl
SUMMARY:MMM Międzywojewódzkie Mistrzostwa Młodzików w kolarstwie MTB XC
DESCRIPTION:REGULAMIN\n\n\n\n    \n        \n            \n            \n                20210904 : Międzywojewódzkie Mistrzostwa Młodzików w kolarstwie MTB - Głuchołazy - regulamin\n                 1 plik(i)  934.98 KB\n            \n            \n                Pobierz
URL:https://dzkol.pl/kalendarz/mmm-miedzywojewodzkie-mistrzostwa-mlodzikow-mtb-xc/
LOCATION:Głuchołazy\, Głuchołazy\, opolskie\, Polska
CATEGORIES:Międzywojewódzki Mistrzostwa Młodzików,MTB
END:VEVENT
BEGIN:VEVENT
DTSTART;VALUE=DATE:20210904
DTEND;VALUE=DATE:20210906
DTSTAMP:20260423T054108
CREATED:20210514T083615Z
LAST-MODIFIED:20210514T083615Z
UID:4316-1630713600-1630886399@dzkol.pl
SUMMARY:Finał Pucharu Polski Memoriał Tomka Jakubowskiego
DESCRIPTION:
URL:https://dzkol.pl/kalendarz/final-pucharu-polski-memorial-tomka-jakubowskiego/
LOCATION:Chrzypsko Wielkie\, Chrzypsko Wielkie\, Polska
CATEGORIES:szosa
END:VEVENT
BEGIN:VEVENT
DTSTART;VALUE=DATE:20210905
DTEND;VALUE=DATE:20210906
DTSTAMP:20260423T054108
CREATED:20210506T055843Z
LAST-MODIFIED:20210826T183503Z
UID:4157-1630800000-1630886399@dzkol.pl
SUMMARY:Liga Szkółek Kolarskich - Dolny Śląsk 2021 - Jakubów
DESCRIPTION:ZAPISY\nwww.biurozawodow.eu \nKOMUNIKAT ORGANIZACYJNY\n\n\n\n    \n        \n            \n            \n                20210905 : Liga Szkółek Kolarskich MTB - Dolny Śląsk 2021 - Jakubów - komunikat organizacyjny\n                 1 plik(i)  150.72 KB\n            \n            \n                Pobierz\n            \n        \n    \n\n\n\nREGULAMIN CYKLU LIGA SZKÓŁEK KOLARSKICH MTB\n\n\n\n    \n        \n            \n        \n        \n            \n                2021 : Liga Szkółek Kolarskich - Dolny Śląsk - regulamin\n                \n                     1.75 MB\n                     268 downloads\n                \n            \n            ...\n        \n        \n            Pobierz
URL:https://dzkol.pl/kalendarz/liga-szkolek-kolarskich-dolny-slask-2021-jakubow/
LOCATION:Jakubów\, Jakubów\, dolnośląskie\, 59-160\, Polska
CATEGORIES:Liga Szkółek Kolarskich
ORGANIZER;CN="TC Chrobry G%C5%82og%C3%B3w":MAILTO:sbb200@wp.pl
END:VEVENT
BEGIN:VEVENT
DTSTART;VALUE=DATE:20210907
DTEND;VALUE=DATE:20210911
DTSTAMP:20260423T054108
CREATED:20210514T083721Z
LAST-MODIFIED:20210514T083721Z
UID:4318-1630972800-1631318399@dzkol.pl
SUMMARY:Mistrzostwa Polski Elity w kolarstwie torowym - Mistrzostwa Polski w konkurencjach nieolimpijskich – juniorzy młodsi
DESCRIPTION:
URL:https://dzkol.pl/kalendarz/mistrzostwa-polski-elity-w-kolarstwie-torowym-mistrzostwa-polski-w-konkurencjach-nieolimpijskich-juniorzy-mlodsi/
LOCATION:Pruszków
CATEGORIES:tor
END:VEVENT
BEGIN:VEVENT
DTSTART;VALUE=DATE:20210911
DTEND;VALUE=DATE:20210912
DTSTAMP:20260423T054108
CREATED:20210506T055928Z
LAST-MODIFIED:20210913T194812Z
UID:4159-1631318400-1631404799@dzkol.pl
SUMMARY:Liga Szkółek Kolarskich - Dolny Śląsk 2021 - Wilków
DESCRIPTION:WYNIKI\n\n\n\n    \n        \n            \n            \n                20210911 : Liga Szkółek Kolarskich - Dolny Śląsk 2021 - Wilków - wyniki\n                 1 plik(i)  544.08 KB\n            \n            \n                Pobierz\n            \n        \n    \n\n\n\nKOMUNIKAT ORGANIZACYJNY\n\n\n\n    \n        \n            \n            \n                20210911 : Liga Szkółek Kolarskich MTB - Dolny Śląsk 2021 - Wilków - komunikat organizacyjny\n                 1 plik(i)  279.31 KB\n            \n            \n                Pobierz\n            \n        \n    \n\n\n\nREGULAMIN\n\n\n\n    \n        \n            \n        \n        \n            \n                2021 : Liga Szkółek Kolarskich - Dolny Śląsk - regulamin\n                \n                     1.75 MB\n                     268 downloads\n                \n            \n            ...\n        \n        \n            Pobierz
URL:https://dzkol.pl/kalendarz/liga-szkolek-kolarskich-dolny-slask-2021-wilkow/
LOCATION:Wilków\, Wilków\, dolnośląskie\, Polska
CATEGORIES:Liga Szkółek Kolarskich
ORGANIZER;CN="TC Chrobry G%C5%82og%C3%B3w":MAILTO:sbb200@wp.pl
END:VEVENT
BEGIN:VEVENT
DTSTART;VALUE=DATE:20210911
DTEND;VALUE=DATE:20210912
DTSTAMP:20260423T054108
CREATED:20210513T193316Z
LAST-MODIFIED:20210513T193316Z
UID:4206-1631318400-1631404799@dzkol.pl
SUMMARY:Mistrzostwa Polski w Maratonie MTB
DESCRIPTION:
URL:https://dzkol.pl/kalendarz/mistrzostwa-polski-w-maratonie-mtb/
LOCATION:Srebrna Góra
CATEGORIES:maraton MTB,Mistrzostwa Polski
ORGANIZER;CN="Grabek Promotion":MAILTO:biuro@bikemaraton.com.pl
END:VEVENT
END:VCALENDAR