BEGIN:VCALENDAR
VERSION:2.0
PRODID:-//Dolnośląski Związek Kolarski - ECPv6.15.20//NONSGML v1.0//EN
CALSCALE:GREGORIAN
METHOD:PUBLISH
X-ORIGINAL-URL:https://dzkol.pl
X-WR-CALDESC:Wydarzenia dla Dolnośląski Związek Kolarski
REFRESH-INTERVAL;VALUE=DURATION:PT1H
X-Robots-Tag:noindex
X-PUBLISHED-TTL:PT1H
BEGIN:VTIMEZONE
TZID:Europe/Warsaw
BEGIN:DAYLIGHT
TZOFFSETFROM:+0100
TZOFFSETTO:+0200
TZNAME:CEST
DTSTART:20210328T010000
END:DAYLIGHT
BEGIN:STANDARD
TZOFFSETFROM:+0200
TZOFFSETTO:+0100
TZNAME:CET
DTSTART:20211031T010000
END:STANDARD
BEGIN:DAYLIGHT
TZOFFSETFROM:+0100
TZOFFSETTO:+0200
TZNAME:CEST
DTSTART:20220327T010000
END:DAYLIGHT
BEGIN:STANDARD
TZOFFSETFROM:+0200
TZOFFSETTO:+0100
TZNAME:CET
DTSTART:20221030T010000
END:STANDARD
BEGIN:DAYLIGHT
TZOFFSETFROM:+0100
TZOFFSETTO:+0200
TZNAME:CEST
DTSTART:20230326T010000
END:DAYLIGHT
BEGIN:STANDARD
TZOFFSETFROM:+0200
TZOFFSETTO:+0100
TZNAME:CET
DTSTART:20231029T010000
END:STANDARD
END:VTIMEZONE
BEGIN:VEVENT
DTSTART;VALUE=DATE:20220429
DTEND;VALUE=DATE:20220504
DTSTAMP:20260422T135208
CREATED:20220412T142754Z
LAST-MODIFIED:20220412T142754Z
UID:4931-1651190400-1651622399@dzkol.pl
SUMMARY:Karpacki Wyścig Kurierów. Memoriał Wacława Felczaka
DESCRIPTION:
URL:https://dzkol.pl/kalendarz/karpacki-wyscig-kurierow-memorial-waclawa-felczaka/
LOCATION:Tarnów\, Poland
CATEGORIES:szosa
END:VEVENT
BEGIN:VEVENT
DTSTART;VALUE=DATE:20220507
DTEND;VALUE=DATE:20220508
DTSTAMP:20260422T135208
CREATED:20220412T154448Z
LAST-MODIFIED:20220412T154448Z
UID:4946-1651881600-1651967999@dzkol.pl
SUMMARY:Bike Maraton Polanica Zdrój
DESCRIPTION:
URL:https://dzkol.pl/kalendarz/bike-maraton-polanica-zdroj-4/
LOCATION:Polanica Zdrój\, Polanica Zdrój\, Polska
CATEGORIES:Bike Maraton,maraton MTB
ORGANIZER;CN="Grabek Promotion":MAILTO:biuro@bikemaraton.com.pl
END:VEVENT
BEGIN:VEVENT
DTSTART;VALUE=DATE:20220507
DTEND;VALUE=DATE:20220508
DTSTAMP:20260422T135208
CREATED:20220412T154636Z
LAST-MODIFIED:20220509T082602Z
UID:4948-1651881600-1651967999@dzkol.pl
SUMMARY:Jaworska Pajda Chleba
DESCRIPTION:WYNIKI\n\n\n\n    \n        \n            \n            \n                20220507 : Jaworska Pajda Chleba - Jawor - wyniki\n                 1 plik(i)  267.85 KB\n            \n            \n                Pobierz\n            \n        \n    \n\n\n\nREGULAMIN\n\n\n\n    \n        \n            \n            \n                20220507 : Jaworska Pajda Chleba - Jawor - regulamin\n                 1 plik(i)  1.84 MB\n            \n            \n                Pobierz
URL:https://dzkol.pl/kalendarz/jaworska-pajda-chleba/
LOCATION:Jawor\, Poland
CATEGORIES:szosa
ORGANIZER;CN="Stowarzyszenie Grody Piastowskie Polkowice":MAILTO:contact@grody.com.pl
END:VEVENT
BEGIN:VEVENT
DTSTART;VALUE=DATE:20220507
DTEND;VALUE=DATE:20220509
DTSTAMP:20260422T135208
CREATED:20220412T162006Z
LAST-MODIFIED:20220412T162006Z
UID:4954-1651881600-1652054399@dzkol.pl
SUMMARY:Eliminacja do OOM\, PP w kolarstwie szosowym (IV seria) - jazda indywidualna na czas\, start wspólny
DESCRIPTION:
URL:https://dzkol.pl/kalendarz/eliminacja-do-oom-pp-w-kolarstwie-szosowym-iv-seria-jazda-indywidualna-na-czas-start-wspolny/
LOCATION:Gostyń\, Gostyń \, Polska
CATEGORIES:Puchar Polski,szosa
ORGANIZER;CN="KKS Gosty%C5%84":MAILTO:mintawaldemar@wp.pl
END:VEVENT
BEGIN:VEVENT
DTSTART;VALUE=DATE:20220508
DTEND;VALUE=DATE:20220509
DTSTAMP:20260422T135208
CREATED:20220412T154745Z
LAST-MODIFIED:20220509T082817Z
UID:4950-1651968000-1652054399@dzkol.pl
SUMMARY:Korona Gór Sowich
DESCRIPTION:WYNIKI\n\n\n\n    \n        \n            \n            \n                20220508 : Korona Gór Sowich - Nowa Ruda - wyniki\n                 1 plik(i)  177.10 KB\n            \n            \n                Pobierz\n            \n        \n    \n\n\n\nREGULAMIN\n\n\n\n    \n        \n            \n            \n                20220508 : Korona Gór Sowich - Nowa Ruda - regulamin\n                 1 plik(i)  1.67 MB\n            \n            \n                Pobierz
URL:https://dzkol.pl/kalendarz/korona-gor-sowich-2/
LOCATION:Nowa Ruda\, Nowa Ruda\, dolnośląskie\, Polska
CATEGORIES:szosa
ORGANIZER;CN="Stowarzyszenie Grody Piastowskie Polkowice":MAILTO:contact@grody.com.pl
END:VEVENT
BEGIN:VEVENT
DTSTART;VALUE=DATE:20220514
DTEND;VALUE=DATE:20220515
DTSTAMP:20260422T135208
CREATED:20220412T162141Z
LAST-MODIFIED:20220428T100840Z
UID:4956-1652486400-1652572799@dzkol.pl
SUMMARY:Liga MTB XC Aglomeracji Wałbrzyskiej – wyścig nr 3 – Jaworzyna Śląska
DESCRIPTION:KOMUNIKAT ORGANIZACYJNY\n\n\n\n    \n        \n            \n            \n                20220514 : Liga MTB XC Aglomeracji Wałbrzyskiej - XXVIII Grand Prix „Solidarności” - Wyścig nr 3 - Jaworzyna Śląska - komunikat organizacyjny\n                 1 plik(i)  845.11 KB\n            \n            \n                Pobierz\n            \n        \n    \n\n\n\nREGULAMIN\n\n\n\n    \n        \n            \n            \n                2022 : Liga MTB Aglomeracji Wałbrzyskiej - VII edycja - regulamin\n                 1 plik(i)  1.60 MB\n            \n            \n                Pobierz\n            \n        \n    \n\n\n\n 
URL:https://dzkol.pl/kalendarz/liga-mtb-xc-aglomeracji-walbrzyskiej-wyscig-nr-3-jaworzyna-slaska/
LOCATION:Jaworzyna Śląska\, Jaworzyna Śląska\, dolnośląskie\, Polska
CATEGORIES:Liga MTB Aglomeracji Wałbrzyskiej,MTB XC
ORGANIZER;CN="Stowarzyszenie Cyklist%C3%B3w Ziemi Wa%C5%82brzyskiej":MAILTO:mateusz.rosiak@interia.eu
END:VEVENT
BEGIN:VEVENT
DTSTART;VALUE=DATE:20220515
DTEND;VALUE=DATE:20220516
DTSTAMP:20260422T135208
CREATED:20220412T162444Z
LAST-MODIFIED:20220412T162444Z
UID:4961-1652572800-1652659199@dzkol.pl
SUMMARY:PKO Ubezpieczenia Via Dolny Śląsk „Dog’s Head Predator Race”
DESCRIPTION:
URL:https://dzkol.pl/kalendarz/pko-ubezpieczenia-via-dolny-slask-dogs-head-predator-race-2/
LOCATION:Gromadka\, Gromadka\, dolnośląskie\, 59-706\, Polska
CATEGORIES:szosa,Via Dolny Śląsk
ORGANIZER;CN="%C5%9Al%C4%99%C5%BCa Sob%C3%B3tka Bike Academy":MAILTO:kssleza@gmail.com
END:VEVENT
BEGIN:VEVENT
DTSTART;VALUE=DATE:20220515
DTEND;VALUE=DATE:20220516
DTSTAMP:20260422T135208
CREATED:20220412T162700Z
LAST-MODIFIED:20220518T125241Z
UID:4963-1652572800-1652659199@dzkol.pl
SUMMARY:Liga Szkółek Kolarskich MTB. O Puchar Nadleśnictwa Oleśnica Śląska - Twardogóra
DESCRIPTION:WYNIKI\n\n\n\n    \n        \n            \n            \n                20220515 : Liga Szkółek Kolarskich MTB - Dolny Śląsk 2022 - Twardogóra - wyniki\n                 1 plik(i)  873.42 KB\n            \n            \n                Pobierz\n            \n        \n    \n\n\n\nREGULAMIN\n\n\n\n    \n        \n            \n            \n                2022 : Liga Szkółek Kolarskich - Dolny Śląsk 2022 - regulamin\n                 1 plik(i)  1.18 MB\n            \n            \n                Pobierz\n            \n        \n    \n\n\n\nKOMUNIKAT ORGANIZACYJNY\n\n\n\n    \n        \n            \n            \n                20220515 : Liga Szkółek Kolarskich MTB - Dolny Śląsk 2022 - Twardogóra - komunikat organizacyjny\n                 1 plik(i)  966.29 KB\n            \n            \n                Pobierz
URL:https://dzkol.pl/kalendarz/liga-szkolek-kolarskich-mtb-o-puchar-nadlesnictwa-olesnica-slaska/
LOCATION:Twardogóra\, 56-416
CATEGORIES:Liga Szkółek Kolarskich,MTB
ORGANIZER;CN="TC Chrobry G%C5%82og%C3%B3w":MAILTO:sbb200@wp.pl
END:VEVENT
BEGIN:VEVENT
DTSTART;VALUE=DATE:20220521
DTEND;VALUE=DATE:20220523
DTSTAMP:20260422T135208
CREATED:20220412T163016Z
LAST-MODIFIED:20220428T105433Z
UID:4967-1653091200-1653263999@dzkol.pl
SUMMARY:Międzywojewódzkie Mistrzostwa Młodzików - jazda indywidualna na czas\, start wspólny
DESCRIPTION:REGULAMIN\n\n\n\n    \n        \n            \n            \n                20220521-22 : Międzywojewódzkie Mistrzostwa Młodziczek i Młodzików - ITT i start wspólny - Dobromierz - regulamin\n                 1 plik(i)  1.71 MB\n            \n            \n                Pobierz\n            \n        \n    \n\n\n\nKOMUNIKAT O ZMIANIE DŁUGOŚCI CZASÓWKI\n\n\n\n    \n        \n            \n            \n                20220521 : Międzywojewódzkie Mistrzostwa Młodziczek i Młodzików - ITT - zmiana długości trasy czasówki - komunikat organizacyjny\n                 1 plik(i)  613.37 KB\n            \n            \n                Pobierz\n            \n        \n    \n\n\n\n 
URL:https://dzkol.pl/kalendarz/miedzywojewodzkie-mistrzostwa-mlodzikow-jazda-indywidualna-na-czas-start-wspolny/
LOCATION:Dobromierz
CATEGORIES:Międzywojewódzkie Mistrzostwa Młodzików,szosa
ORGANIZER;CN="Stowarzyszenie Cyklist%C3%B3w Ziemi Wa%C5%82brzyskiej":MAILTO:mateusz.rosiak@interia.eu
END:VEVENT
BEGIN:VEVENT
DTSTART;VALUE=DATE:20220521
DTEND;VALUE=DATE:20220523
DTSTAMP:20260422T135208
CREATED:20220412T163219Z
LAST-MODIFIED:20220412T163219Z
UID:4969-1653091200-1653263999@dzkol.pl
SUMMARY:Puchar Polski w kolarstwie szosowym (V seria) – jazda indywidualna na czas\, start wspólny
DESCRIPTION:
URL:https://dzkol.pl/kalendarz/puchar-polski-w-kolarstwie-szosowym-v-seria-jazda-indywidualna-na-czas-start-wspolny/
LOCATION:Dobromierz
CATEGORIES:Puchar Polski,szosa
ORGANIZER;CN="Stowarzyszenie Cyklist%C3%B3w Ziemi Wa%C5%82brzyskiej":MAILTO:mateusz.rosiak@interia.eu
END:VEVENT
BEGIN:VEVENT
DTSTART;VALUE=DATE:20220521
DTEND;VALUE=DATE:20220522
DTSTAMP:20260422T135208
CREATED:20220412T163339Z
LAST-MODIFIED:20220412T163339Z
UID:4971-1653091200-1653177599@dzkol.pl
SUMMARY:Bike Maraton Złotoryja
DESCRIPTION:
URL:https://dzkol.pl/kalendarz/bike-maraton-zlotoryja/
LOCATION:Złotoryja\, Złotoryja\, Polska
CATEGORIES:Bike Maraton,maraton MTB
ORGANIZER;CN="Grabek Promotion":MAILTO:biuro@bikemaraton.com.pl
END:VEVENT
BEGIN:VEVENT
DTSTART;VALUE=DATE:20220521
DTEND;VALUE=DATE:20220524
DTSTAMP:20260422T135208
CREATED:20220412T163642Z
LAST-MODIFIED:20220412T163642Z
UID:4975-1653091200-1653350399@dzkol.pl
SUMMARY:Młodzieżowe Mistrzostwa Polski w kolarstwie torowym
DESCRIPTION:
URL:https://dzkol.pl/kalendarz/mlodziezowe-mistrzostwa-polski-w-kolarstwie-torowym-3/
LOCATION:Pruszków
CATEGORIES:Młodzieżowe Mistrzostwa Polski,tor
END:VEVENT
BEGIN:VEVENT
DTSTART;VALUE=DATE:20220521
DTEND;VALUE=DATE:20220523
DTSTAMP:20260422T135208
CREATED:20220412T163929Z
LAST-MODIFIED:20220412T163929Z
UID:4977-1653091200-1653263999@dzkol.pl
SUMMARY:Puchar Polski MTB (II seria) - Myślenice MTB XCO UCI 1. Eliminacje do OOM
DESCRIPTION:
URL:https://dzkol.pl/kalendarz/puchar-polski-mtb-ii-seria-myslenice-mtb-xco-uci-1-eliminacje-do-oom/
LOCATION:Myślenice\, Poland
CATEGORIES:MTB,Puchar Polski
END:VEVENT
BEGIN:VEVENT
DTSTART;VALUE=DATE:20220522
DTEND;VALUE=DATE:20220523
DTSTAMP:20260422T135208
CREATED:20220412T163431Z
LAST-MODIFIED:20220412T163431Z
UID:4973-1653177600-1653263999@dzkol.pl
SUMMARY:PKO Ubezpieczenia Via Dolny Śląsk „Złota Wstęga Kaczawy”
DESCRIPTION:
URL:https://dzkol.pl/kalendarz/pko-ubezpieczenia-via-dolny-slask-zlota-wstega-kaczawy/
LOCATION:Złotoryja\, Złotoryja\, Polska
CATEGORIES:szosa,Via Dolny Śląsk
ORGANIZER;CN="Grabek Promotion":MAILTO:biuro@bikemaraton.com.pl
END:VEVENT
BEGIN:VEVENT
DTSTART;VALUE=DATE:20220528
DTEND;VALUE=DATE:20220530
DTSTAMP:20260422T135208
CREATED:20220412T164048Z
LAST-MODIFIED:20220428T105707Z
UID:4981-1653696000-1653868799@dzkol.pl
SUMMARY:Puchar Polski Juniorów Młodszych w kolarstwie torowym (II seria). Eliminacje strefowe do OOM
DESCRIPTION:ZGŁOSZENIA\n\n\n\n    \n        \n            \n            \n                20220528-29 : Puchar Polski na torze - Eliminacje do Ogólnopolskiej Olimpiady Młodzieży - Wrocław - formularz zapisów\n                 1 plik(i)  13.85 KB\n            \n            \n                Pobierz\n            \n        \n    \n\n\n\nKOMUNIKAT ORGANIZACYJNY\n\n\n\n    \n        \n            \n            \n                20220528-29 : Puchar Polski na torze - Eliminacje do Ogólnopolskiej Olimpiady Młodzieży - Wrocław - komunikat organizacyjny\n                 1 plik(i)  1.18 MB\n            \n            \n                Pobierz
URL:https://dzkol.pl/kalendarz/puchar-polski-juniorow-mlodszych-w-kolarstwie-torowym-ii-seria-eliminacje-strefowe-do-oom/
LOCATION:Wrocław – tor kolarski\, Żmigrodzka 243\, Wrocław\, dolnośląskie\, 51-117\, Polska
CATEGORIES:eliminacje do OOM,Puchar Polski,tor
ORGANIZER;CN="Dolno%C5%9Bl%C4%85ski Zwi%C4%85zek Kolarski":MAILTO:dzkol@dzkol.eu
END:VEVENT
BEGIN:VEVENT
DTSTART;VALUE=DATE:20220528
DTEND;VALUE=DATE:20220530
DTSTAMP:20260422T135208
CREATED:20220412T164244Z
LAST-MODIFIED:20220412T164244Z
UID:4983-1653696000-1653868799@dzkol.pl
SUMMARY:Puchar Polski MTB (III seria) - UCI-3 - Petarda Jastrzębie-Zdrój. Eliminacje do OOM
DESCRIPTION:
URL:https://dzkol.pl/kalendarz/puchar-polski-mtb-iii-seria-uci-3-petarda-jastrzebie-zdroj-eliminacje-do-oom/
LOCATION:Jastrzębie Zdrój\, Jastrzębie Zdrój\, Poland
CATEGORIES:EOOM,MTB,MTB XC,Puchar Polski MTB
END:VEVENT
BEGIN:VEVENT
DTSTART;VALUE=DATE:20220528
DTEND;VALUE=DATE:20220529
DTSTAMP:20260422T135208
CREATED:20220412T164410Z
LAST-MODIFIED:20220518T103406Z
UID:4986-1653696000-1653782399@dzkol.pl
SUMMARY:Liga MTB Aglomeracji Wałbrzyskiej – wyścig nr 4 – Świebodzice
DESCRIPTION:KOMUNIKAT ORGANIZACYJNY\n\n\n\n    \n        \n            \n            \n                20220528 : Liga MTB XC Aglomeracji Wałbrzyskiej - Wyścig nr 4 - Świebodzice - komunikat organizacyjny\n                 1 plik(i)  649.15 KB\n            \n            \n                Pobierz\n            \n        \n    \n\n\n\nREGULAMIN\n\n\n\n    \n        \n            \n            \n                2022 : Liga MTB Aglomeracji Wałbrzyskiej - VII edycja - regulamin\n                 1 plik(i)  1.60 MB\n            \n            \n                Pobierz
URL:https://dzkol.pl/kalendarz/liga-mtb-aglomeracji-walbrzyskiej-wyscig-nr-4-swiebodzice/
LOCATION:Świebodzice
CATEGORIES:Liga MTB Aglomeracji Wałbrzyskiej,MTB
ORGANIZER;CN="Stowarzyszenie Cyklist%C3%B3w Ziemi Wa%C5%82brzyskiej":MAILTO:mateusz.rosiak@interia.eu
END:VEVENT
BEGIN:VEVENT
DTSTART;VALUE=DATE:20220602
DTEND;VALUE=DATE:20220603
DTSTAMP:20260422T135208
CREATED:20220413T125853Z
LAST-MODIFIED:20220413T125853Z
UID:4988-1654128000-1654214399@dzkol.pl
SUMMARY:Kryterium o Złoty Pierścień Krakowa
DESCRIPTION:
URL:https://dzkol.pl/kalendarz/kryterium-o-zloty-pierscien-krakowa/
LOCATION:Kraków\, Poland
CATEGORIES:szosa
END:VEVENT
BEGIN:VEVENT
DTSTART;VALUE=DATE:20220604
DTEND;VALUE=DATE:20220606
DTSTAMP:20260422T135208
CREATED:20220413T130248Z
LAST-MODIFIED:20220413T130248Z
UID:4991-1654300800-1654473599@dzkol.pl
SUMMARY:Puchar Polski na szosie (VI seria). Memoriał Joachima Halupczoka. Eliminacje do OOM
DESCRIPTION:
URL:https://dzkol.pl/kalendarz/puchar-polski-na-szosie-vi-seria-memorial-joachima-halupczoka-eliminacje-do-oom/
LOCATION:Niwki
CATEGORIES:Eliminacje OOM,szosa
END:VEVENT
BEGIN:VEVENT
DTSTART;VALUE=DATE:20220604
DTEND;VALUE=DATE:20220606
DTSTAMP:20260422T135208
CREATED:20220413T130625Z
LAST-MODIFIED:20220413T130625Z
UID:4994-1654300800-1654473599@dzkol.pl
SUMMARY:XXV edycja Pucharu Polski w kolarstwie kobiecym (IV seria) - jazda indywidualna na czas\, start wspólny
DESCRIPTION:
URL:https://dzkol.pl/kalendarz/xxv-edycja-pucharu-polski-w-kolarstwie-kobiecym-iv-seria-jazda-indywidualna-na-czas-start-wspolny/
LOCATION:Dąbki
CATEGORIES:Puchar Polski,szosa
END:VEVENT
BEGIN:VEVENT
DTSTART;VALUE=DATE:20220604
DTEND;VALUE=DATE:20220605
DTSTAMP:20260422T135208
CREATED:20220413T130957Z
LAST-MODIFIED:20220617T110823Z
UID:4997-1654300800-1654387199@dzkol.pl
SUMMARY:Liga Szkółek Kolarskich MTB - Ścinawa
DESCRIPTION:WYNIKI\n\n\n\n    \n        \n            \n            \n                20220604 : Liga Szkółek Kolarskich MTB - Dolny Śląsk 2022 - Ścinawa - wyniki\n                 1 plik(i)  1.12 MB\n            \n            \n                Pobierz\n            \n        \n    \n\n\n\nKOMUNIKAT ORGANIZACYJNY\n\n\n\n    \n        \n            \n            \n                20220604 : Liga Szkółek Kolarskich MTB - Dolny Śląsk 2022 - Ścinawa - komunikat organizacyjny\n                 1 plik(i)  1.19 MB\n            \n            \n                Pobierz\n            \n        \n    \n\n\n\nREGULAMIN\n\n\n\n    \n        \n            \n            \n                2022 : Liga Szkółek Kolarskich - Dolny Śląsk 2022 - regulamin\n                 1 plik(i)  1.18 MB\n            \n            \n                Pobierz
URL:https://dzkol.pl/kalendarz/liga-szkolek-kolarskich-mtb-scinawa/
LOCATION:Ścinawa\, Poland
CATEGORIES:Liga Szkółek Kolarskich
ORGANIZER;CN="TC Chrobry G%C5%82og%C3%B3w":MAILTO:sbb200@wp.pl
END:VEVENT
BEGIN:VEVENT
DTSTART;VALUE=DATE:20220604
DTEND;VALUE=DATE:20220605
DTSTAMP:20260422T135208
CREATED:20220413T131209Z
LAST-MODIFIED:20220413T131209Z
UID:5002-1654300800-1654387199@dzkol.pl
SUMMARY:Maja Włoszczowska MTB Race UCI HC + UCI Junior Series XCO – Puchar Polski w MTB (IV seria) - eliminacje do OOM
DESCRIPTION:
URL:https://dzkol.pl/kalendarz/maja-wloszczowska-mtb-race-uci-hc-uci-junior-series-xco-puchar-polski-w-mtb-iv-seria-eliminacje-do-oom/
LOCATION:Jelenia Góra\, Jelenia Góra\, Polska
CATEGORIES:Bike Maraton,EOOM,MTB,MTB XC,Puchar Polski,Puchar Polski MTB
ORGANIZER;CN="Grabek Promotion":MAILTO:biuro@bikemaraton.com.pl
END:VEVENT
BEGIN:VEVENT
DTSTART;VALUE=DATE:20220605
DTEND;VALUE=DATE:20220606
DTSTAMP:20260422T135208
CREATED:20220413T131308Z
LAST-MODIFIED:20220413T131308Z
UID:5004-1654387200-1654473599@dzkol.pl
SUMMARY:UCI MTB Marathon Series - Bike Maraton Jelenia Góra
DESCRIPTION:
URL:https://dzkol.pl/kalendarz/uci-mtb-marathon-series-bike-maraton-jelenia-gora/
LOCATION:Jelenia Góra\, Jelenia Góra\, Polska
CATEGORIES:Bike Maraton,maraton MTB
ORGANIZER;CN="Grabek Promotion":MAILTO:biuro@bikemaraton.com.pl
END:VEVENT
BEGIN:VEVENT
DTSTART;VALUE=DATE:20220610
DTEND;VALUE=DATE:20220613
DTSTAMP:20260422T135208
CREATED:20220413T131513Z
LAST-MODIFIED:20220413T131555Z
UID:5006-1654819200-1655078399@dzkol.pl
SUMMARY:XLIV Ogólnopolski Wyścig Kolarski - Puchar Polski (VII seria). Eliminacje do OOM - jazda indywidualna na czas\, start wspólny
DESCRIPTION:
URL:https://dzkol.pl/kalendarz/xliv-ogolnopolski-wyscig-kolarski-puchar-polski-vii-seria-eliminacje-do-oom-jazda-indywidualna-na-czas-start-wspolny/
LOCATION:Koziegłowy\, Koziegłowy\, Polska
CATEGORIES:Eliminacje OOM,Puchar Polski,szosa
END:VEVENT
BEGIN:VEVENT
DTSTART;VALUE=DATE:20220611
DTEND;VALUE=DATE:20220613
DTSTAMP:20260422T135208
CREATED:20220413T131758Z
LAST-MODIFIED:20220413T131820Z
UID:5008-1654905600-1655078399@dzkol.pl
SUMMARY:Puchar Polski w kolarstwie torowym (III seria). Eliminacje do OOM
DESCRIPTION:
URL:https://dzkol.pl/kalendarz/pucharu-polski-w-kolarstwie-torowym-iii-seria-eliminacje-do-oom/
LOCATION:Kalisz
CATEGORIES:eliminacje do OOM,Puchar Polski,tor
ORGANIZER;CN="Kaliskie Towarzystwo Kolarskie":MAILTO:ktk.kalisz.pl
END:VEVENT
BEGIN:VEVENT
DTSTART;VALUE=DATE:20220611
DTEND;VALUE=DATE:20220613
DTSTAMP:20260422T135208
CREATED:20220413T131958Z
LAST-MODIFIED:20220413T131958Z
UID:5011-1654905600-1655078399@dzkol.pl
SUMMARY:Puchar Polski w BMX (II i III seria)
DESCRIPTION:
URL:https://dzkol.pl/kalendarz/puchar-polski-w-bmx-ii-i-iii-seria/
LOCATION:Dzierżoniów\, Dzierżoniów\, dolnośląskie\, Polska
CATEGORIES:BMX,Puchar Polski
END:VEVENT
BEGIN:VEVENT
DTSTART;VALUE=DATE:20220611
DTEND;VALUE=DATE:20220612
DTSTAMP:20260422T135208
CREATED:20220413T132128Z
LAST-MODIFIED:20220413T132128Z
UID:5014-1654905600-1654991999@dzkol.pl
SUMMARY:Liga MTB XC Aglomeracji Wałbrzyskiej – wyścig nr 5 – Walim
DESCRIPTION:
URL:https://dzkol.pl/kalendarz/liga-mtb-xc-aglomeracji-walbrzyskiej-wyscig-nr-5-walim/
LOCATION:Walim
CATEGORIES:Liga MTB Aglomeracji Wałbrzyskiej
ORGANIZER;CN="Stowarzyszenie Cyklist%C3%B3w Ziemi Wa%C5%82brzyskiej":MAILTO:mateusz.rosiak@interia.eu
END:VEVENT
BEGIN:VEVENT
DTSTART;VALUE=DATE:20220618
DTEND;VALUE=DATE:20220619
DTSTAMP:20260422T135208
CREATED:20220413T132240Z
LAST-MODIFIED:20220413T132240Z
UID:5016-1655510400-1655596799@dzkol.pl
SUMMARY:Jakuszyce Gravel Adventure - UCI Gravel World Series
DESCRIPTION:
URL:https://dzkol.pl/kalendarz/jakuszyce-gravel-adventure-uci-gravel-world-series/
LOCATION:Jakuszyce\, Poland
CATEGORIES:Gravel
ORGANIZER;CN="Grabek Promotion":MAILTO:biuro@bikemaraton.com.pl
END:VEVENT
BEGIN:VEVENT
DTSTART;VALUE=DATE:20220618
DTEND;VALUE=DATE:20220620
DTSTAMP:20260422T135208
CREATED:20220413T132412Z
LAST-MODIFIED:20220413T132412Z
UID:5020-1655510400-1655683199@dzkol.pl
SUMMARY:Puchar Polski w kolarstwie szosowym (VIII seria). Memoriał Tomka Jakubowskiego - jazda indywidualna na czas\, start wspólny
DESCRIPTION:
URL:https://dzkol.pl/kalendarz/puchar-polski-w-kolarstwie-szosowym-viii-seria-memorial-tomka-jakubowskiego-jazda-indywidualna-na-czas-start-wspolny/
LOCATION:Lusowo\, Poland
CATEGORIES:Puchar Polski,szosa
END:VEVENT
BEGIN:VEVENT
DTSTART;VALUE=DATE:20220619
DTEND;VALUE=DATE:20220620
DTSTAMP:20260422T135208
CREATED:20220413T132547Z
LAST-MODIFIED:20220413T132547Z
UID:5023-1655596800-1655683199@dzkol.pl
SUMMARY:PKO Ubezpieczenia Via Dolny Śląsk „Grand Prix Doliny Baryczy”
DESCRIPTION:
URL:https://dzkol.pl/kalendarz/pko-ubezpieczenia-via-dolny-slask-grand-prix-doliny-baryczy/
LOCATION:Żmigród
CATEGORIES:Via Dolny Śląsk
ORGANIZER;CN="%C5%9Al%C4%99%C5%BCa Sob%C3%B3tka Bike Academy":MAILTO:kssleza@gmail.com
END:VEVENT
END:VCALENDAR