BEGIN:VCALENDAR
VERSION:2.0
PRODID:-//Dolnośląski Związek Kolarski - ECPv6.15.20//NONSGML v1.0//EN
CALSCALE:GREGORIAN
METHOD:PUBLISH
X-ORIGINAL-URL:https://dzkol.pl
X-WR-CALDESC:Wydarzenia dla Dolnośląski Związek Kolarski
REFRESH-INTERVAL;VALUE=DURATION:PT1H
X-Robots-Tag:noindex
X-PUBLISHED-TTL:PT1H
BEGIN:VTIMEZONE
TZID:Europe/Warsaw
BEGIN:DAYLIGHT
TZOFFSETFROM:+0100
TZOFFSETTO:+0200
TZNAME:CEST
DTSTART:20160327T010000
END:DAYLIGHT
BEGIN:STANDARD
TZOFFSETFROM:+0200
TZOFFSETTO:+0100
TZNAME:CET
DTSTART:20161030T010000
END:STANDARD
BEGIN:DAYLIGHT
TZOFFSETFROM:+0100
TZOFFSETTO:+0200
TZNAME:CEST
DTSTART:20170326T010000
END:DAYLIGHT
BEGIN:STANDARD
TZOFFSETFROM:+0200
TZOFFSETTO:+0100
TZNAME:CET
DTSTART:20171029T010000
END:STANDARD
BEGIN:DAYLIGHT
TZOFFSETFROM:+0100
TZOFFSETTO:+0200
TZNAME:CEST
DTSTART:20180325T010000
END:DAYLIGHT
BEGIN:STANDARD
TZOFFSETFROM:+0200
TZOFFSETTO:+0100
TZNAME:CET
DTSTART:20181028T010000
END:STANDARD
END:VTIMEZONE
BEGIN:VEVENT
DTSTART;VALUE=DATE:20170902
DTEND;VALUE=DATE:20170903
DTSTAMP:20260426T061102
CREATED:20170222T162518Z
LAST-MODIFIED:20170222T162753Z
UID:296-1504310400-1504396799@dzkol.pl
SUMMARY:Liga szkółek kolarskich (zawodnicy bez licencji)
DESCRIPTION:
URL:https://dzkol.pl/kalendarz/liga-szkolek-kolarskich-zawodnicy-bez-licencji-6/
LOCATION:Wilków\, Wilków\, dolnośląskie\, Polska
CATEGORIES:MTB XC
ORGANIZER;CN="TC Chrobry G%C5%82og%C3%B3w":MAILTO:sbb200@wp.pl
END:VEVENT
BEGIN:VEVENT
DTSTART;TZID=Europe/Warsaw:20170902T080000
DTEND;TZID=Europe/Warsaw:20170902T170000
DTSTAMP:20260426T061102
CREATED:20170222T162608Z
LAST-MODIFIED:20170222T162608Z
UID:302-1504339200-1504371600@dzkol.pl
SUMMARY:II Czasówka Rosochocka Górska
DESCRIPTION:
URL:https://dzkol.pl/kalendarz/ii-czasowka-rosochocka-gorska/
LOCATION:Sichów gmina Męcinka\, Męcinka\, Sichów\, dolnośląskie\, Polska
CATEGORIES:szosa
ORGANIZER;CN="Karkonoskie Stowarzyszenie Cyklist%C3%B3w":MAILTO:wiesio_k@op.pl
END:VEVENT
BEGIN:VEVENT
DTSTART;VALUE=DATE:20170903
DTEND;VALUE=DATE:20170904
DTSTAMP:20260426T061102
CREATED:20170222T162859Z
LAST-MODIFIED:20170222T162859Z
UID:310-1504396800-1504483199@dzkol.pl
SUMMARY:Ogólnopolski Wyścig Kolarski "Szlakiem Bitwy Kaczawskiej" ze startu wspólnego
DESCRIPTION:
URL:https://dzkol.pl/kalendarz/ogolnopolski-wyscig-kolarski-szlakiem-bitwy-kaczawskiej-ze-startu-wspolnego/
LOCATION:Krotoszyce\, Krotoszyce\, dolnośląskie\, Polska
CATEGORIES:szosa
ORGANIZER;CN="Karkonoskie Stowarzyszenie Cyklist%C3%B3w":MAILTO:wiesio_k@op.pl
END:VEVENT
BEGIN:VEVENT
DTSTART;VALUE=DATE:20170906
DTEND;VALUE=DATE:20170907
DTSTAMP:20260426T061102
CREATED:20170222T162931Z
LAST-MODIFIED:20170222T162931Z
UID:313-1504656000-1504742399@dzkol.pl
SUMMARY:Środy kolarskie Młodzieżowa Liga Kolarska Deichmann Abus Mat
DESCRIPTION:
URL:https://dzkol.pl/kalendarz/srody-kolarskie-mlodziezowa-liga-kolarska-deichmann-abus-mat-6/
LOCATION:Sobótka
CATEGORIES:szosa
ORGANIZER;CN="%C5%9Al%C4%99%C5%BCa Sob%C3%B3tka Bike Academy":MAILTO:kssleza@gmail.com
END:VEVENT
BEGIN:VEVENT
DTSTART;VALUE=DATE:20170909
DTEND;VALUE=DATE:20170910
DTSTAMP:20260426T061102
CREATED:20170222T163014Z
LAST-MODIFIED:20170222T165512Z
UID:315-1504915200-1505001599@dzkol.pl
SUMMARY:Bike Maraton #10 Wałbrzych - Mistrzostwa Polski w maratonie MTB
DESCRIPTION:
URL:https://dzkol.pl/kalendarz/bike-maraton-9-walbrzych-mistrzostwa-polski-w-maratonie-mtb/
LOCATION:Wałbrzych
CATEGORIES:maraton MTB
ORGANIZER;CN="Grabek Promotion":MAILTO:biuro@bikemaraton.com.pl
END:VEVENT
BEGIN:VEVENT
DTSTART;VALUE=DATE:20170909
DTEND;VALUE=DATE:20170910
DTSTAMP:20260426T061102
CREATED:20170222T163058Z
LAST-MODIFIED:20170324T105759Z
UID:317-1504915200-1505001599@dzkol.pl
SUMMARY:Liga MTB Cross Country Wałbrzych 2017 #6 Świebodzice
DESCRIPTION:Regulamin Ligi MTB XC Aglomeracji Wałbrzyskiej 2017\n                \n                     223.28 KB\n                     129 downloads\n                \n            \n            ...\n        \n        \n            Pobierz
URL:https://dzkol.pl/kalendarz/liga-mtb-cross-country-walbrzych-2017-6-swiebodzice/
LOCATION:Jedlina Zdrój\, Jedlina Zdrój\, Polska
CATEGORIES:MTB XC
ORGANIZER;CN="Wa%C5%82brzych Aqua Zdr%C3%B3j sp. z o.o":MAILTO: r.szram@aqua-zdroj.pl
END:VEVENT
BEGIN:VEVENT
DTSTART;VALUE=DATE:20170910
DTEND;VALUE=DATE:20170911
DTSTAMP:20260426T061102
CREATED:20170222T163219Z
LAST-MODIFIED:20170822T120040Z
UID:320-1505001600-1505087999@dzkol.pl
SUMMARY:XXIII Lubawka MTB XC
DESCRIPTION:Informacje na stronie oragnizatora: http://kultura.lubawka.eu/ \nRegulamin dostępny na stronie pzkol.pl
URL:https://dzkol.pl/kalendarz/xxiii-lubawka-mtb-xc/
LOCATION:Lubawka\, Lubawka\, Polska
CATEGORIES:MTB XC
ORGANIZER;CN="Miejsko-Gminny O%C5%9Brodek Kultury w Lubawce":MAILTO:kontakt@kultura.lubawka.eu
END:VEVENT
BEGIN:VEVENT
DTSTART;VALUE=DATE:20170916
DTEND;VALUE=DATE:20170918
DTSTAMP:20260426T061102
CREATED:20170222T163327Z
LAST-MODIFIED:20170222T170104Z
UID:324-1505520000-1505692799@dzkol.pl
SUMMARY:Górale na Start Puchar Polski MTB XCO - Boguszów Gorce
DESCRIPTION:
URL:https://dzkol.pl/kalendarz/gorale-na-start-puchar-polski-mtb-xco-boguszow-gorce/
LOCATION:Boguszów Gorce\, Boguszów Gorce\, Polska
CATEGORIES:MTB XC,Puchar Polski MTB
ORGANIZER;CN="KKW Whyte Nexelo Wa%C5%82brzych":MAILTO:klub@kk.walbrzych.pl
END:VEVENT
BEGIN:VEVENT
DTSTART;VALUE=DATE:20170916
DTEND;VALUE=DATE:20170917
DTSTAMP:20260426T061102
CREATED:20170222T163427Z
LAST-MODIFIED:20170222T163427Z
UID:327-1505520000-1505606399@dzkol.pl
SUMMARY:Puchar Strefy MTB Sudety #7 FINAŁ Grand Prix Jodownika MTB
DESCRIPTION:
URL:https://dzkol.pl/kalendarz/puchar-strefy-mtb-sudety-7-final-grand-prix-jodownika-mtb/
LOCATION:Jodownik\, Jodownik\, dolnośląskie\, Polska
CATEGORIES:maraton MTB
END:VEVENT
BEGIN:VEVENT
DTSTART;VALUE=DATE:20170916
DTEND;VALUE=DATE:20170917
DTSTAMP:20260426T061102
CREATED:20170222T163528Z
LAST-MODIFIED:20170222T163528Z
UID:331-1505520000-1505606399@dzkol.pl
SUMMARY:Cykl Czasówek Karkonoskich: VI Czasówka Kaczawska Górska
DESCRIPTION:
URL:https://dzkol.pl/kalendarz/cykl-czasowek-karkonoskich-vi-czasowka-kaczawska-gorska/
LOCATION:Wojcieszów – Podgórki\, Wojcieszów\, dolnośląskie\, Polska
CATEGORIES:szosa
ORGANIZER;CN="Karkonoskie Stowarzyszenie Cyklist%C3%B3w":MAILTO:wiesio_k@op.pl
END:VEVENT
BEGIN:VEVENT
DTSTART;VALUE=DATE:20170917
DTEND;VALUE=DATE:20170918
DTSTAMP:20260426T061102
CREATED:20170222T163611Z
LAST-MODIFIED:20170403T202912Z
UID:334-1505606400-1505692799@dzkol.pl
SUMMARY:Visegrad 4 Bicycle Race Grand Prix Poland UCI 1.2
DESCRIPTION:2017-09-17: Visegrad 4 Bicycle Race - Grand Prix Polski - regulamin\n                \n                     152.29 KB\n                     349 downloads\n                \n            \n            ...\n        \n        \n            Pobierz\n        \n    \n\n\n\n\n\n\n\n    \n        \n            \n        \n        \n            \n                2017-09-17: Visegrad 4 Bicycle Race - regulations - english version\n                \n                     43.14 KB\n                     80 downloads\n                \n            \n            ...\n        \n        \n            Pobierz
URL:https://dzkol.pl/kalendarz/visegrad-4-bicycle-race-grand-prix-poland-uci-1-2/
LOCATION:Sobótka
CATEGORIES:szosa
ORGANIZER;CN="Dolno%C5%9Bl%C4%85ski Zwi%C4%85zek Kolarski":MAILTO:dzkol@dzkol.eu
END:VEVENT
BEGIN:VEVENT
DTSTART;VALUE=DATE:20170917
DTEND;VALUE=DATE:20170918
DTSTAMP:20260426T061102
CREATED:20170222T163653Z
LAST-MODIFIED:20170222T163653Z
UID:336-1505606400-1505692799@dzkol.pl
SUMMARY:Młodzieżowa Liga Kolarska Deichmann Abus Mat FINAŁ
DESCRIPTION:
URL:https://dzkol.pl/kalendarz/mlodziezowa-liga-kolarska-deichmann-abus-mat-final/
LOCATION:Sobótka
CATEGORIES:szosa
ORGANIZER;CN="%C5%9Al%C4%99%C5%BCa Sob%C3%B3tka Bike Academy":MAILTO:kssleza@gmail.com
END:VEVENT
BEGIN:VEVENT
DTSTART;VALUE=DATE:20170923
DTEND;VALUE=DATE:20170924
DTSTAMP:20260426T061102
CREATED:20170222T163810Z
LAST-MODIFIED:20170222T163810Z
UID:341-1506124800-1506211199@dzkol.pl
SUMMARY:Liga szkółek kolarskich (zawodnicy bez licencji)
DESCRIPTION:
URL:https://dzkol.pl/kalendarz/liga-szkolek-kolarskich-zawodnicy-bez-licencji-7/
LOCATION:Głogów Górkowo\, Głogów\, dolnośląskie\, Polska
CATEGORIES:MTB XC
ORGANIZER;CN="TC Chrobry G%C5%82og%C3%B3w":MAILTO:sbb200@wp.pl
END:VEVENT
BEGIN:VEVENT
DTSTART;VALUE=DATE:20170923
DTEND;VALUE=DATE:20170924
DTSTAMP:20260426T061102
CREATED:20170222T163946Z
LAST-MODIFIED:20170324T105739Z
UID:347-1506124800-1506211199@dzkol.pl
SUMMARY:Liga MTB Cross Country Wałbrzych #7 Szczawno Zdrój
DESCRIPTION:Regulamin Ligi MTB XC Aglomeracji Wałbrzyskiej 2017\n                \n                     223.28 KB\n                     129 downloads\n                \n            \n            ...\n        \n        \n            Pobierz
URL:https://dzkol.pl/kalendarz/liga-mtb-cross-country-walbrzych-7-szczawno-zdroj/
LOCATION:Szczawno Zdrój\, Szczawno Zdrój\, Polska
CATEGORIES:MTB XC
ORGANIZER;CN="Wa%C5%82brzych Aqua Zdr%C3%B3j sp. z o.o":MAILTO: r.szram@aqua-zdroj.pl
END:VEVENT
BEGIN:VEVENT
DTSTART;VALUE=DATE:20170923
DTEND;VALUE=DATE:20170924
DTSTAMP:20260426T061102
CREATED:20170222T165418Z
LAST-MODIFIED:20170222T165418Z
UID:372-1506124800-1506211199@dzkol.pl
SUMMARY:Bike Maraton #11 Kielce BIKE EXPO
DESCRIPTION:
URL:https://dzkol.pl/kalendarz/bike-maraton-11-kielce-bike-expo/
LOCATION:Kielce\, Kielce\, Polska
CATEGORIES:maraton MTB
ORGANIZER;CN="Grabek Promotion":MAILTO:biuro@bikemaraton.com.pl
END:VEVENT
BEGIN:VEVENT
DTSTART;VALUE=DATE:20170924
DTEND;VALUE=DATE:20170925
DTSTAMP:20260426T061102
CREATED:20170222T163910Z
LAST-MODIFIED:20170222T163910Z
UID:343-1506211200-1506297599@dzkol.pl
SUMMARY:Wyścig Kolarski ze startu wspólnego
DESCRIPTION:
URL:https://dzkol.pl/kalendarz/wyscig-kolarski-ze-startu-wspolnego/
LOCATION:Jelcz Laskowice\, Jelcz Laskowice\, Polska
CATEGORIES:szosa
END:VEVENT
BEGIN:VEVENT
DTSTART;VALUE=DATE:20170929
DTEND;VALUE=DATE:20171002
DTSTAMP:20260426T061102
CREATED:20170222T174515Z
LAST-MODIFIED:20170222T174515Z
UID:483-1506643200-1506902399@dzkol.pl
SUMMARY:Mistrzostwa Polski Dwójek i Drużyn
DESCRIPTION:
URL:https://dzkol.pl/kalendarz/mistrzostwa-polski-dwojek-i-druzyn/
LOCATION:Godziesze Wielkie\, Godziesze Wielkie\, Polska
CATEGORIES:Mistrzostwa Polski,szosa
ORGANIZER;CN="Kaliskie Towarzystwo Kolarskie":MAILTO:ktk.kalisz.pl
END:VEVENT
BEGIN:VEVENT
DTSTART;VALUE=DATE:20170930
DTEND;VALUE=DATE:20171001
DTSTAMP:20260426T061102
CREATED:20170222T163741Z
LAST-MODIFIED:20170531T115716Z
UID:338-1506729600-1506815999@dzkol.pl
SUMMARY:MMM Międzywojewódzkie Mistrzostwa Młodzików MTB XCO: Dolnośląskie\, Lubuskie\, Opolskie i Wielkopolskie - Głuchołazy
DESCRIPTION:
URL:https://dzkol.pl/kalendarz/mmm-miedzywojewodzkie-mistrzostwa-mlodzikow-mtb-xco-dolnoslaskie-lubuskie-opolskie-i-wielkopolskie/
LOCATION:Głuchołazy\, Głuchołazy\, opolskie\, Polska
CATEGORIES:Międzywojewódzki Mistrzostwa Młodzików,MTB XC
END:VEVENT
BEGIN:VEVENT
DTSTART;VALUE=DATE:20170930
DTEND;VALUE=DATE:20171001
DTSTAMP:20260426T061102
CREATED:20170222T164040Z
LAST-MODIFIED:20170222T164046Z
UID:349-1506729600-1506815999@dzkol.pl
SUMMARY:Cykl Czasówek Karkonoskich: FINAŁ V Czasówka Gorzanowicka Górska
DESCRIPTION:
URL:https://dzkol.pl/kalendarz/cykl-czasowek-karkonoskich-final-v-czasowka-gorzanowicka-gorska/
LOCATION:Pogwizdów – Gorzanowice\, Pogwizdów\, dolnośląskie\, Polska
CATEGORIES:szosa
ORGANIZER;CN="Karkonoskie Stowarzyszenie Cyklist%C3%B3w":MAILTO:wiesio_k@op.pl
END:VEVENT
BEGIN:VEVENT
DTSTART;VALUE=DATE:20170930
DTEND;VALUE=DATE:20171001
DTSTAMP:20260426T061102
CREATED:20170222T174420Z
LAST-MODIFIED:20170222T174420Z
UID:479-1506729600-1506815999@dzkol.pl
SUMMARY:VI Ogólopolski wyścig CykloOpawy XC Głuchołazy FINAŁ Puchar Polski MTB XCO
DESCRIPTION:
URL:https://dzkol.pl/kalendarz/vi-ogolopolski-wyscig-cykloopawy-xc-glucholazy-final-puchar-polski-mtb-xco/
LOCATION:Głuchołazy\, Głuchołazy\, opolskie\, Polska
CATEGORIES:MTB XC,Puchar Polski MTB
ORGANIZER;CN="Klub Turystyki Kolarskiej KTUKOL G%C5%82ucho%C5%82azy":MAILTO:tomred2@wp.pl
END:VEVENT
END:VCALENDAR