BEGIN:VCALENDAR
VERSION:2.0
PRODID:-//Dolnośląski Związek Kolarski - ECPv6.15.20//NONSGML v1.0//EN
CALSCALE:GREGORIAN
METHOD:PUBLISH
X-ORIGINAL-URL:https://dzkol.pl
X-WR-CALDESC:Wydarzenia dla Dolnośląski Związek Kolarski
REFRESH-INTERVAL;VALUE=DURATION:PT1H
X-Robots-Tag:noindex
X-PUBLISHED-TTL:PT1H
BEGIN:VTIMEZONE
TZID:Europe/Warsaw
BEGIN:DAYLIGHT
TZOFFSETFROM:+0100
TZOFFSETTO:+0200
TZNAME:CEST
DTSTART:20170326T010000
END:DAYLIGHT
BEGIN:STANDARD
TZOFFSETFROM:+0200
TZOFFSETTO:+0100
TZNAME:CET
DTSTART:20171029T010000
END:STANDARD
BEGIN:DAYLIGHT
TZOFFSETFROM:+0100
TZOFFSETTO:+0200
TZNAME:CEST
DTSTART:20180325T010000
END:DAYLIGHT
BEGIN:STANDARD
TZOFFSETFROM:+0200
TZOFFSETTO:+0100
TZNAME:CET
DTSTART:20181028T010000
END:STANDARD
BEGIN:DAYLIGHT
TZOFFSETFROM:+0100
TZOFFSETTO:+0200
TZNAME:CEST
DTSTART:20190331T010000
END:DAYLIGHT
BEGIN:STANDARD
TZOFFSETFROM:+0200
TZOFFSETTO:+0100
TZNAME:CET
DTSTART:20191027T010000
END:STANDARD
END:VTIMEZONE
BEGIN:VEVENT
DTSTART;VALUE=DATE:20180407
DTEND;VALUE=DATE:20180408
DTSTAMP:20260425T191135
CREATED:20180227T144124Z
LAST-MODIFIED:20180306T150011Z
UID:1234-1523059200-1523145599@dzkol.pl
SUMMARY:Puchar Strefy MTB Sudety #1 Bardo
DESCRIPTION:
URL:https://dzkol.pl/kalendarz/puchar-strefy-mtb-sudety-1-bardo/
LOCATION:Bardo\, Bardo\, Polska
CATEGORIES:maraton MTB
ORGANIZER;CN="Hotel Bardo":MAILTO:marcinskomar@gmail.com
END:VEVENT
BEGIN:VEVENT
DTSTART;VALUE=DATE:20180408
DTEND;VALUE=DATE:20180409
DTSTAMP:20260425T191135
CREATED:20180329T194718Z
LAST-MODIFIED:20180329T195210Z
UID:1378-1523145600-1523231999@dzkol.pl
SUMMARY:XXXI Międzynarodowy Wyścig Kolarski „Ślężański Mnich”. Memoriał Romana Ręgorowicza. Ogólnopolskie Rozpoczęcie Sezonu 2018
DESCRIPTION:
URL:https://dzkol.pl/kalendarz/xxxi-miedzynarodowy-wyscig-kolarski-slezanski-mnich-memorial-romana-regorowicza-ogolnopolskie-rozpoczecie-sezonu-2018/
LOCATION:Sobótka
CATEGORIES:szosa
ORGANIZER;CN="%C5%9Al%C4%99%C5%BCa Sob%C3%B3tka Bike Academy":MAILTO:kssleza@gmail.com
END:VEVENT
BEGIN:VEVENT
DTSTART;VALUE=DATE:20180408
DTEND;VALUE=DATE:20180409
DTSTAMP:20260425T191135
CREATED:20180226T135746Z
LAST-MODIFIED:20180329T195757Z
UID:1221-1523145600-1523231999@dzkol.pl
SUMMARY:Via Dolny Śląsk: Ślężański Mnich - Sobótka
DESCRIPTION:W Sobótce\, 8 kwietnia rozegrane zostaną wyścigi dla młodziczek i młodzików\, juniorów i juniorek młodszych oraz juniorów (juniorki będą startować z elitą kobiet)\, a zapewne największą publiczność zgromadzi rywalizacja elity kobiet i mężczyzn. Natomiast najliczniejszą grupą startujących bez wątpienia będą amatorzy. \nDla nich ten wyścig jest pierwszą edycją cyklu Via Dolny Śląsk\, na który składa się w sumie aż osiem imprez\, w tym trzy w Sobótce\, a poza tym w Miękini\, Żmigrodzie\, Skotnikach\, Szklarskiej Porębie i Grodowcu. \nNajpierw jednak spotkają się w Sobótce na Ślężańskim Mnichu. Liczącą 18 km pętlę poprowadzono przez miejscowości Sobótka\, Strzegomiany\, Będkowice\, Sulistrowice\, Przemiłów\, Księginice\, Świątniki\, Przezdrowice do mety w Sobótce. Start i meta przy Al. Św. Anny\, w pobliżu hotelu Sobotel. \nDystanse dla poszczególnych kategorii: \nI wyścig – godz. 9.30\nAmatorzy Mini – 1 x 18 km = 18 km\nAmatorzy Maxi – 3 x 18 km = 54 km \nII wyścig – godz. 12.00\njunior 4×18 km = 72 km\njunior mł. 3×18 km = 54 km\nmłodzik 1×18 km = 18 km \nIII wyścig – 14.00\nelita 7×18 km = 126 km\nkobiety open /elita. juniorki/ 3×18 km = 54 km juniorki młodsze 1×18 km = 18 km\nmłodziczki 1×18 km = 18 km \nZapisy przez internet przyjmowane są do 3 kwietnia. \nLink do zapisów TUTAJ.\nLink do regulaminu TUTAJ. \nWięcej o amatorskim cyklu Via Dolny Śląsk na stronie www.viadolnyslask.pl.
URL:https://dzkol.pl/kalendarz/slezanski-mnich/
LOCATION:Sobótka
CATEGORIES:szosa
ORGANIZER;CN="%C5%9Al%C4%99%C5%BCa Sob%C3%B3tka Bike Academy":MAILTO:kssleza@gmail.com
END:VEVENT
BEGIN:VEVENT
DTSTART;VALUE=DATE:20180414
DTEND;VALUE=DATE:20180415
DTSTAMP:20260425T191135
CREATED:20180227T144855Z
LAST-MODIFIED:20180329T200737Z
UID:1240-1523664000-1523750399@dzkol.pl
SUMMARY:Liga MTB Aglomeracji Wałbrzyskiej - wyścig nr 1 - Walim
DESCRIPTION:20180414 – 0915 : Liga MTB XC Aglomeracji Wałbrzyskiej – III edycja – regulamin \n \n 
URL:https://dzkol.pl/kalendarz/liga-mtb-aglomeracji-walbrzyskiej-edycja-1/
LOCATION:Walim
CATEGORIES:MTB XC
ORGANIZER;CN="Junior Wa%C5%82brzych":MAILTO:szram.junior@gmail.com
END:VEVENT
BEGIN:VEVENT
DTSTART;VALUE=DATE:20180414
DTEND;VALUE=DATE:20180415
DTSTAMP:20260425T191135
CREATED:20180227T145140Z
LAST-MODIFIED:20180330T084717Z
UID:1243-1523664000-1523750399@dzkol.pl
SUMMARY:Bike Maraton: Miękinia
DESCRIPTION:
URL:https://dzkol.pl/kalendarz/bike-maraton-1-miekinia-2/
LOCATION:Miękinia
CATEGORIES:maraton MTB
ORGANIZER;CN="Grabek Promotion":MAILTO:biuro@bikemaraton.com.pl
END:VEVENT
BEGIN:VEVENT
DTSTART;TZID=Europe/Warsaw:20180414T080000
DTEND;TZID=Europe/Warsaw:20180414T170000
DTSTAMP:20260425T191135
CREATED:20180227T144436Z
LAST-MODIFIED:20180227T144436Z
UID:1237-1523692800-1523725200@dzkol.pl
SUMMARY:Liga szkółek kolarskich MTB Zagłębia Miedziowego 1. edycja
DESCRIPTION:
URL:https://dzkol.pl/kalendarz/liga-szkolek-kolarskich-mtb-zaglebia-miedziowego-1-edycja/
LOCATION:Borek\, Borek\, dolnoślaskie\, Poland
CATEGORIES:Liga Szkółek Kolarskich
ORGANIZER;CN="TC Chrobry G%C5%82og%C3%B3w":MAILTO:sbb200@wp.pl
END:VEVENT
BEGIN:VEVENT
DTSTART;TZID=Europe/Warsaw:20180415T080000
DTEND;TZID=Europe/Warsaw:20180415T170000
DTSTAMP:20260425T191135
CREATED:20180227T145609Z
LAST-MODIFIED:20180329T195812Z
UID:1246-1523779200-1523811600@dzkol.pl
SUMMARY:Via Dolny Śląsk: Szosowy Klasyk - Miękinia
DESCRIPTION:
URL:https://dzkol.pl/kalendarz/klasyk-w-miekini-2-edycja-via-dolny-slask/
LOCATION:dolnośląskie
CATEGORIES:szosa,Via Dolny Śląsk
ORGANIZER;CN="Grabek Promotion":MAILTO:biuro@bikemaraton.com.pl
END:VEVENT
BEGIN:VEVENT
DTSTART;VALUE=DATE:20180421
DTEND;VALUE=DATE:20180422
DTSTAMP:20260425T191135
CREATED:20180227T145821Z
LAST-MODIFIED:20180306T150235Z
UID:1249-1524268800-1524355199@dzkol.pl
SUMMARY:Liga Szkółek Kolarskich Zagłębia Miedziowego\, 2. edycja
DESCRIPTION:
URL:https://dzkol.pl/kalendarz/liga-szkolek-kolarskich-zaglebia-miedziowego-2-edycja/
LOCATION:Polkowice\, Polkowice\, Polska
CATEGORIES:Liga Szkółek Kolarskich
ORGANIZER;CN="MKS Polkowice":MAILTO: j.pytlak@mkspolkowice.pl
END:VEVENT
BEGIN:VEVENT
DTSTART;VALUE=DATE:20180422
DTEND;VALUE=DATE:20180423
DTSTAMP:20260425T191135
CREATED:20180329T195344Z
LAST-MODIFIED:20180329T195441Z
UID:1381-1524355200-1524441599@dzkol.pl
SUMMARY:Visegrad 4 Bicycle Race Grand Prix Poland UCI 1.2
DESCRIPTION:
URL:https://dzkol.pl/kalendarz/visegrad-4-bicykle-race-grand-prix-poland-uci-1-2/
LOCATION:Sobótka
CATEGORIES:szosa
ORGANIZER;CN="Dolno%C5%9Bl%C4%85ski Zwi%C4%85zek Kolarski":MAILTO:dzkol@dzkol.eu
END:VEVENT
BEGIN:VEVENT
DTSTART;VALUE=DATE:20180422
DTEND;VALUE=DATE:20180423
DTSTAMP:20260425T191135
CREATED:20180329T195611Z
LAST-MODIFIED:20180329T195821Z
UID:1384-1524355200-1524441599@dzkol.pl
SUMMARY:Via Dolny Śląsk: Visegrad 4 Bicykle Grand Prix Poland - Sobótka
DESCRIPTION:
URL:https://dzkol.pl/kalendarz/via-dolny-slask-visegrad-4-bicykle-grand-prix-poland/
LOCATION:Sobótka
CATEGORIES:Via Dolny Śląsk
ORGANIZER;CN="Dolno%C5%9Bl%C4%85ski Zwi%C4%85zek Kolarski":MAILTO:dzkol@dzkol.eu
END:VEVENT
BEGIN:VEVENT
DTSTART;VALUE=DATE:20180422
DTEND;VALUE=DATE:20180423
DTSTAMP:20260425T191135
CREATED:20180329T200014Z
LAST-MODIFIED:20180329T200131Z
UID:1391-1524355200-1524441599@dzkol.pl
SUMMARY:Kryterium Nowa Ruda\, II Eliminacja do Mistrzostw Polski
DESCRIPTION:
URL:https://dzkol.pl/kalendarz/kryterium-nowa-ruda-ii-eliminacja-do-mistrzostw-polski/
LOCATION:Nowa Ruda\, Nowa Ruda\, dolnośląskie\, Polska
CATEGORIES:Eliminacje do Mistrzostw Polski,szosa
ORGANIZER;CN="UKS Centrum Nowa Ruda":MAILTO:lukasz_roznicki@vp.pl
END:VEVENT
BEGIN:VEVENT
DTSTART;VALUE=DATE:20180428
DTEND;VALUE=DATE:20180429
DTSTAMP:20260425T191135
CREATED:20180329T200324Z
LAST-MODIFIED:20180329T200324Z
UID:1393-1524873600-1524959999@dzkol.pl
SUMMARY:XXI Ogólnopolskie Kryterium Uliczne o Puchar Karkonoszy z okazji „Wiosny Cieplickiej”
DESCRIPTION:
URL:https://dzkol.pl/kalendarz/xxi-ogolnopolskie-kryterium-uliczne-o-puchar-karkonoszy-z-okazji-wiosny-cieplickiej/
LOCATION:Jelenia Góra\, Jelenia Góra\, Polska
CATEGORIES:szosa
ORGANIZER;CN="Karkonoskie Stowarzyszenie Cyklist%C3%B3w":MAILTO:wiesio_k@op.pl
END:VEVENT
END:VCALENDAR