BEGIN:VCALENDAR
VERSION:2.0
PRODID:-//Dolnośląski Związek Kolarski - ECPv6.15.20//NONSGML v1.0//EN
CALSCALE:GREGORIAN
METHOD:PUBLISH
X-ORIGINAL-URL:https://dzkol.pl
X-WR-CALDESC:Wydarzenia dla Dolnośląski Związek Kolarski
REFRESH-INTERVAL;VALUE=DURATION:PT1H
X-Robots-Tag:noindex
X-PUBLISHED-TTL:PT1H
BEGIN:VTIMEZONE
TZID:Europe/Warsaw
BEGIN:DAYLIGHT
TZOFFSETFROM:+0100
TZOFFSETTO:+0200
TZNAME:CEST
DTSTART:20170326T010000
END:DAYLIGHT
BEGIN:STANDARD
TZOFFSETFROM:+0200
TZOFFSETTO:+0100
TZNAME:CET
DTSTART:20171029T010000
END:STANDARD
BEGIN:DAYLIGHT
TZOFFSETFROM:+0100
TZOFFSETTO:+0200
TZNAME:CEST
DTSTART:20180325T010000
END:DAYLIGHT
BEGIN:STANDARD
TZOFFSETFROM:+0200
TZOFFSETTO:+0100
TZNAME:CET
DTSTART:20181028T010000
END:STANDARD
BEGIN:DAYLIGHT
TZOFFSETFROM:+0100
TZOFFSETTO:+0200
TZNAME:CEST
DTSTART:20190331T010000
END:DAYLIGHT
BEGIN:STANDARD
TZOFFSETFROM:+0200
TZOFFSETTO:+0100
TZNAME:CET
DTSTART:20191027T010000
END:STANDARD
END:VTIMEZONE
BEGIN:VEVENT
DTSTART;VALUE=DATE:20180801
DTEND;VALUE=DATE:20180802
DTSTAMP:20260425T122923
CREATED:20180330T155745Z
LAST-MODIFIED:20180330T155745Z
UID:1538-1533081600-1533167999@dzkol.pl
SUMMARY:Środy kolarskie jazda indywidualna na czas pod Wieżycę\, Deichmann\, Abus Mat
DESCRIPTION:
URL:https://dzkol.pl/kalendarz/srody-kolarskie-jazda-indywidualna-na-czas-pod-wiezyce-deichmann-abus-mat/
LOCATION:Sobótka
CATEGORIES:szosa
ORGANIZER;CN="%C5%9Al%C4%99%C5%BCa Sob%C3%B3tka Bike Academy":MAILTO:kssleza@gmail.com
END:VEVENT
BEGIN:VEVENT
DTSTART;VALUE=DATE:20180804
DTEND;VALUE=DATE:20180805
DTSTAMP:20260425T122923
CREATED:20180330T155921Z
LAST-MODIFIED:20180330T155921Z
UID:1540-1533340800-1533427199@dzkol.pl
SUMMARY:Via Dolny Śląsk: Szosowy Klasyk Grodowiec
DESCRIPTION:
URL:https://dzkol.pl/kalendarz/via-dolny-slask-szosowy-klasyk-grodowiec/
LOCATION:Grodowiec\, Grodowiec\, dolnośląskie\, Polska
CATEGORIES:szosa,Via Dolny Śląsk
ORGANIZER;CN="Grabek Promotion":MAILTO:biuro@bikemaraton.com.pl
END:VEVENT
BEGIN:VEVENT
DTSTART;VALUE=DATE:20180805
DTEND;VALUE=DATE:20180806
DTSTAMP:20260425T122923
CREATED:20180330T160012Z
LAST-MODIFIED:20180330T160931Z
UID:1543-1533427200-1533513599@dzkol.pl
SUMMARY:Bike Maraton: Obiszów
DESCRIPTION:
URL:https://dzkol.pl/kalendarz/bike-maraton-obiszow/
LOCATION:Obiszów
CATEGORIES:maraton MTB
ORGANIZER;CN="Grabek Promotion":MAILTO:biuro@bikemaraton.com.pl
END:VEVENT
BEGIN:VEVENT
DTSTART;TZID=Europe/Warsaw:20180805T080000
DTEND;TZID=Europe/Warsaw:20180805T170000
DTSTAMP:20260425T122923
CREATED:20180227T162506Z
LAST-MODIFIED:20180306T150139Z
UID:1257-1533456000-1533488400@dzkol.pl
SUMMARY:Liga Szkółek Kolarskich Zagłębia Miedziowego\, 5. edycja
DESCRIPTION:
URL:https://dzkol.pl/kalendarz/liga-szkolek-kolarskich-zaglebia-miedziowego-5-edycja/
LOCATION:Obiszów
CATEGORIES:Liga Szkółek Kolarskich,MTB XC
ORGANIZER;CN="TC Chrobry G%C5%82og%C3%B3w":MAILTO:sbb200@wp.pl
END:VEVENT
BEGIN:VEVENT
DTSTART;VALUE=DATE:20180811
DTEND;VALUE=DATE:20180812
DTSTAMP:20260425T122923
CREATED:20180330T161349Z
LAST-MODIFIED:20180330T161349Z
UID:1545-1533945600-1534031999@dzkol.pl
SUMMARY:III Maraton MTB Kargula i Pawlaka Lubomierz
DESCRIPTION:
URL:https://dzkol.pl/kalendarz/iii-maraton-mtb-kargula-i-pawlaka-lubomierz/
LOCATION:Lubomierz\, Lubomierz\, dolnośląskie\, Polska
CATEGORIES:maraton MTB
ORGANIZER;CN="Profi-Sport Bartosz Moskwa":MAILTO:b.moskwa@centrum-profisport.pl
END:VEVENT
BEGIN:VEVENT
DTSTART;VALUE=DATE:20180818
DTEND;VALUE=DATE:20180819
DTSTAMP:20260425T122923
CREATED:20180330T161516Z
LAST-MODIFIED:20180330T161553Z
UID:1549-1534550400-1534636799@dzkol.pl
SUMMARY:Liga MTB Aglomeracji Wałbrzyskiej - wyścig nr 5 - Boguszów Gorce
DESCRIPTION:
URL:https://dzkol.pl/kalendarz/liga-mtb-aglomeracji-walbrzyskiej-wyscig-nr-5-boguszow-gorce/
LOCATION:Boguszów Gorce\, Boguszów Gorce\, Polska
CATEGORIES:MTB XC
ORGANIZER;CN="Stowarzyszenie Sportowo Rekreacyjne Junior Wa%C5%82brzych":MAILTO:szram.junior@gmail.com
END:VEVENT
BEGIN:VEVENT
DTSTART;VALUE=DATE:20180818
DTEND;VALUE=DATE:20180820
DTSTAMP:20260425T122923
CREATED:20180330T161758Z
LAST-MODIFIED:20180330T161758Z
UID:1551-1534550400-1534723199@dzkol.pl
SUMMARY:MMM Międzywojewódzkie Mistrzostwa Młodzików w kolarstwie torowym: Wielkopolskie\, Lubuskie\, Dolnośląskie i Opolskie
DESCRIPTION:
URL:https://dzkol.pl/kalendarz/mmm-miedzywojewodzkie-mistrzostwa-mlodzikow-w-kolarstwie-torowym-wielkopolskie-lubuskie-dolnoslaskie-i-opolskie/
LOCATION:Kalisz
CATEGORIES:Międzywojewódzki Mistrzostwa Młodzików,tor
END:VEVENT
BEGIN:VEVENT
DTSTART;VALUE=DATE:20180819
DTEND;VALUE=DATE:20180820
DTSTAMP:20260425T122923
CREATED:20180330T162829Z
LAST-MODIFIED:20180330T162829Z
UID:1554-1534636800-1534723199@dzkol.pl
SUMMARY:III Ogólnopolski Wyścig Kolarski „Szlakiem Bitwy Kaczawskiej” ze startu wspólnego
DESCRIPTION:
URL:https://dzkol.pl/kalendarz/iii-ogolnopolski-wyscig-kolarski-szlakiem-bitwy-kaczawskiej-ze-startu-wspolnego/
LOCATION:Krotoszyce\, Krotoszyce\, dolnośląskie\, Polska
CATEGORIES:szosa
END:VEVENT
BEGIN:VEVENT
DTSTART;VALUE=DATE:20180819
DTEND;VALUE=DATE:20180820
DTSTAMP:20260425T122923
CREATED:20180330T163044Z
LAST-MODIFIED:20180330T163044Z
UID:1556-1534636800-1534723199@dzkol.pl
SUMMARY:XIV Grand Prix Solidarności
DESCRIPTION:
URL:https://dzkol.pl/kalendarz/xiv-grand-prix-solidarnosci/
LOCATION:Jaworzyna Śląska\, Jaworzyna Śląska\, dolnośląskie\, Polska
CATEGORIES:MTB XC
END:VEVENT
BEGIN:VEVENT
DTSTART;VALUE=DATE:20180822
DTEND;VALUE=DATE:20180823
DTSTAMP:20260425T122923
CREATED:20180330T163224Z
LAST-MODIFIED:20180330T163224Z
UID:1558-1534896000-1534982399@dzkol.pl
SUMMARY:Środy kolarskie wyścig MTB\, Deichmann\, Abus Mat
DESCRIPTION:
URL:https://dzkol.pl/kalendarz/srody-kolarskie-wyscig-mtb-deichmann-abus-mat/
LOCATION:Sobótka
CATEGORIES:MTB XC
ORGANIZER;CN="%C5%9Al%C4%99%C5%BCa Sob%C3%B3tka Bike Academy":MAILTO:kssleza@gmail.com
END:VEVENT
BEGIN:VEVENT
DTSTART;VALUE=DATE:20180825
DTEND;VALUE=DATE:20180827
DTSTAMP:20260425T122923
CREATED:20180330T163414Z
LAST-MODIFIED:20180330T163414Z
UID:1560-1535155200-1535327999@dzkol.pl
SUMMARY:Górskie Szosowe Mistrzostwa Polski
DESCRIPTION:
URL:https://dzkol.pl/kalendarz/gorskie-szosowe-mistrzostwa-polski-2/
LOCATION:Wałbrzych-Zagórze Śląskie\, dolnośląskie\, Polska
CATEGORIES:Mistrzostwa Polski,szosa
ORGANIZER;CN="Stowarzyszenie Sportowo Rekreacyjne Junior Wa%C5%82brzych":MAILTO:szram.junior@gmail.com
END:VEVENT
BEGIN:VEVENT
DTSTART;VALUE=DATE:20180825
DTEND;VALUE=DATE:20180827
DTSTAMP:20260425T122923
CREATED:20180330T163632Z
LAST-MODIFIED:20180330T163632Z
UID:1563-1535155200-1535327999@dzkol.pl
SUMMARY:Mistrzostwa Polski Enduro MTB
DESCRIPTION:
URL:https://dzkol.pl/kalendarz/mistrzostwa-polski-enduro-mtb/
LOCATION:Srebrna Góra
CATEGORIES:Mistrzostwa Polski,MTB Enduro
ORGANIZER;CN="Active Group":MAILTO:EnduroMTBseries@gmail.com
END:VEVENT
BEGIN:VEVENT
DTSTART;VALUE=DATE:20180826
DTEND;VALUE=DATE:20180827
DTSTAMP:20260425T122923
CREATED:20180330T163743Z
LAST-MODIFIED:20180330T163743Z
UID:1565-1535241600-1535327999@dzkol.pl
SUMMARY:Puchar Strefy MTB Sudety 2018\, Grand Prix Pieszyc MTB Wielka Sowa
DESCRIPTION:
URL:https://dzkol.pl/kalendarz/puchar-strefy-mtb-sudety-2018-grand-prix-pieszyc-mtb-wielka-sowa/
LOCATION:Walim
CATEGORIES:maraton MTB
ORGANIZER;CN="Stowarzyszenie Strefa MTB Sudety":MAILTO:biuro@strefamtbsudety.pl
END:VEVENT
END:VCALENDAR