BEGIN:VCALENDAR
VERSION:2.0
PRODID:-//Dolnośląski Związek Kolarski - ECPv6.15.20//NONSGML v1.0//EN
CALSCALE:GREGORIAN
METHOD:PUBLISH
X-WR-CALNAME:Dolnośląski Związek Kolarski
X-ORIGINAL-URL:https://dzkol.pl
X-WR-CALDESC:Wydarzenia dla Dolnośląski Związek Kolarski
REFRESH-INTERVAL;VALUE=DURATION:PT1H
X-Robots-Tag:noindex
X-PUBLISHED-TTL:PT1H
BEGIN:VTIMEZONE
TZID:Europe/Warsaw
BEGIN:DAYLIGHT
TZOFFSETFROM:+0100
TZOFFSETTO:+0200
TZNAME:CEST
DTSTART:20180325T010000
END:DAYLIGHT
BEGIN:STANDARD
TZOFFSETFROM:+0200
TZOFFSETTO:+0100
TZNAME:CET
DTSTART:20181028T010000
END:STANDARD
BEGIN:DAYLIGHT
TZOFFSETFROM:+0100
TZOFFSETTO:+0200
TZNAME:CEST
DTSTART:20190331T010000
END:DAYLIGHT
BEGIN:STANDARD
TZOFFSETFROM:+0200
TZOFFSETTO:+0100
TZNAME:CET
DTSTART:20191027T010000
END:STANDARD
BEGIN:DAYLIGHT
TZOFFSETFROM:+0100
TZOFFSETTO:+0200
TZNAME:CEST
DTSTART:20200329T010000
END:DAYLIGHT
BEGIN:STANDARD
TZOFFSETFROM:+0200
TZOFFSETTO:+0100
TZNAME:CET
DTSTART:20201025T010000
END:STANDARD
END:VTIMEZONE
BEGIN:VEVENT
DTSTART;VALUE=DATE:20191005
DTEND;VALUE=DATE:20191006
DTSTAMP:20260424T131250
CREATED:20190913T110908Z
LAST-MODIFIED:20190913T111230Z
UID:2918-1570233600-1570319999@dzkol.pl
SUMMARY:Liga Szkółek Kolarskich #Wilków
DESCRIPTION:
URL:https://dzkol.pl/kalendarz/liga-szkolek-kolarskich-wilkow/
LOCATION:Wilków\, Wilków\, dolnośląskie\, Polska
CATEGORIES:Liga Szkółek Kolarskich
END:VEVENT
BEGIN:VEVENT
DTSTART;VALUE=DATE:20191019
DTEND;VALUE=DATE:20191020
DTSTAMP:20260424T131250
CREATED:20190414T091549Z
LAST-MODIFIED:20190902T171839Z
UID:2481-1571443200-1571529599@dzkol.pl
SUMMARY:Bike Maraton #Sobótka
DESCRIPTION:
URL:https://dzkol.pl/kalendarz/bike-maraton-sobotka-2/
LOCATION:Sobótka
CATEGORIES:Bike Maraton,maraton MTB
ORGANIZER;CN="Grabek Promotion":MAILTO:biuro@bikemaraton.com.pl
END:VEVENT
BEGIN:VEVENT
DTSTART;VALUE=DATE:20191020
DTEND;VALUE=DATE:20191021
DTSTAMP:20260424T131250
CREATED:20190414T091709Z
LAST-MODIFIED:20190906T173309Z
UID:2483-1571529600-1571615999@dzkol.pl
SUMMARY:Via Dolny Śląsk: Finał Sezonu „Runda Spadających Liści”
DESCRIPTION:
URL:https://dzkol.pl/kalendarz/via-dolny-slask-final-sezonu-runda-spadajacych-lisci/
LOCATION:Sobótka
CATEGORIES:szosa,Via Dolny Śląsk
ORGANIZER;CN="%C5%9Al%C4%99%C5%BCa Sob%C3%B3tka Bike Academy":MAILTO:kssleza@gmail.com
END:VEVENT
BEGIN:VEVENT
DTSTART;VALUE=DATE:20191020
DTEND;VALUE=DATE:20191021
DTSTAMP:20260424T131250
CREATED:20190414T091755Z
LAST-MODIFIED:20190906T173240Z
UID:2485-1571529600-1571615999@dzkol.pl
SUMMARY:Finał Sezonu „Runda Spadających Liści”
DESCRIPTION:
URL:https://dzkol.pl/kalendarz/final-sezonu-runda-spadajacych-lisci/
LOCATION:Sobótka
CATEGORIES:szosa
ORGANIZER;CN="%C5%9Al%C4%99%C5%BCa Sob%C3%B3tka Bike Academy":MAILTO:kssleza@gmail.com
END:VEVENT
END:VCALENDAR