BEGIN:VCALENDAR
VERSION:2.0
PRODID:-//Dolnośląski Związek Kolarski - ECPv6.15.20//NONSGML v1.0//EN
CALSCALE:GREGORIAN
METHOD:PUBLISH
X-WR-CALNAME:Dolnośląski Związek Kolarski
X-ORIGINAL-URL:https://dzkol.pl
X-WR-CALDESC:Wydarzenia dla Dolnośląski Związek Kolarski
REFRESH-INTERVAL;VALUE=DURATION:PT1H
X-Robots-Tag:noindex
X-PUBLISHED-TTL:PT1H
BEGIN:VTIMEZONE
TZID:Europe/Warsaw
BEGIN:DAYLIGHT
TZOFFSETFROM:+0100
TZOFFSETTO:+0200
TZNAME:CEST
DTSTART:20210328T010000
END:DAYLIGHT
BEGIN:STANDARD
TZOFFSETFROM:+0200
TZOFFSETTO:+0100
TZNAME:CET
DTSTART:20211031T010000
END:STANDARD
BEGIN:DAYLIGHT
TZOFFSETFROM:+0100
TZOFFSETTO:+0200
TZNAME:CEST
DTSTART:20220327T010000
END:DAYLIGHT
BEGIN:STANDARD
TZOFFSETFROM:+0200
TZOFFSETTO:+0100
TZNAME:CET
DTSTART:20221030T010000
END:STANDARD
BEGIN:DAYLIGHT
TZOFFSETFROM:+0100
TZOFFSETTO:+0200
TZNAME:CEST
DTSTART:20230326T010000
END:DAYLIGHT
BEGIN:STANDARD
TZOFFSETFROM:+0200
TZOFFSETTO:+0100
TZNAME:CET
DTSTART:20231029T010000
END:STANDARD
END:VTIMEZONE
BEGIN:VEVENT
DTSTART;VALUE=DATE:20220305
DTEND;VALUE=DATE:20220307
DTSTAMP:20260422T134535
CREATED:20220412T131918Z
LAST-MODIFIED:20220412T132833Z
UID:4891-1646438400-1646611199@dzkol.pl
SUMMARY:Puchar Polski Juniorów młodszych (I seria). Eliminacje do OOM
DESCRIPTION:
URL:https://dzkol.pl/kalendarz/puchar-polski-juniorow-mlodszych-eliminacje-do-oom-seria-1/
LOCATION:Pruszków
CATEGORIES:eliminacje do OOM,Eliminacje OOM,Puchar Polski,tor
END:VEVENT
BEGIN:VEVENT
DTSTART;VALUE=DATE:20220325
DTEND;VALUE=DATE:20220328
DTSTAMP:20260422T134535
CREATED:20220412T132100Z
LAST-MODIFIED:20220412T132812Z
UID:4893-1648166400-1648425599@dzkol.pl
SUMMARY:Puchar Polski Juniorów i Elity (II seria)
DESCRIPTION:
URL:https://dzkol.pl/kalendarz/puchar-polski-juniorow-i-elity-seria-2/
LOCATION:Pruszków
CATEGORIES:Puchar Polski,tor
END:VEVENT
END:VCALENDAR