BEGIN:VCALENDAR
VERSION:2.0
PRODID:-//Dolnośląski Związek Kolarski - ECPv6.15.20//NONSGML v1.0//EN
CALSCALE:GREGORIAN
METHOD:PUBLISH
X-ORIGINAL-URL:https://dzkol.pl
X-WR-CALDESC:Wydarzenia dla Dolnośląski Związek Kolarski
REFRESH-INTERVAL;VALUE=DURATION:PT1H
X-Robots-Tag:noindex
X-PUBLISHED-TTL:PT1H
BEGIN:VTIMEZONE
TZID:Europe/Warsaw
BEGIN:DAYLIGHT
TZOFFSETFROM:+0100
TZOFFSETTO:+0200
TZNAME:CEST
DTSTART:20210328T010000
END:DAYLIGHT
BEGIN:STANDARD
TZOFFSETFROM:+0200
TZOFFSETTO:+0100
TZNAME:CET
DTSTART:20211031T010000
END:STANDARD
BEGIN:DAYLIGHT
TZOFFSETFROM:+0100
TZOFFSETTO:+0200
TZNAME:CEST
DTSTART:20220327T010000
END:DAYLIGHT
BEGIN:STANDARD
TZOFFSETFROM:+0200
TZOFFSETTO:+0100
TZNAME:CET
DTSTART:20221030T010000
END:STANDARD
BEGIN:DAYLIGHT
TZOFFSETFROM:+0100
TZOFFSETTO:+0200
TZNAME:CEST
DTSTART:20230326T010000
END:DAYLIGHT
BEGIN:STANDARD
TZOFFSETFROM:+0200
TZOFFSETTO:+0100
TZNAME:CET
DTSTART:20231029T010000
END:STANDARD
END:VTIMEZONE
BEGIN:VEVENT
DTSTART;VALUE=DATE:20220409
DTEND;VALUE=DATE:20220410
DTSTAMP:20260422T121226
CREATED:20220412T135016Z
LAST-MODIFIED:20220412T135249Z
UID:4900-1649462400-1649548799@dzkol.pl
SUMMARY:PP w kat. U23 Mężczyzn (I seria). XXXV Międzynarodowy Wyścig Kolarski „Ślężański Mnich”. Memoriał Romana Ręgorowicza. Otwarcie Sezonu 2022
DESCRIPTION:WYNIKI\ndomtel-sport.pl \nREGULAMIN\n\n\n\n    \n        \n            \n            \n                20220409 : Ślężański Mnich - Sobótka - otwarcie sezonu - regulamin\n                 1 plik(i)  184.78 KB\n            \n            \n                Pobierz\n            \n        \n    \n\n\n\n 
URL:https://dzkol.pl/kalendarz/pp-w-kat-u23-mezczyzn-i-seria-xxxv-miedzynarodowy-wyscig-kolarski-slezanski-mnich-memorial-romana-regorowicza-otwarcie-sezonu-2022/
LOCATION:Sobótka
CATEGORIES:Puchar Polski,szosa
ORGANIZER;CN="%C5%9Al%C4%99%C5%BCa Sob%C3%B3tka Bike Academy":MAILTO:kssleza@gmail.com
END:VEVENT
BEGIN:VEVENT
DTSTART;VALUE=DATE:20220409
DTEND;VALUE=DATE:20220410
DTSTAMP:20260422T121226
CREATED:20220412T135343Z
LAST-MODIFIED:20220412T140839Z
UID:4906-1649462400-1649548799@dzkol.pl
SUMMARY:PKO Ubezpieczenia Via Dolny Śląsk „Ślężański Mnich”
DESCRIPTION:WYNIKI\ndomtel-sport.pl \nREGULAMIN\nviadolnyslask.pl
URL:https://dzkol.pl/kalendarz/pko-ubezpieczenia-via-dolny-slask-slezanski-mnich-3/
LOCATION:Sobótka
CATEGORIES:szosa,Via Dolny Śląsk
ORGANIZER;CN="%C5%9Al%C4%99%C5%BCa Sob%C3%B3tka Bike Academy":MAILTO:kssleza@gmail.com
END:VEVENT
BEGIN:VEVENT
DTSTART;VALUE=DATE:20220409
DTEND;VALUE=DATE:20220410
DTSTAMP:20260422T121226
CREATED:20220412T135941Z
LAST-MODIFIED:20220412T140644Z
UID:4910-1649462400-1649548799@dzkol.pl
SUMMARY:Międzywojewódzkie Mistrzostwa Młodzików (MMM)- jazda dwójkami
DESCRIPTION:WYNIKI\nwynikizawodow.eu \nREGULAMIN\nwynikizawodow.eu
URL:https://dzkol.pl/kalendarz/miedzywojewodzkie-mistrzostwa-mlodzikow-mmm-jazda-dwojkami/
LOCATION:Zielona Góra
CATEGORIES:Puchar Polski,szosa
END:VEVENT
BEGIN:VEVENT
DTSTART;VALUE=DATE:20220409
DTEND;VALUE=DATE:20220411
DTSTAMP:20260422T121226
CREATED:20220412T140202Z
LAST-MODIFIED:20220412T140627Z
UID:4912-1649462400-1649635199@dzkol.pl
SUMMARY:Puchar Polski w kolarstwie szosowym (II seria) – jazda indywidualna na czas\, start wspólny „Lubuskie warte zachodu”
DESCRIPTION:WYNIKI\nwynikizawodow.eu \nREGULAMIN\nwynikizawodow.eu \n 
URL:https://dzkol.pl/kalendarz/puchar-polski-w-kolarstwie-szosowym-ii-seria-jazda-indywidualna-na-czas-start-wspolny-lubuskie-warte-zachodu/
LOCATION:Zielona Góra
CATEGORIES:Puchar Polski,szosa
END:VEVENT
BEGIN:VEVENT
DTSTART;VALUE=DATE:20220410
DTEND;VALUE=DATE:20220411
DTSTAMP:20260422T121226
CREATED:20220412T140602Z
LAST-MODIFIED:20220412T162345Z
UID:4914-1649548800-1649635199@dzkol.pl
SUMMARY:Liga MTB XC Aglomeracji Wałbrzyskiej – wyścig nr 1 – Stare Bogaczowice
DESCRIPTION:WYNIKI\nwynikizawodow.eu \nKOMUNIKAT\n\n\n\n    \n        \n            \n            \n                20220409 : Liga MTB Aglomeracji Wałbrzyskiej - wyścig nr 1 - Stare Bogaczowice - komunikat organizacyjny\n                 1 plik(i)  248.15 KB\n            \n            \n                Pobierz\n            \n        \n    \n\n\n\nREGULAMIN\n\n\n\n    \n        \n            \n            \n                2022 : Liga MTB Aglomeracji Wałbrzyskiej - VII edycja - regulamin\n                 1 plik(i)  1.60 MB\n            \n            \n                Pobierz
URL:https://dzkol.pl/kalendarz/ligi-mtb-aglomeracji-walbrzyskiej-wyscig-nr-1/
LOCATION:Stare Bogaczowice\, Stare Bogaczowice\, dolnośląskie\, Polska
CATEGORIES:Liga MTB Aglomeracji Wałbrzyskiej
ORGANIZER;CN="Stowarzyszenie Cyklist%C3%B3w Ziemi Wa%C5%82brzyskiej":MAILTO:mateusz.rosiak@interia.eu
END:VEVENT
BEGIN:VEVENT
DTSTART;VALUE=DATE:20220423
DTEND;VALUE=DATE:20220424
DTSTAMP:20260422T121226
CREATED:20220412T141426Z
LAST-MODIFIED:20220412T141426Z
UID:4917-1650672000-1650758399@dzkol.pl
SUMMARY:Puchar Polski MTB (I seria). O Perłę Polskich Uzdrowisk - Krynica-Zdrój - UCI 3. Eliminacje OOM
DESCRIPTION:
URL:https://dzkol.pl/kalendarz/puchar-polski-mtb-i-seria-o-perle-polskich-uzdrowisk-krynica-zdroj-uci-3-eliminacje-oom/
LOCATION:Krynica-Zdrój\, Poland
CATEGORIES:EOOM,MTB,Puchar Polski,Puchar Polski MTB
ORGANIZER;CN="Fundacja Klub Kolarski Agieszka Skalniak":MAILTO:ania2163@op.pl
END:VEVENT
BEGIN:VEVENT
DTSTART;VALUE=DATE:20220423
DTEND;VALUE=DATE:20220425
DTSTAMP:20260422T121226
CREATED:20220412T141559Z
LAST-MODIFIED:20220412T141559Z
UID:4921-1650672000-1650844799@dzkol.pl
SUMMARY:Puchar Polski w kolarstwie szosowym (III seria) – jazda indywidualna na czas\, start wspólny
DESCRIPTION:
URL:https://dzkol.pl/kalendarz/puchar-polski-w-kolarstwie-szosowym-iii-seria-jazda-indywidualna-na-czas-start-wspolny/
LOCATION:Lubartów\, Poland
CATEGORIES:Puchar Polski,szosa
END:VEVENT
BEGIN:VEVENT
DTSTART;VALUE=DATE:20220423
DTEND;VALUE=DATE:20220424
DTSTAMP:20260422T121226
CREATED:20220412T141715Z
LAST-MODIFIED:20220412T141715Z
UID:4925-1650672000-1650758399@dzkol.pl
SUMMARY:Bike Maraton Miękinia
DESCRIPTION:
URL:https://dzkol.pl/kalendarz/bike-maraton-miekinia-3/
LOCATION:Miękinia
CATEGORIES:Bike Maraton,MTB
ORGANIZER;CN="Grabek Promotion":MAILTO:biuro@bikemaraton.com.pl
END:VEVENT
BEGIN:VEVENT
DTSTART;VALUE=DATE:20220424
DTEND;VALUE=DATE:20220425
DTSTAMP:20260422T121226
CREATED:20220412T141841Z
LAST-MODIFIED:20220412T141841Z
UID:4927-1650758400-1650844799@dzkol.pl
SUMMARY:PKO Ubezpieczenia Via Dolny Śląsk „Szosowy Klasyk”
DESCRIPTION:
URL:https://dzkol.pl/kalendarz/pko-ubezpieczenia-via-dolny-slask-szosowy-klasyk-6/
LOCATION:Miękinia
CATEGORIES:szosa,Via Dolny Śląsk
ORGANIZER;CN="Grabek Promotion":MAILTO:biuro@bikemaraton.com.pl
END:VEVENT
BEGIN:VEVENT
DTSTART;VALUE=DATE:20220424
DTEND;VALUE=DATE:20220425
DTSTAMP:20260422T121226
CREATED:20220412T142101Z
LAST-MODIFIED:20220412T142518Z
UID:4929-1650758400-1650844799@dzkol.pl
SUMMARY:Międzywojewódzkie Mistrzostwa Młodzików w MTB: Dolnośląskie\, Lubuskie\, Opolskie\, Wielkopolskie
DESCRIPTION:
URL:https://dzkol.pl/kalendarz/miedzywojewodzkie-mistrzostwa-mlodzikow-w-mtb-dolnoslaskie-lubuskie-opolskie-wielkopolskie/
LOCATION:Koźminek\, Koźminek\, Polska
CATEGORIES:Międzywojewódzki Mistrzostwa Młodzików,MTB
END:VEVENT
BEGIN:VEVENT
DTSTART;VALUE=DATE:20220429
DTEND;VALUE=DATE:20220504
DTSTAMP:20260422T121226
CREATED:20220412T142754Z
LAST-MODIFIED:20220412T142754Z
UID:4931-1651190400-1651622399@dzkol.pl
SUMMARY:Karpacki Wyścig Kurierów. Memoriał Wacława Felczaka
DESCRIPTION:
URL:https://dzkol.pl/kalendarz/karpacki-wyscig-kurierow-memorial-waclawa-felczaka/
LOCATION:Tarnów\, Poland
CATEGORIES:szosa
END:VEVENT
BEGIN:VEVENT
DTSTART;VALUE=DATE:20220430
DTEND;VALUE=DATE:20220501
DTSTAMP:20260422T121226
CREATED:20220412T143027Z
LAST-MODIFIED:20220412T162318Z
UID:4935-1651276800-1651363199@dzkol.pl
SUMMARY:Liga MTB XC Aglomeracji Wałbrzyskiej – wyścig nr 2 – Wałbrzych
DESCRIPTION:KOMUNIKAT ORGANIZACYJNY\n\n\n\n    \n        \n            \n            \n                20220430 : Liga MTB XC Aglomeracji Wałbrzyskiej - wyścig nr 2 - Wałbrzych - komunikat organizacyjny\n                 1 plik(i)  247.76 KB\n            \n            \n                Pobierz\n            \n        \n    \n\n\n\nREGULAMIN\n\n\n\n    \n        \n            \n            \n                2022 : Liga MTB Aglomeracji Wałbrzyskiej - VII edycja - regulamin\n                 1 plik(i)  1.60 MB\n            \n            \n                Pobierz
URL:https://dzkol.pl/kalendarz/liga-mtb-xc-aglomeracji-walbrzyskiej-wyscig-nr-2/
LOCATION:Wałbrzych
CATEGORIES:Liga MTB Aglomeracji Wałbrzyskiej,MTB,MTB XC
ORGANIZER;CN="Stowarzyszenie Cyklist%C3%B3w Ziemi Wa%C5%82brzyskiej":MAILTO:mateusz.rosiak@interia.eu
END:VEVENT
BEGIN:VEVENT
DTSTART;VALUE=DATE:20220430
DTEND;VALUE=DATE:20220501
DTSTAMP:20260422T121226
CREATED:20220412T143419Z
LAST-MODIFIED:20220412T153940Z
UID:4938-1651276800-1651363199@dzkol.pl
SUMMARY:VI Memoriał Marka Malika MTB XCO – eliminacje OOM
DESCRIPTION:
URL:https://dzkol.pl/kalendarz/vi-memorial-marka-malika-mtb-xco-eliminacje-oom/
LOCATION:Las Klatka k. Wieruszowa\, Poland
CATEGORIES:Eliminacje OOM,EOOM,MTB XC
END:VEVENT
END:VCALENDAR