BEGIN:VCALENDAR
VERSION:2.0
PRODID:-//Dolnośląski Związek Kolarski - ECPv6.15.20//NONSGML v1.0//EN
CALSCALE:GREGORIAN
METHOD:PUBLISH
X-ORIGINAL-URL:https://dzkol.pl
X-WR-CALDESC:Wydarzenia dla Dolnośląski Związek Kolarski
REFRESH-INTERVAL;VALUE=DURATION:PT1H
X-Robots-Tag:noindex
X-PUBLISHED-TTL:PT1H
BEGIN:VTIMEZONE
TZID:Europe/Warsaw
BEGIN:DAYLIGHT
TZOFFSETFROM:+0100
TZOFFSETTO:+0200
TZNAME:CEST
DTSTART:20210328T010000
END:DAYLIGHT
BEGIN:STANDARD
TZOFFSETFROM:+0200
TZOFFSETTO:+0100
TZNAME:CET
DTSTART:20211031T010000
END:STANDARD
BEGIN:DAYLIGHT
TZOFFSETFROM:+0100
TZOFFSETTO:+0200
TZNAME:CEST
DTSTART:20220327T010000
END:DAYLIGHT
BEGIN:STANDARD
TZOFFSETFROM:+0200
TZOFFSETTO:+0100
TZNAME:CET
DTSTART:20221030T010000
END:STANDARD
BEGIN:DAYLIGHT
TZOFFSETFROM:+0100
TZOFFSETTO:+0200
TZNAME:CEST
DTSTART:20230326T010000
END:DAYLIGHT
BEGIN:STANDARD
TZOFFSETFROM:+0200
TZOFFSETTO:+0100
TZNAME:CET
DTSTART:20231029T010000
END:STANDARD
END:VTIMEZONE
BEGIN:VEVENT
DTSTART;VALUE=DATE:20220630
DTEND;VALUE=DATE:20220704
DTSTAMP:20260422T065305
CREATED:20220420T133859Z
LAST-MODIFIED:20220420T133859Z
UID:5051-1656547200-1656892799@dzkol.pl
SUMMARY:Bike Adventure
DESCRIPTION:
URL:https://dzkol.pl/kalendarz/bike-adventure-2/
LOCATION:Szklarska Poręba
CATEGORIES:MTB
ORGANIZER;CN="Grabek Promotion":MAILTO:biuro@bikemaraton.com.pl
END:VEVENT
BEGIN:VEVENT
DTSTART;VALUE=DATE:20220702
DTEND;VALUE=DATE:20220703
DTSTAMP:20260422T065305
CREATED:20220420T164004Z
LAST-MODIFIED:20220628T092059Z
UID:5055-1656720000-1656806399@dzkol.pl
SUMMARY:Liga MTB XC Aglomeracji Wałbrzyskiej – wyścig nr 6 – Grzędy
DESCRIPTION:KOMUNIKAT ORGANIZACYJNY\n\n\n\n    \n        \n            \n            \n                20220702 : Liga MTB XC Aglomeracji Wałbrzyskiej - wyścig nr 6 - Grzędy - komunikat organizacyjny\n                 1 plik(i)  182.33 KB\n            \n            \n                Pobierz\n            \n        \n    \n\n\n\nREGULAMIN\n\n\n\n    \n        \n            \n            \n                2022 : Liga MTB Aglomeracji Wałbrzyskiej - VII edycja - regulamin\n                 1 plik(i)  1.60 MB\n            \n            \n                Pobierz
URL:https://dzkol.pl/kalendarz/liga-mtb-xc-aglomeracji-walbrzyskiej-wyscig-nr-6-grzedy/
LOCATION:Grzędy\, 58-379\, Poland
CATEGORIES:Liga MTB Aglomeracji Wałbrzyskiej,MTB
ORGANIZER;CN="Stowarzyszenie Cyklist%C3%B3w Ziemi Wa%C5%82brzyskiej":MAILTO:mateusz.rosiak@interia.eu
END:VEVENT
BEGIN:VEVENT
DTSTART;VALUE=DATE:20220702
DTEND;VALUE=DATE:20220704
DTSTAMP:20260422T065305
CREATED:20220420T164342Z
LAST-MODIFIED:20220420T164342Z
UID:5057-1656720000-1656892799@dzkol.pl
SUMMARY:Puchar Polski Juniorów Młodszych w kolarstwie torowym (IV seria). Eliminacje do OOM
DESCRIPTION:
URL:https://dzkol.pl/kalendarz/puchar-polski-juniorow-mlodszych-w-kolarstwie-torowym-iv-seria-eliminacje-do-oom/
LOCATION:Szczecin\, Szczecin\, zachodniopomorskie\, Polska
CATEGORIES:eliminacje do OOM,Puchar Polski,tor
END:VEVENT
BEGIN:VEVENT
DTSTART;VALUE=DATE:20220702
DTEND;VALUE=DATE:20220704
DTSTAMP:20260422T065305
CREATED:20220420T164513Z
LAST-MODIFIED:20220420T164513Z
UID:5059-1656720000-1656892799@dzkol.pl
SUMMARY:Szukamy następców Olimpijczyka Tadeusza Mytnika – jazda indywidualna na czas\, start wspólny
DESCRIPTION:
URL:https://dzkol.pl/kalendarz/szukamy-nastepcow-olimpijczyka-tadeusza-mytnika-jazda-indywidualna-na-czas-start-wspolny/
LOCATION:Nowice\, Nowice\, dolnośląskie\, Polska
CATEGORIES:szosa
ORGANIZER;CN="MKS %E2%80%9EKarolina%E2%80%9D Jaworzyna %C5%9Al%C4%85ska":MAILTO:kontakt@mkskarolina.com
END:VEVENT
BEGIN:VEVENT
DTSTART;VALUE=DATE:20220702
DTEND;VALUE=DATE:20220703
DTSTAMP:20260422T065305
CREATED:20220420T164923Z
LAST-MODIFIED:20220420T164923Z
UID:5061-1656720000-1656806399@dzkol.pl
SUMMARY:Puchar Polski BMX (IV seria)
DESCRIPTION:
URL:https://dzkol.pl/kalendarz/puchar-polski-bmx-iv-seria/
LOCATION:Nowa Sól
CATEGORIES:BMX,Puchar Polski
END:VEVENT
BEGIN:VEVENT
DTSTART;VALUE=DATE:20220703
DTEND;VALUE=DATE:20220704
DTSTAMP:20260422T065305
CREATED:20220420T165039Z
LAST-MODIFIED:20220420T165039Z
UID:5064-1656806400-1656892799@dzkol.pl
SUMMARY:Mistrzostwa Polski BMX Racing – start wspólny
DESCRIPTION:
URL:https://dzkol.pl/kalendarz/mistrzostwa-polski-bmx-racing-start-wspolny-4/
LOCATION:Nowa Sól
CATEGORIES:BMX,Mistrzostwa Polski
END:VEVENT
BEGIN:VEVENT
DTSTART;VALUE=DATE:20220709
DTEND;VALUE=DATE:20220711
DTSTAMP:20260422T065305
CREATED:20220420T165350Z
LAST-MODIFIED:20220420T165350Z
UID:5066-1657324800-1657497599@dzkol.pl
SUMMARY:Mistrzostwa Polski w kolarstwie gravelowym
DESCRIPTION:
URL:https://dzkol.pl/kalendarz/mistrzostwa-polski-w-kolarstwie-gravelowym/
LOCATION:Supraśl\, Poland
CATEGORIES:Gravel,Mistrzostwa Polski
END:VEVENT
BEGIN:VEVENT
DTSTART;VALUE=DATE:20220710
DTEND;VALUE=DATE:20220711
DTSTAMP:20260422T065305
CREATED:20220420T165537Z
LAST-MODIFIED:20220710T174538Z
UID:5070-1657411200-1657497599@dzkol.pl
SUMMARY:Visegrad 4 Bicycle Race Grand Prix Poland – UCI 1.2
DESCRIPTION:Wyniki\n\n\n\n    \n        \n            \n            \n                20220710 : Visegrad 4 Bicycle Race - Grand Prix Polski - Długołęka-Oleśnica - wyniki\n                 1 plik(i)  87.56 KB\n            \n            \n                Pobierz\n            \n        \n    \n\n\n\n 
URL:https://dzkol.pl/kalendarz/visegrad-4-bicycle-race-grand-prix-poland-uci-1-2-2/
LOCATION:Długołęka-Oleśnica
CATEGORIES:szosa
ORGANIZER;CN="Dolno%C5%9Bl%C4%85ski Zwi%C4%85zek Kolarski":MAILTO:dzkol@dzkol.eu
END:VEVENT
BEGIN:VEVENT
DTSTART;VALUE=DATE:20220716
DTEND;VALUE=DATE:20220717
DTSTAMP:20260422T065305
CREATED:20220420T165852Z
LAST-MODIFIED:20220420T165852Z
UID:5072-1657929600-1658015999@dzkol.pl
SUMMARY:Bike Maraton Bielawa
DESCRIPTION:
URL:https://dzkol.pl/kalendarz/bike-maraton-bielawa-4/
LOCATION:Bielawa
CATEGORIES:Bike Maraton,MTB
ORGANIZER;CN="Grabek Promotion":MAILTO:biuro@bikemaraton.com.pl
END:VEVENT
BEGIN:VEVENT
DTSTART;VALUE=DATE:20220722
DTEND;VALUE=DATE:20220725
DTSTAMP:20260422T065305
CREATED:20220420T170235Z
LAST-MODIFIED:20220420T170235Z
UID:5074-1658448000-1658707199@dzkol.pl
SUMMARY:Mistrzostwa Polski w kolarstwie MTB
DESCRIPTION:
URL:https://dzkol.pl/kalendarz/mistrzostwa-polski-w-kolarstwie-mtb/
LOCATION:Boguszów Gorce\, Boguszów Gorce\, Polska
CATEGORIES:Mistrzostwa Polski,MTB
ORGANIZER;CN="KKW Whyte Nexelo Wa%C5%82brzych":MAILTO:klub@kk.walbrzych.pl
END:VEVENT
BEGIN:VEVENT
DTSTART;VALUE=DATE:20220730
DTEND;VALUE=DATE:20220801
DTSTAMP:20260422T065305
CREATED:20220420T170602Z
LAST-MODIFIED:20220420T170602Z
UID:5076-1659139200-1659311999@dzkol.pl
SUMMARY:Mistrzostwa Polski w downhillu. Puchar Polski (III seria)
DESCRIPTION:
URL:https://dzkol.pl/kalendarz/mistrzostwa-polski-w-downhillu-puchar-polski-iii-seria/
LOCATION:Sienna – Czarna Góra\, Poland
CATEGORIES:Downhill,Mistrzostwa Polski,Puchar Polski
ORGANIZER;CN="Fundacja Arek Bike Center Ustro%C5%84":MAILTO:info@arekbikecenter.com
END:VEVENT
BEGIN:VEVENT
DTSTART;VALUE=DATE:20220730
DTEND;VALUE=DATE:20220731
DTSTAMP:20260422T065305
CREATED:20220420T170756Z
LAST-MODIFIED:20220731T150952Z
UID:5080-1659139200-1659225599@dzkol.pl
SUMMARY:Liga Szkółek Kolarskich MTB – Obiszów
DESCRIPTION:WYNIKI\n\n\n\n    \n        \n            \n            \n                20220730 : Liga Szkółek Kolarskich MTB - Dolny Śląsk 2022 - Obiszów - wyniki\n                 1 plik(i)  1.06 MB\n            \n            \n                Pobierz\n            \n        \n    \n\n\n\nREGULAMIN\n\n\n\n    \n        \n            \n            \n                2022 : Liga Szkółek Kolarskich - Dolny Śląsk 2022 - regulamin\n                 1 plik(i)  1.18 MB\n            \n            \n                Pobierz\n            \n        \n    \n\n\n\nKOMUNIKAT ORGANIZACYJNY\n\n\n\n    \n        \n            \n            \n                20220730 : Liga Szkółek Kolarskich MTB - Dolny Śląsk 2022 - Obiszów - komunikat organizacyjny\n                 1 plik(i)  290.53 KB\n            \n            \n                Pobierz
URL:https://dzkol.pl/kalendarz/liga-szkolek-kolarskich-mtb-obiszow/
LOCATION:Obiszów
CATEGORIES:Liga Szkółek Kolarskich
ORGANIZER;CN="TC Chrobry G%C5%82og%C3%B3w":MAILTO:sbb200@wp.pl
END:VEVENT
BEGIN:VEVENT
DTSTART;VALUE=DATE:20220730
DTEND;VALUE=DATE:20220731
DTSTAMP:20260422T065305
CREATED:20220420T171833Z
LAST-MODIFIED:20220420T171833Z
UID:5083-1659139200-1659225599@dzkol.pl
SUMMARY:PKO Ubezpieczenia Via Dolny Śląsk „Szosowy Klasyk”
DESCRIPTION:
URL:https://dzkol.pl/kalendarz/pko-ubezpieczenia-via-dolny-slask-szosowy-klasyk-7/
LOCATION:Obiszów
CATEGORIES:Via Dolny Śląsk
ORGANIZER;CN="Grabek Promotion":MAILTO:biuro@bikemaraton.com.pl
END:VEVENT
BEGIN:VEVENT
DTSTART;VALUE=DATE:20220731
DTEND;VALUE=DATE:20220801
DTSTAMP:20260422T065305
CREATED:20220420T173334Z
LAST-MODIFIED:20220420T194700Z
UID:5085-1659225600-1659311999@dzkol.pl
SUMMARY:Bike Maraton Obiszów
DESCRIPTION:
URL:https://dzkol.pl/kalendarz/bike-maraton-obiszow-4/
LOCATION:Obiszów
CATEGORIES:Bike Maraton
ORGANIZER;CN="Grabek Promotion":MAILTO:biuro@bikemaraton.com.pl
END:VEVENT
END:VCALENDAR