BEGIN:VCALENDAR
VERSION:2.0
PRODID:-//Dolnośląski Związek Kolarski - ECPv6.15.20//NONSGML v1.0//EN
CALSCALE:GREGORIAN
METHOD:PUBLISH
X-WR-CALNAME:Dolnośląski Związek Kolarski
X-ORIGINAL-URL:https://dzkol.pl
X-WR-CALDESC:Wydarzenia dla Dolnośląski Związek Kolarski
REFRESH-INTERVAL;VALUE=DURATION:PT1H
X-Robots-Tag:noindex
X-PUBLISHED-TTL:PT1H
BEGIN:VTIMEZONE
TZID:Europe/Warsaw
BEGIN:DAYLIGHT
TZOFFSETFROM:+0100
TZOFFSETTO:+0200
TZNAME:CEST
DTSTART:20170326T010000
END:DAYLIGHT
BEGIN:STANDARD
TZOFFSETFROM:+0200
TZOFFSETTO:+0100
TZNAME:CET
DTSTART:20171029T010000
END:STANDARD
BEGIN:DAYLIGHT
TZOFFSETFROM:+0100
TZOFFSETTO:+0200
TZNAME:CEST
DTSTART:20180325T010000
END:DAYLIGHT
BEGIN:STANDARD
TZOFFSETFROM:+0200
TZOFFSETTO:+0100
TZNAME:CET
DTSTART:20181028T010000
END:STANDARD
BEGIN:DAYLIGHT
TZOFFSETFROM:+0100
TZOFFSETTO:+0200
TZNAME:CEST
DTSTART:20190331T010000
END:DAYLIGHT
BEGIN:STANDARD
TZOFFSETFROM:+0200
TZOFFSETTO:+0100
TZNAME:CET
DTSTART:20191027T010000
END:STANDARD
BEGIN:DAYLIGHT
TZOFFSETFROM:+0100
TZOFFSETTO:+0200
TZNAME:CEST
DTSTART:20200329T010000
END:DAYLIGHT
BEGIN:STANDARD
TZOFFSETFROM:+0200
TZOFFSETTO:+0100
TZNAME:CET
DTSTART:20201025T010000
END:STANDARD
BEGIN:DAYLIGHT
TZOFFSETFROM:+0100
TZOFFSETTO:+0200
TZNAME:CEST
DTSTART:20210328T010000
END:DAYLIGHT
BEGIN:STANDARD
TZOFFSETFROM:+0200
TZOFFSETTO:+0100
TZNAME:CET
DTSTART:20211031T010000
END:STANDARD
END:VTIMEZONE
BEGIN:VEVENT
DTSTART;VALUE=DATE:20200815
DTEND;VALUE=DATE:20200816
DTSTAMP:20260424T193641
CREATED:20200704T121126Z
LAST-MODIFIED:20200704T121126Z
UID:3403-1597449600-1597535999@dzkol.pl
SUMMARY:Wyścig jazdy indywidualnej na czas o Puchar Wójta\, Międzywojewódzkie Mistrzostwa Młodzików: Dolnośląskie i Lubuskie\, jazda indywidualna na czas
DESCRIPTION:
URL:https://dzkol.pl/kalendarz/wyscig-jazdy-indywidualnej-na-czas-o-puchar-wojta-miedzywojewodzkie-mistrzostwa-mlodzikow-dolnoslaskie-i-lubuskie-jazda-indywidualna-na-czas/
LOCATION:Tuszyn
CATEGORIES:Międzywojewódzki Mistrzostwa Młodzików,szosa
ORGANIZER;CN="LKS Atom Dzier%C5%BConi%C3%B3w":MAILTO:mazur.atom@gmail.com
END:VEVENT
BEGIN:VEVENT
DTSTART;VALUE=DATE:20200815
DTEND;VALUE=DATE:20200816
DTSTAMP:20260424T193641
CREATED:20200704T120902Z
LAST-MODIFIED:20200704T120902Z
UID:3400-1597449600-1597535999@dzkol.pl
SUMMARY:Ogólnopolski Wyścig Kolarski „Korona Kocich Gór – Memoriał Kornela Morawieckiego” – jazda indywidualna na czas
DESCRIPTION:
URL:https://dzkol.pl/kalendarz/ogolnopolski-wyscig-kolarski-korona-kocich-gor-memorial-kornela-morawieckiego-jazda-indywidualna-na-czas/
LOCATION:Bagno\, Bagno\, dolnośląskie
CATEGORIES:szosa
END:VEVENT
BEGIN:VEVENT
DTSTART;VALUE=DATE:20190616
DTEND;VALUE=DATE:20190617
DTSTAMP:20260424T193641
CREATED:20190413T103032Z
LAST-MODIFIED:20190413T103032Z
UID:2344-1560643200-1560729599@dzkol.pl
SUMMARY:Jazda indywidualna na czas
DESCRIPTION:
URL:https://dzkol.pl/kalendarz/jazda-indywidualna-na-czas/
LOCATION:Lubomierz\, Lubomierz\, dolnośląskie\, Polska
CATEGORIES:szosa
END:VEVENT
BEGIN:VEVENT
DTSTART;VALUE=DATE:20180721
DTEND;VALUE=DATE:20180722
DTSTAMP:20260424T193641
CREATED:20180330T154556Z
LAST-MODIFIED:20180330T154556Z
UID:1520-1532131200-1532217599@dzkol.pl
SUMMARY:Dolny Śląsk Tour: jazda indywidualna na czas
DESCRIPTION:Wyścig kolarski Elity Kobiet\, Juniorek i Juniorów Młodszych.
URL:https://dzkol.pl/kalendarz/dolny-slask-tour-jazda-indywidualna-na-czas/
LOCATION:Dobromierz
CATEGORIES:szosa
ORGANIZER;CN="Stowarzyszenie Sportowo Rekreacyjne Junior Wa%C5%82brzych":MAILTO:szram.junior@gmail.com
END:VEVENT
BEGIN:VEVENT
DTSTART;VALUE=DATE:20180624
DTEND;VALUE=DATE:20180625
DTSTAMP:20260424T193641
CREATED:20180330T094731Z
LAST-MODIFIED:20180330T094731Z
UID:1491-1529798400-1529884799@dzkol.pl
SUMMARY:Mistrzostwa Dolnego Śląska w jeździe indywidualnej na czas pod górę o Puchar św. Anny z Proszówki
DESCRIPTION:
URL:https://dzkol.pl/kalendarz/mistrzostwa-dolnego-slaska-w-jezdzie-indywidualnej-na-czas-pod-gore-o-puchar-sw-anny-z-proszowki/
LOCATION:Gryfów Śląski – Proszówka\, Gryfów Śląski\, dolnoślaskie\, Polska
CATEGORIES:MTB XC
END:VEVENT
END:VCALENDAR