BEGIN:VCALENDAR
VERSION:2.0
PRODID:-//Dolnośląski Związek Kolarski - ECPv6.15.20//NONSGML v1.0//EN
CALSCALE:GREGORIAN
METHOD:PUBLISH
X-ORIGINAL-URL:https://dzkol.pl
X-WR-CALDESC:Wydarzenia dla Dolnośląski Związek Kolarski
REFRESH-INTERVAL;VALUE=DURATION:PT1H
X-Robots-Tag:noindex
X-PUBLISHED-TTL:PT1H
BEGIN:VTIMEZONE
TZID:Europe/Warsaw
BEGIN:DAYLIGHT
TZOFFSETFROM:+0100
TZOFFSETTO:+0200
TZNAME:CEST
DTSTART:20160327T010000
END:DAYLIGHT
BEGIN:STANDARD
TZOFFSETFROM:+0200
TZOFFSETTO:+0100
TZNAME:CET
DTSTART:20161030T010000
END:STANDARD
BEGIN:DAYLIGHT
TZOFFSETFROM:+0100
TZOFFSETTO:+0200
TZNAME:CEST
DTSTART:20170326T010000
END:DAYLIGHT
BEGIN:STANDARD
TZOFFSETFROM:+0200
TZOFFSETTO:+0100
TZNAME:CET
DTSTART:20171029T010000
END:STANDARD
BEGIN:DAYLIGHT
TZOFFSETFROM:+0100
TZOFFSETTO:+0200
TZNAME:CEST
DTSTART:20180325T010000
END:DAYLIGHT
BEGIN:STANDARD
TZOFFSETFROM:+0200
TZOFFSETTO:+0100
TZNAME:CET
DTSTART:20181028T010000
END:STANDARD
BEGIN:DAYLIGHT
TZOFFSETFROM:+0100
TZOFFSETTO:+0200
TZNAME:CEST
DTSTART:20190331T010000
END:DAYLIGHT
BEGIN:STANDARD
TZOFFSETFROM:+0200
TZOFFSETTO:+0100
TZNAME:CET
DTSTART:20191027T010000
END:STANDARD
END:VTIMEZONE
BEGIN:VEVENT
DTSTART;VALUE=DATE:20180707
DTEND;VALUE=DATE:20180708
DTSTAMP:20260425T011310
CREATED:20180330T095959Z
LAST-MODIFIED:20180330T100244Z
UID:1495-1530921600-1531007999@dzkol.pl
SUMMARY:Szukamy Następców Olimpijczyka Tadeusza Mytnika. 5. edycja wyścigu w Jeździe Indywidualnej na Czas
DESCRIPTION:W kategoriach: U23 (K) oraz J\, JM (K+M) będą to Mistrzostwa Dolnego Śląska
URL:https://dzkol.pl/kalendarz/szukamy-nastepcow-olimpijczyka-tadeusza-mytnika-5-edycja-wyscigu-w-jezdzie-indywidualnej-na-czas/
LOCATION:Nowice\, Nowice\, dolnośląskie\, Polska
CATEGORIES:szosa
ORGANIZER;CN="Stowarzyszenie Nowice Nasza Wie%C5%9B":MAILTO:kontakt@mkskarolina.com
END:VEVENT
BEGIN:VEVENT
DTSTART;VALUE=DATE:20180616
DTEND;VALUE=DATE:20180617
DTSTAMP:20260425T011310
CREATED:20180330T093320Z
LAST-MODIFIED:20180330T093320Z
UID:1473-1529107200-1529193599@dzkol.pl
SUMMARY:Mistrzostwa Dolnego Śląska\, V Grand Prix Pogranicza
DESCRIPTION:
URL:https://dzkol.pl/kalendarz/mistrzostwa-dolnego-slaska-v-grand-prix-pogranicza/
LOCATION:Nowa Ruda\, Nowa Ruda\, dolnośląskie\, Polska
CATEGORIES:MTB XC
ORGANIZER;CN="UKS Centrum Nowa Ruda":MAILTO:lukasz_roznicki@vp.pl
END:VEVENT
BEGIN:VEVENT
DTSTART;VALUE=DATE:20170618
DTEND;VALUE=DATE:20170619
DTSTAMP:20260425T011310
CREATED:20170222T155027Z
LAST-MODIFIED:20170418T161034Z
UID:202-1497744000-1497830399@dzkol.pl
SUMMARY:IV Grand Prix Pogranicza Mistrzostwa Dolnego Śląska w kolarstwie górskim MTB XCO Nowa Ruda
DESCRIPTION:kategorie: junior młodszy\, młodzik\, żak \ndodatkowo: maraton cyklosport i wyścigi dla dzieci \n\n\n\n    \n        \n            \n        \n        \n            \n                2017-06-18: IV Grand Prix Pogranicza - Mistrzostwa Dolnego Śląska MTB XC Nowa Ruda - regulamin\n                \n                     291.28 KB\n                     92 downloads\n                \n            \n            ...\n        \n        \n            Pobierz
URL:https://dzkol.pl/kalendarz/mistrzostwa-dolnego-slaska-w-kolarstwie-gorskim-mtb-xco/
LOCATION:Nowa Ruda\, Nowa Ruda\, dolnośląskie\, Polska
CATEGORIES:Mistrzostwa Dolnego Śląska,MTB XC
ORGANIZER;CN="UKS Centrum Nowa Ruda":MAILTO:lukasz_roznicki@vp.pl
END:VEVENT
BEGIN:VEVENT
DTSTART;VALUE=DATE:20170304
DTEND;VALUE=DATE:20170305
DTSTAMP:20260425T011310
CREATED:20170222T135936Z
LAST-MODIFIED:20170314T020913Z
UID:100-1488585600-1488671999@dzkol.pl
SUMMARY:VIII Puchar Piastów Śląskich I-edycja Puchar Prezydenta Mistrzostwa Dolnego Śląska w Kolarstwie Przełajowym
DESCRIPTION:2017-03-04: VIII Puchar Piastów Śląskich - wyniki - I edycja\n                \n                     462.86 KB\n                     58 downloads\n                \n            \n            ...\n        \n        \n            Pobierz
URL:https://dzkol.pl/kalendarz/viii-puchar-piastow-slaskich-i-edycja-puchar-prezydenta-mistrzostwa-dolnego-slaska-w-kolarstwie-przelajowym/
LOCATION:Jelenia Góra\, Jelenia Góra\, Polska
CATEGORIES:przełaj
ORGANIZER;CN="Karkonoskie Stowarzyszenie Cyklist%C3%B3w":MAILTO:wiesio_k@op.pl
END:VEVENT
END:VCALENDAR