BEGIN:VCALENDAR
VERSION:2.0
PRODID:-//Dolnośląski Związek Kolarski - ECPv6.15.20//NONSGML v1.0//EN
CALSCALE:GREGORIAN
METHOD:PUBLISH
X-ORIGINAL-URL:https://dzkol.pl
X-WR-CALDESC:Wydarzenia dla Dolnośląski Związek Kolarski
REFRESH-INTERVAL;VALUE=DURATION:PT1H
X-Robots-Tag:noindex
X-PUBLISHED-TTL:PT1H
BEGIN:VTIMEZONE
TZID:Europe/Warsaw
BEGIN:DAYLIGHT
TZOFFSETFROM:+0100
TZOFFSETTO:+0200
TZNAME:CEST
DTSTART:20190331T010000
END:DAYLIGHT
BEGIN:STANDARD
TZOFFSETFROM:+0200
TZOFFSETTO:+0100
TZNAME:CET
DTSTART:20191027T010000
END:STANDARD
BEGIN:DAYLIGHT
TZOFFSETFROM:+0100
TZOFFSETTO:+0200
TZNAME:CEST
DTSTART:20200329T010000
END:DAYLIGHT
BEGIN:STANDARD
TZOFFSETFROM:+0200
TZOFFSETTO:+0100
TZNAME:CET
DTSTART:20201025T010000
END:STANDARD
BEGIN:DAYLIGHT
TZOFFSETFROM:+0100
TZOFFSETTO:+0200
TZNAME:CEST
DTSTART:20210328T010000
END:DAYLIGHT
BEGIN:STANDARD
TZOFFSETFROM:+0200
TZOFFSETTO:+0100
TZNAME:CET
DTSTART:20211031T010000
END:STANDARD
END:VTIMEZONE
BEGIN:VEVENT
DTSTART;VALUE=DATE:20201011
DTEND;VALUE=DATE:20201012
DTSTAMP:20260425T020446
CREATED:20200704T133322Z
LAST-MODIFIED:20200704T133322Z
UID:3502-1602374400-1602460799@dzkol.pl
SUMMARY:PKO Ubezpieczenia Via Dolny Śląsk\, „Runda Spadających Liści”
DESCRIPTION:
URL:https://dzkol.pl/kalendarz/pko-ubezpieczenia-via-dolny-slask-runda-spadajacych-lisci/
LOCATION:Sobótka
CATEGORIES:szosa,Via Dolny Śląsk
ORGANIZER;CN="%C5%9Al%C4%99%C5%BCa Sob%C3%B3tka Bike Academy":MAILTO:kssleza@gmail.com
END:VEVENT
BEGIN:VEVENT
DTSTART;VALUE=DATE:20200920
DTEND;VALUE=DATE:20200921
DTSTAMP:20260425T020446
CREATED:20200704T131012Z
LAST-MODIFIED:20200704T203929Z
UID:3477-1600560000-1600646399@dzkol.pl
SUMMARY:PKO Ubezpieczenia Via Dolny Śląsk\, „Grand Prix Gminy Kobierzyce”
DESCRIPTION:
URL:https://dzkol.pl/kalendarz/pko-ubezpieczenia-via-dolny-slask-grand-prix-gminy-kobierzyce/
LOCATION:Krzyżanowice
CATEGORIES:szosa,Via Dolny Śląsk
ORGANIZER;CN="%C5%9Al%C4%99%C5%BCa Sob%C3%B3tka Bike Academy":MAILTO:kssleza@gmail.com
END:VEVENT
BEGIN:VEVENT
DTSTART;VALUE=DATE:20200815
DTEND;VALUE=DATE:20200816
DTSTAMP:20260425T020446
CREATED:20200704T120235Z
LAST-MODIFIED:20200704T120235Z
UID:3392-1597449600-1597535999@dzkol.pl
SUMMARY:PKO Ubezpieczenia Via Dolny Śląsk\, Szosowy Klasyk\, ITT Okraj
DESCRIPTION:
URL:https://dzkol.pl/kalendarz/pko-ubezpieczenia-via-dolny-slask-szosowy-klasyk-itt-okraj/
LOCATION:Kowary
CATEGORIES:szosa,Via Dolny Śląsk
END:VEVENT
BEGIN:VEVENT
DTSTART;VALUE=DATE:20200809
DTEND;VALUE=DATE:20200810
DTSTAMP:20260425T020446
CREATED:20200704T113502Z
LAST-MODIFIED:20200704T113502Z
UID:3381-1596931200-1597017599@dzkol.pl
SUMMARY:PKO Ubezpieczenia Via Dolny Śląsk\, Grand Prix Dolina Baryczy\, Żmigród
DESCRIPTION:
URL:https://dzkol.pl/kalendarz/pko-ubezpieczenia-via-dolny-slask-grand-prix-dolina-baryczy-zmigrod/
CATEGORIES:szosa,Via Dolny Śląsk
ORGANIZER;CN="%C5%9Al%C4%99%C5%BCa Sob%C3%B3tka Bike Academy":MAILTO:kssleza@gmail.com
END:VEVENT
BEGIN:VEVENT
DTSTART;VALUE=DATE:20200719
DTEND;VALUE=DATE:20200720
DTSTAMP:20260425T020446
CREATED:20200704T110014Z
LAST-MODIFIED:20200704T110031Z
UID:3340-1595116800-1595203199@dzkol.pl
SUMMARY:PKO Ubezpieczenia Via Dolny Śląsk\, „Dog’s Head Predator Race”
DESCRIPTION:
URL:https://dzkol.pl/kalendarz/pko-ubezpieczenia-via-dolny-slask-dogs-head-predator-race/
LOCATION:Gromadka\, Gromadka\, dolnośląskie\, 59-706\, Polska
CATEGORIES:szosa,Via Dolny Śląsk
ORGANIZER;CN="%C5%9Al%C4%99%C5%BCa Sob%C3%B3tka Bike Academy":MAILTO:kssleza@gmail.com
END:VEVENT
BEGIN:VEVENT
DTSTART;VALUE=DATE:20200711
DTEND;VALUE=DATE:20200712
DTSTAMP:20260425T020446
CREATED:20200704T104425Z
LAST-MODIFIED:20200704T104425Z
UID:3327-1594425600-1594511999@dzkol.pl
SUMMARY:PKO Ubezpieczenia Via Dolny Śląsk\, Ślężański Mnich
DESCRIPTION:
URL:https://dzkol.pl/kalendarz/pko-ubezpieczenia-via-dolny-slask-slezanski-mnich/
LOCATION:Sobótka
CATEGORIES:szosa,Via Dolny Śląsk
ORGANIZER;CN="%C5%9Al%C4%99%C5%BCa Sob%C3%B3tka Bike Academy":MAILTO:kssleza@gmail.com
END:VEVENT
BEGIN:VEVENT
DTSTART;VALUE=DATE:20200705
DTEND;VALUE=DATE:20200706
DTSTAMP:20260425T020446
CREATED:20200704T103841Z
LAST-MODIFIED:20200704T103841Z
UID:3319-1593907200-1593993599@dzkol.pl
SUMMARY:PKO Ubezpieczenia Via Dolny Śląsk\, Szosowy Klasyk\, Szklarska Poręba
DESCRIPTION:
URL:https://dzkol.pl/kalendarz/pko-ubezpieczenia-via-dolny-slask-szosowy-klasyk-szklarska-poreba/
LOCATION:Szklarska Poręba
CATEGORIES:szosa,Via Dolny Śląsk
ORGANIZER;CN="%C5%9Al%C4%99%C5%BCa Sob%C3%B3tka Bike Academy":MAILTO:kssleza@gmail.com
END:VEVENT
END:VCALENDAR