BEGIN:VCALENDAR
VERSION:2.0
PRODID:-//Dolnośląski Związek Kolarski - ECPv6.15.20//NONSGML v1.0//EN
CALSCALE:GREGORIAN
METHOD:PUBLISH
X-WR-CALNAME:Dolnośląski Związek Kolarski
X-ORIGINAL-URL:https://dzkol.pl
X-WR-CALDESC:Wydarzenia dla Dolnośląski Związek Kolarski
REFRESH-INTERVAL;VALUE=DURATION:PT1H
X-Robots-Tag:noindex
X-PUBLISHED-TTL:PT1H
BEGIN:VTIMEZONE
TZID:Europe/Warsaw
BEGIN:DAYLIGHT
TZOFFSETFROM:+0100
TZOFFSETTO:+0200
TZNAME:CEST
DTSTART:20170326T010000
END:DAYLIGHT
BEGIN:STANDARD
TZOFFSETFROM:+0200
TZOFFSETTO:+0100
TZNAME:CET
DTSTART:20171029T010000
END:STANDARD
BEGIN:DAYLIGHT
TZOFFSETFROM:+0100
TZOFFSETTO:+0200
TZNAME:CEST
DTSTART:20180325T010000
END:DAYLIGHT
BEGIN:STANDARD
TZOFFSETFROM:+0200
TZOFFSETTO:+0100
TZNAME:CET
DTSTART:20181028T010000
END:STANDARD
BEGIN:DAYLIGHT
TZOFFSETFROM:+0100
TZOFFSETTO:+0200
TZNAME:CEST
DTSTART:20190331T010000
END:DAYLIGHT
BEGIN:STANDARD
TZOFFSETFROM:+0200
TZOFFSETTO:+0100
TZNAME:CET
DTSTART:20191027T010000
END:STANDARD
BEGIN:DAYLIGHT
TZOFFSETFROM:+0100
TZOFFSETTO:+0200
TZNAME:CEST
DTSTART:20200329T010000
END:DAYLIGHT
BEGIN:STANDARD
TZOFFSETFROM:+0200
TZOFFSETTO:+0100
TZNAME:CET
DTSTART:20201025T010000
END:STANDARD
BEGIN:DAYLIGHT
TZOFFSETFROM:+0100
TZOFFSETTO:+0200
TZNAME:CEST
DTSTART:20210328T010000
END:DAYLIGHT
BEGIN:STANDARD
TZOFFSETFROM:+0200
TZOFFSETTO:+0100
TZNAME:CET
DTSTART:20211031T010000
END:STANDARD
END:VTIMEZONE
BEGIN:VEVENT
DTSTART;VALUE=DATE:20200913
DTEND;VALUE=DATE:20200914
DTSTAMP:20260424T212119
CREATED:20200704T130130Z
LAST-MODIFIED:20200704T130130Z
UID:3461-1599955200-1600041599@dzkol.pl
SUMMARY:Górale na Start - Puchar Polski XCO - edycja #3
DESCRIPTION:
URL:https://dzkol.pl/kalendarz/gorale-na-start-puchar-polski-xco-edycja-3/
LOCATION:Wałbrzych
CATEGORIES:MTB
END:VEVENT
BEGIN:VEVENT
DTSTART;VALUE=DATE:20180908
DTEND;VALUE=DATE:20180909
DTSTAMP:20260424T212119
CREATED:20180330T173326Z
LAST-MODIFIED:20180330T173326Z
UID:1575-1536364800-1536451199@dzkol.pl
SUMMARY:Bike Maraton: Wałbrzych
DESCRIPTION:
URL:https://dzkol.pl/kalendarz/bike-maraton-walbrzych/
LOCATION:Wałbrzych
CATEGORIES:MTB XC
ORGANIZER;CN="Grabek Promotion":MAILTO:biuro@bikemaraton.com.pl
END:VEVENT
BEGIN:VEVENT
DTSTART;VALUE=DATE:20180825
DTEND;VALUE=DATE:20180827
DTSTAMP:20260424T212119
CREATED:20180330T163414Z
LAST-MODIFIED:20180330T163414Z
UID:1560-1535155200-1535327999@dzkol.pl
SUMMARY:Górskie Szosowe Mistrzostwa Polski
DESCRIPTION:
URL:https://dzkol.pl/kalendarz/gorskie-szosowe-mistrzostwa-polski-2/
LOCATION:Wałbrzych-Zagórze Śląskie\, dolnośląskie\, Polska
CATEGORIES:Mistrzostwa Polski,szosa
ORGANIZER;CN="Stowarzyszenie Sportowo Rekreacyjne Junior Wa%C5%82brzych":MAILTO:szram.junior@gmail.com
END:VEVENT
BEGIN:VEVENT
DTSTART;VALUE=DATE:20180714
DTEND;VALUE=DATE:20180715
DTSTAMP:20260424T212119
CREATED:20180330T153144Z
LAST-MODIFIED:20180330T153144Z
UID:1504-1531526400-1531612799@dzkol.pl
SUMMARY:Liga MTB Aglomeracji Wałbrzyskiej - wyścig nr 4 - Wałbrzych
DESCRIPTION:
URL:https://dzkol.pl/kalendarz/liga-mtb-aglomeracji-walbrzyskiej-wyscig-nr-4-walbrzych/
LOCATION:Wałbrzych
CATEGORIES:MTB XC
ORGANIZER;CN="Stowarzyszenie Sportowo Rekreacyjne Junior Wa%C5%82brzych":MAILTO:szram.junior@gmail.com
END:VEVENT
BEGIN:VEVENT
DTSTART;VALUE=DATE:20180610
DTEND;VALUE=DATE:20180611
DTSTAMP:20260424T212119
CREATED:20180330T093129Z
LAST-MODIFIED:20180330T093129Z
UID:1471-1528588800-1528675199@dzkol.pl
SUMMARY:Górale na Start. Puchar Polski MTB XCO. Eliminacje OOM
DESCRIPTION:
URL:https://dzkol.pl/kalendarz/gorale-na-start-puchar-polski-mtb-xco-eliminacje-oom/
LOCATION:Wałbrzych
CATEGORIES:EOOM,MTB XC
ORGANIZER;CN="KKW Whyte Nexelo Wa%C5%82brzych":MAILTO:klub@kk.walbrzych.pl
END:VEVENT
BEGIN:VEVENT
DTSTART;VALUE=DATE:20180609
DTEND;VALUE=DATE:20180610
DTSTAMP:20260424T212119
CREATED:20180330T092022Z
LAST-MODIFIED:20180330T092022Z
UID:1463-1528502400-1528588799@dzkol.pl
SUMMARY:Wyścigi MTB dla amatorów i dla dzieci
DESCRIPTION:
URL:https://dzkol.pl/kalendarz/wyscigi-mtb-dla-amatorow-i-dla-dzieci/
LOCATION:Wałbrzych
CATEGORIES:MTB XC
ORGANIZER;CN="KKW Whyte Nexelo Wa%C5%82brzych":MAILTO:klub@kk.walbrzych.pl
END:VEVENT
END:VCALENDAR